BEGIN:VCALENDAR
VERSION:2.0
PRODID:IEEE vTools.Events//EN
CALSCALE:GREGORIAN
BEGIN:VTIMEZONE
TZID:Asia/Kolkata
BEGIN:STANDARD
DTSTART:19451014T230000
TZOFFSETFROM:+0630
TZOFFSETTO:+0530
TZNAME:IST
END:STANDARD
END:VTIMEZONE
BEGIN:VEVENT
DTSTAMP:20231010T095717Z
UID:9FDB7B65-3CF7-4BDB-9439-F378220B6EDF
DTSTART;TZID=Asia/Kolkata:20231003T100000
DTEND;TZID=Asia/Kolkata:20231006T173000
DESCRIPTION:MANOEUVRE 2023\, an intra-collegiate IT fest\, conducted by the
  Department of Computer Science (PG)\, Kristu Jayanti college\, Autonomous
 . This year Manoeuvre is organized to celebrate the IEEE Day with the inte
 ntion to prepare the students to organize the All India level Intercollegi
 ate IT fest Shells. The fest is organized by the final year students for t
 he 1st year students. This year&#39;s Manoeuvre theme is Mixed Realty.\n\nMixe
 d reality is a blend of physical and digital worlds\, unlocking natural an
 d intuitive 3D human\, computer\, and environmental interactions. This new
  reality is based on advancements in computer vision\, graphical processin
 g\, display technologies\, input systems\, and cloud computing.\n\nOn the 
 occassion of IEEE Day on 03rd October 2023\, various array of events like 
 IT Manager\, IT Quiz\, Coding\, Treasure Hunt and Web Designing will be co
 nducted by the 2nd year PG Students to the 1st Students.\n\nBldg: PG Block
 \, Kristu Jayanti College\, K. Narayanapura\, Kothanur Post\, Bengaluru\, 
 Karnataka\, India\, 560077
LOCATION:Bldg: PG Block\, Kristu Jayanti College\, K. Narayanapura\, Kothan
 ur Post\, Bengaluru\, Karnataka\, India\, 560077
ORGANIZER:velmurugan13777@gmail.com
SEQUENCE:27
SUMMARY:IEEE Day 2023 - Manoeuvre - Intra-Collegiate IT Fest
URL;VALUE=URI:https://events.vtools.ieee.org/m/376172
X-ALT-DESC:Description: &lt;br /&gt;&lt;p style=&quot;font-weight: 400\;&quot;&gt;MANOEUVRE 2023\
 , an intra-collegiate IT fest\, conducted by the Department of Computer Sc
 ience (PG)\, Kristu Jayanti college\, Autonomous. This year Manoeuvre is o
 rganized to celebrate the IEEE Day with the intention to prepare the stude
 nts to organize the All India level Intercollegiate IT fest Shells. The fe
 st is organized by the final year students for the 1&lt;sup&gt;st&lt;/sup&gt;&amp;nbsp\;ye
 ar students. This year&#39;s&amp;nbsp\;Manoeuvre&amp;nbsp\;theme is Mixed Realty.&amp;nbsp
 \;&lt;/p&gt;\n&lt;p style=&quot;font-weight: 400\;&quot;&gt;Mixed reality is a blend of physical
  and digital worlds\, unlocking natural and intuitive 3D human\, computer\
 , and environmental interactions. This new reality is based on advancement
 s in computer vision\, graphical processing\, display technologies\, input
  systems\, and cloud computing.&lt;/p&gt;\n&lt;p style=&quot;font-weight: 400\;&quot;&gt;On the 
 occassion of IEEE Day on 03rd October 2023\, various array of events like 
 IT Manager\, IT Quiz\, Coding\, Treasure Hunt and Web Designing will be co
 nducted by the 2nd year PG Students to the 1st Students.&lt;/p&gt;\n&lt;p style=&quot;fo
 nt-weight: 400\;&quot;&gt;&amp;nbsp\;&lt;/p&gt;
END:VEVENT
END:VCALENDAR

