BEGIN:VCALENDAR
VERSION:2.0
PRODID:IEEE vTools.Events//EN
CALSCALE:GREGORIAN
BEGIN:VTIMEZONE
TZID:Europe/Madrid
BEGIN:DAYLIGHT
DTSTART:20240331T030000
TZOFFSETFROM:+0100
TZOFFSETTO:+0200
RRULE:FREQ=YEARLY;BYDAY=-1SU;BYMONTH=3
TZNAME:CEST
END:DAYLIGHT
BEGIN:STANDARD
DTSTART:20231029T020000
TZOFFSETFROM:+0200
TZOFFSETTO:+0100
RRULE:FREQ=YEARLY;BYDAY=-1SU;BYMONTH=10
TZNAME:CET
END:STANDARD
END:VTIMEZONE
BEGIN:VEVENT
DTSTAMP:20231115T133826Z
UID:D5B26A89-7373-4AB9-83EB-9E5DDB7BE12C
DTSTART;TZID=Europe/Madrid:20231109T103000
DTEND;TZID=Europe/Madrid:20231110T150000
DESCRIPTION:Dear IBERNAM-CMC2 Community\, IEEE Sensors Council Spain and Fr
 ench Chapters members and researchers\,\n\nWe are pleased to announce the 
 upcoming celebration of the 11th Franco-Spanish Workshop IBERNAM-CMC2 to b
 e held in Zaragoza on November 9-10th 2023 .\n\nSince 2002\, we hold a joi
 nt Workshop between IBERNAM and CMC2 (the French thematic network on senso
 rs and microsystems) where we have the opportunity to meet with our collea
 gues and informally discuss results\, collaboration opportunities and futu
 re joint actions. The event this year will be in collaboration with the IE
 EE Sensors Council France Chapter and the IEEE Sensors Council and Systems
  Council spain Section Joint Chapter that will also commemorate the 10th y
 ear since its creation as well as the IEEE Sensors Council 25th anniversar
 y.\n\nThe Spanish and French Chapters of the IEEE Sensors Council will spo
 nsor the &quot;Student Paper Contest&quot; that will reimburse the winners for the c
 onference registration fee.\n\nThe &quot;Leivmotiv&quot; of this 11th Edition is the
  Sustainable Development Goals (SDGs) of the United Nations. As this aspir
 ation is in line with Horizon Europe\, we encourage you all to detail the 
 contribution of your idea to the SDGs in your abstract for the organizatio
 n of our scientific program. The CALL FOR PAPERS is open from September 30
 th to October 23rd extended to October 27th (use the [template](https://do
 cs.google.com/document/d/1wB5wAaivBJuFI8ktLvD3ki0x-SUiok-f/edit?usp=drive_
 link&amp;ouid=109468367427704612326&amp;rtpof=true&amp;sd=true)). Please\, send your a
 bstract (in pdf format) to [ibernamzgz@posta.unizar.es](mailto:%20ibernamz
 gz@posta.unizar.es) indicating your preference Oral/Poster Contribution. T
 he scientific organizing committee will communicate the acceptance of abst
 ract on October 31th.\n\nThe Workshop is organized as a collection of invi
 ted talks (3)\, with the participation of IEEE Sensors Council Distinguish
 ed Lecturer Giancarlo Fortino\, oral communications (17)\, and a poster se
 ssion\, giving the opportunity to all attendees not to miss anything. Fina
 lly\, the Workshop also features a social program\, offering a unique fram
 ework for the exchange of ideas and the establishment of new collaboration
 s.\n\nWe will soon share by e-mail more details about the scientific agend
 a\, registration confirmation process\, accommodations\, as well as the so
 cial program.Please\, register to receive all the information in your emai
 l.\n\nSincerely\,\n\nThe organizing committee\n\nCo-sponsored by: IBERNAM 
 CMC2\n\nSpeaker(s): Giancarlo\, Georgiou\n\nAgenda: \n[AGENDA](https://dri
 ve.google.com/file/d/1qfG_V0TFTSV8xxLO75c2jkPSXKlnt_ET/view?usp=drive_link
 )\n\nNovember 9th Thursday. Class Room\, 1st Floor. I+D Building\n\nCampus
  Río Ebro. C/Mariano Esquillor s/n. 50018 Zaragoza.\n\n9:30 - Registratio
 n/Coffee\n\n10:20 - Welcome\n\nSDG 9: INDUSTRY\, INNOVATION AND INFRASTRUC
 TURE\; SDG 11: SUSTAINABLE CITIES AND COMMUNITIES\; SDG13: CLIMATE ACTION\
 n\n10:30 - Oral Presentation - Dr. Matilde Rieu - Protection of NOx sensor
 s from sulfur poisoning in glass furnaces by the optimization of “SO2 tr
 ap”\n10:50 - Oral Presentation - MSc. Amira Benayache - Design and minia
 turization of an electrochemical oxygen sensor\n11:10 - Oral Presentation 
 - Dr. Helene Debeda - Performances under vapors of uncoated and coated pri
 nted piezoelectric sensors\n11:30 - Oral Presentation - Msc. Kissia Batist
 a - Advancing on the Detection of Chemical Warfare Agents in gas phase: Le
 veraging SERS Technology and Nano-porous Architectures\n11:50 - Oral Prese
 ntation - MSc. Ignasi Fort - Developing Conductive MOFs for Chemiresistive
  Greenhouse Gas Sensors\n12:10 - Oral Presentation - MSc. Shuja B. Malik -
  Tungsten disulfide (WS2) flakes synthesized via APCVD for ppb level NO2 d
 etection\n12:30 - Oral Presentation - Prof. Pilar Marín - Ultrasensitive 
 gas sensor based on a few-layered mesoporous graphene obtained by mechanic
 al alloying\n\n13:00 - Lunch-BETHANCOURT BUILDING - November 9th Thrusday.
  Conference Room\, 1st Floor. I+D Building. Campus Río Ebro. C/Mariano Es
 quillor s/n. 50018 Zaragoza.\n\nSDG 9: INDUSTRY\, INNOVATION AND INFRASTRU
 CTURE\; SDG 11: SUSTAINABLE CITIES AND COMMUNITIES\; SDG13: CLIMATE ACTION
 \n15:00 - Invited Talk-IEEE Sensors Council - Prof. Giancarlo Fortino. - C
 ommunity-Oriented Wearable Computing Systems: A Paradigm Shift to Monitor 
 and Control Cooperative Groups of People.\n15:40 - Oral Presentation - Msc
 . Daniel Enériz - Edge AI for Sensor Fusion using FPGAs\n16:00 - Oral Pre
 sentation - Prof. Jesús Lozano - Electronic nose integration in a smartwa
 tch\n16:20 - Oral Presentation - MSc. Alejandro Santos - Development of a 
 Wireless Sensor Network. for Air Quality Monitoring\n16:40 - Oral Presenta
 tion - Dr. Eric Navarrete- NanoChronia\, a SpinOff enabling the pivot to t
 he green\n17:00 - Coffee Break//Poster Session -General Meeting IBERNAM\n1
 7:30 - General Meeting IBERNAM / CMC2 Steering Committee\n19:45 TOURISTIC 
 VISIT: Meeting Point Hotel ALFONSO C. del Coso\, 15-17\, 19\, 50003 Zarago
 za\n21:15 SOCIAL DINNER EL MONTAL (C/ Torre Nueva nº 29 (Esq. Plaza S.Fel
 ipe) 50003 Zaragoza\n\nNovember 10th-Friday. Conference Room\, 1st Floor. 
 I+D Building\n\nCampus Río Ebro. C/Mariano Esquillor s/n. 50018 Zaragoza.
 \n\nSDG 3: GOOD HEALTH AND WELL BEING\; SDG12: RESPONSIBLE COMSUPTION AND 
 PRODUCTION\n9:00 - Oral Presentation - Dr. Carlos Ruíz - Extra Virgin Oli
 ve Oil Adulteration Assessment by means of Ratiometric Fluorescence Spectr
 oscopy\n9:20 - Oral Presentation - Prof. Nicole Jaffrezic - Chitosan\, a b
 iosourced polysaccharide for the design of biosensors\n9:40 - Oral Present
 ation - Prof. María Luz Rodríguez - Improving the performance of a bioel
 ectronic tongue using combinations of nanoparticles and enzymes. Simultane
 ous analysis of phenols\, sugars and organic acids in wines.\n10:00 - Invi
 ted Talk-IEEE Sensors Council- Prof. Pantelis Georgiou. -Microchip Technol
 ogy enabling Rapid Diagnostics for Infectious Diseases – From AMR to COV
 ID-19.\n10:40 - Coffee Break//Poster Session\n\nSDG 9: INDUSTRY\, INNOVATI
 ON AND INFRASTRUCTURE\; SDG12: RESPONSIBLE COMSUPTION AND PRODUCTION\; SDG
 13: CLIMATE ACTION\n11:10 - Oral Presentation - Prof. Marcel Bouvet - Corr
 ole-phthalocyanine double layer and double lateral heterojunction devices 
 as gas sensors\n11:30 - Oral Presentation - Dr. Edgar Muñoz -Fabrication 
 and laser patterning of transparent silver nanowire/\n2D oligoglycine tect
 omer hybrid electrodes\n11:50 - Oral Presentation - MSc. Reem El Attar - O
 rganic Electrochemical Transistor (OECT) based Zn2+ biosensor\n12:10 - Ora
 l Presentation - Dr. Alejandro Ansón - Metal-free dyes with deep HOMO lev
 el for TiO2 sensitization\n12:30 - Oral Presentation - MSc. Jorge Fantova 
 - Versatility of ultrafast Bessel Beams for the fabrication of embedded de
 vices in transparent materials\n12:50 - Closing Ceremony-Student Awards -\
 n13:10 - Lunch-BETHANCOURT BUILDING - Farewell\n\nPOSTER SESSION\n\nSDG 9:
  INDUSTRY\, INNOVATION AND INFRASTRUCTURE\; SDG 11: SUSTAINABLE CITIES AND
  COMMUNITIES\; SDG12: RESPONSIBLE COMSUPTION AND PRODUCTION\; SDG13: CLIMA
 TE ACTION\n\nP1 -3D-Printed piezo-actuated membranes and machine learning 
 techniques for in-line density-viscosity sensing\n\nP2 - Temperature and s
 train sensitivity of a fiber interferometer based on a singlemode-multimod
 e-singlemode fiber\n\nP3 - New Approach on Impedimetric Bioelectronic Tong
 ue for dairy characterization\n\nP4 - Milk Preservation and Storage Effect
 s on a Voltammetric Electronic Tongue´s Performance\n\nP5 - Chemoresistiv
 e micromachined gas sensors for wine monitoring\n\nP6 - Octahalogeno-phtha
 locyanine - based heterojunctions as ambipolar gas sensors\n\nP7 - MoS2 na
 nosheet networks as resistive gas sensors for NO2 detection\n\nP8 - ITO na
 noparticles doped with Rhodium and Graphene for methane\n\nP9 - Dual-Layer
  LMR-based Optical Sensor for Nitric Oxide Detection\n\nP10 - Engineering 
 Plasmonic Nanostructures for label-free SERS Detection\n\nP11 - Study of m
 aterials based on silver nanoparticles for the detection of ionising radia
 tion\n\nP12 - Characterization of a Sb2Se3 Solar Cell as a Memristor\n\nP1
 3 - Fast hotspot photovoltaic identification with embedded system\n\nP14 -
  Giant Magnetoresistance based gradiometers\n\nP15 - Magnetic Nanoparticle
 s for the Detection of Breath Biomarkers\n\nP16 - Magnetoelastic gas senso
 r for breath biomarkers monitoring\n\nON GOING COLLABORATIVE PROJECTS\n\nP
 16 - AGRARSENSE PROJECT\n\nP18 - SERSing PROJECT\n\nRoom: Conference Room 
 I+D building\, Bldg: Conference Room I+D building\, Universidad de Zaragoz
 a\, Mariano Esquillor s/n. 50018 Zaragoza\, Zaragoza\, Aragon\, Spain\, 50
 018\, Virtual: https://events.vtools.ieee.org/m/376271
LOCATION:Room: Conference Room I+D building\, Bldg: Conference Room I+D bui
 lding\, Universidad de Zaragoza\, Mariano Esquillor s/n. 50018 Zaragoza\, 
 Zaragoza\, Aragon\, Spain\, 50018\, Virtual: https://events.vtools.ieee.or
 g/m/376271
ORGANIZER:zamarreno@ieee.org
SEQUENCE:89
SUMMARY:11th Franco-Spanish Workshop IBERNAM-CMC2
URL;VALUE=URI:https://events.vtools.ieee.org/m/376271
X-ALT-DESC:Description: &lt;br /&gt;&lt;p&gt;Dear IBERNAM-CMC2 Community\, IEEE Sensors
  Council Spain and French Chapters members and researchers\,&lt;/p&gt;\n&lt;p&gt;We ar
 e pleased to announce the upcoming celebration of the 11th Franco-Spanish 
 Workshop IBERNAM-CMC2 to be held &lt;strong&gt;in Zaragoza on November 9-10th 20
 23&lt;/strong&gt; .&lt;/p&gt;\n&lt;p&gt;Since 2002\, we hold a joint Workshop between IBERNA
 M and CMC2 (the French thematic network on sensors and microsystems) where
  we have the opportunity to meet with our colleagues and informally discus
 s results\, collaboration opportunities and future joint actions. The even
 t this year will be in collaboration with the IEEE Sensors Council France 
 Chapter and the IEEE Sensors Council and Systems Council spain Section Joi
 nt Chapter that will also commemorate the 10th year since its creation as 
 well as the IEEE Sensors Council 25th anniversary.&lt;/p&gt;\n&lt;p&gt;The Spanish and
  French Chapters of the IEEE Sensors Council will sponsor the &quot;&lt;span style
 =&quot;text-decoration: underline\;&quot;&gt;&lt;strong&gt;Student Paper Contest&lt;/strong&gt;&lt;/sp
 an&gt;&quot; that will reimburse the winners for the conference registration fee.&lt;
 /p&gt;\n&lt;p&gt;The &quot;Leivmotiv&quot; of this 11th Edition is the &lt;span style=&quot;text-deco
 ration: underline\;&quot;&gt;&lt;strong&gt;Sustainable Development Goals (SDGs) of the U
 nited Nations&lt;/strong&gt;&lt;/span&gt;. As this aspiration is in line with Horizon 
 Europe\, we encourage you all to &lt;strong&gt;detail the contribution of your i
 dea to the SDGs in your abstract&lt;/strong&gt; for the organization of our scie
 ntific program. The &lt;strong&gt;&lt;span style=&quot;text-decoration: underline\;&quot;&gt;CAL
 L FOR PAPERS&lt;/span&gt; is open from September 30th &lt;span style=&quot;text-decorati
 on: line-through\;&quot;&gt;&lt;span style=&quot;text-decoration: underline\;&quot;&gt;to October 
 23rd&lt;/span&gt;&lt;/span&gt;&lt;/strong&gt; &lt;span style=&quot;background-color: #fffa00\;&quot;&gt;&lt;str
 ong&gt;&lt;span style=&quot;text-decoration: underline\;&quot;&gt;extended to October 27th&lt;/s
 pan&gt;&lt;/strong&gt;&lt;/span&gt; (use the &lt;a href=&quot;https://docs.google.com/document/d/
 1wB5wAaivBJuFI8ktLvD3ki0x-SUiok-f/edit?usp=drive_link&amp;amp\;ouid=1094683674
 27704612326&amp;amp\;rtpof=true&amp;amp\;sd=true&quot; target=&quot;_blank&quot; rel=&quot;noopener&quot;&gt;t
 emplate&lt;/a&gt;). Please\, send your abstract (in pdf format) to &lt;a href=&quot;mail
 to:%20ibernamzgz@posta.unizar.es&quot; target=&quot;_blank&quot; rel=&quot;noopener&quot;&gt;ibernamzg
 z@posta.unizar.es&lt;/a&gt; indicating your preference Oral/Poster Contribution.
  &lt;strong&gt;The scientific organizing committee will communicate the acceptan
 ce of abstract on October 31th&lt;/strong&gt;.&lt;/p&gt;\n&lt;p&gt;The Workshop is organized
  as a collection of &lt;strong&gt;invited talks (3)&lt;/strong&gt;\, with the particip
 ation of &lt;strong&gt;IEEE Sensors Council Distinguished Lecturer Giancarlo For
 tino&lt;/strong&gt;\, &lt;strong&gt;oral communications (17)&lt;/strong&gt;\, and a &lt;strong&gt;
 poster session&lt;/strong&gt;\, giving the opportunity to all attendees not to m
 iss anything. Finally\, the Workshop also features a social program\, offe
 ring a unique framework for the exchange of ideas and the establishment of
  new collaborations.&lt;/p&gt;\n&lt;p&gt;We will soon share by e-mail more details abo
 ut the scientific agenda\, registration confirmation process\, accommodati
 ons\, as well as the social program.Please\, register to receive all the i
 nformation in your email.&lt;/p&gt;\n&lt;p&gt;Sincerely\,&lt;/p&gt;\n&lt;p&gt;The organizing commi
 ttee&lt;/p&gt;&lt;br /&gt;&lt;br /&gt;Agenda: &lt;br /&gt;&lt;p&gt;&lt;a href=&quot;https://drive.google.com/fil
 e/d/1qfG_V0TFTSV8xxLO75c2jkPSXKlnt_ET/view?usp=drive_link&quot;&gt;AGENDA&lt;/a&gt;&lt;/p&gt;\
 n&lt;p&gt;&lt;span style=&quot;color: #ecf0f1\;&quot;&gt;&lt;strong&gt;&lt;span style=&quot;font-size: 18pt\; 
 background-color: #3598db\;&quot;&gt;November 9th Thursday. Class Room\, 1st Floor
 . I+D Building&lt;/span&gt;&lt;/strong&gt;&lt;/span&gt;&lt;/p&gt;\n&lt;p&gt;&lt;span style=&quot;color: #ecf0f1\
 ;&quot;&gt;&lt;strong&gt;&lt;span style=&quot;font-size: 18pt\; background-color: #3598db\;&quot;&gt;Cam
 pus R&amp;iacute\;o Ebro. C/Mariano Esquillor s/n. 50018 Zaragoza.&lt;/span&gt;&lt;/str
 ong&gt;&lt;/span&gt;&lt;br /&gt;&amp;nbsp\;&lt;br /&gt;&lt;strong&gt;9:30 &lt;/strong&gt;- &lt;em&gt;Registration/Cof
 fee&lt;/em&gt;&lt;/p&gt;\n&lt;p&gt;&lt;strong&gt;10:20&lt;/strong&gt; - &lt;em&gt;Welcome&lt;/em&gt;&lt;/p&gt;\n&lt;p&gt;&lt;span s
 tyle=&quot;color: #e03e2d\;&quot;&gt;&lt;strong&gt;SDG 9: INDUSTRY\, INNOVATION AND INFRASTRU
 CTURE\; SDG 11: &amp;nbsp\;SUSTAINABLE CITIES AND COMMUNITIES\; SDG13: CLIMATE
  ACTION&lt;/strong&gt;&lt;/span&gt;&lt;/p&gt;\n&lt;p&gt;&lt;strong&gt;10:30 &lt;/strong&gt;- &lt;em&gt;Oral Presenta
 tion&lt;/em&gt; - Dr. Matilde Rieu - Protection of NOx sensors from sulfur poiso
 ning in glass furnaces by the optimization of &amp;ldquo\;SO2 trap&amp;rdquo\;&amp;nbs
 p\;&lt;br /&gt;&lt;strong&gt;10:50&lt;/strong&gt; - &lt;em&gt;Oral Presentation&lt;/em&gt; - MSc. Amira 
 Benayache - Design and miniaturization of an electrochemical oxygen sensor
 &amp;nbsp\;&lt;br /&gt;&lt;strong&gt;11:10&lt;/strong&gt; - &lt;em&gt;Oral Presentation&lt;/em&gt; - Dr. Hel
 ene Debeda - Performances under vapors of uncoated and coated printed piez
 oelectric sensors&lt;br /&gt;&lt;strong&gt;11:30&lt;/strong&gt; - &lt;em&gt;Oral Presentation&lt;/em&gt;
  - Msc. Kissia Batista - Advancing on the Detection of Chemical Warfare Ag
 ents in gas phase: Leveraging SERS Technology and Nano-porous Architecture
 s&amp;nbsp\;&lt;br /&gt;&lt;strong&gt;11:50&lt;/strong&gt; - &lt;em&gt;Oral Presentation &lt;/em&gt;- MSc. I
 gnasi Fort - Developing Conductive MOFs for Chemiresistive Greenhouse Gas 
 Sensors&amp;nbsp\;&lt;br /&gt;&lt;strong&gt;12:10&lt;/strong&gt; - &lt;em&gt;Oral Presentation&lt;/em&gt; - 
 MSc. Shuja B. Malik - &amp;nbsp\;Tungsten disulfide (WS2) flakes synthesized v
 ia APCVD for ppb level NO2 detection&amp;nbsp\;&lt;br /&gt;&lt;strong&gt;12:30&lt;/strong&gt; - 
 &lt;em&gt;Oral Presentation&lt;/em&gt; - Prof. Pilar Mar&amp;iacute\;n - &amp;nbsp\;Ultrasensi
 tive gas sensor based on a few-layered mesoporous graphene obtained by mec
 hanical alloying&lt;/p&gt;\n&lt;p&gt;&lt;strong&gt;13:00&lt;/strong&gt; - &lt;em&gt;Lunch-BETHANCOURT BU
 ILDING&lt;/em&gt; - November 9th Thrusday. Conference Room\, 1st Floor. I+D Buil
 ding. &amp;nbsp\; &amp;nbsp\;Campus R&amp;iacute\;o Ebro. C/Mariano Esquillor s/n. 500
 18 Zaragoza.&lt;/p&gt;\n&lt;p&gt;&lt;span style=&quot;color: #e03e2d\;&quot;&gt;&lt;strong&gt;SDG 9: INDUSTR
 Y\, INNOVATION AND INFRASTRUCTURE\; SDG 11: &amp;nbsp\;SUSTAINABLE CITIES AND 
 COMMUNITIES\; SDG13: CLIMATE ACTION&lt;/strong&gt;&lt;/span&gt;&lt;br /&gt;&lt;strong&gt;15:00&lt;/st
 rong&gt; - &lt;em&gt;Invited Talk-IEEE Sensors Council&lt;/em&gt; - Prof. Giancarlo Forti
 no. - Community-Oriented Wearable Computing Systems: A Paradigm Shift to M
 onitor and Control Cooperative Groups of People.&lt;br /&gt;&lt;strong&gt;15:40&lt;/stron
 g&gt; - &lt;em&gt;Oral Presentation&lt;/em&gt; - Msc. Daniel En&amp;eacute\;riz - &amp;nbsp\;Edge
  AI for Sensor Fusion using FPGAs&amp;nbsp\;&lt;br /&gt;&lt;strong&gt;16:00&lt;/strong&gt; - &lt;em
 &gt;Oral Presentation&lt;/em&gt; - Prof. Jes&amp;uacute\;s Lozano - Electronic nose int
 egration in a smartwatch&amp;nbsp\;&lt;br /&gt;&lt;strong&gt;16:20&lt;/strong&gt; - &lt;em&gt;Oral Pre
 sentation &lt;/em&gt;- MSc. Alejandro Santos - Development of a Wireless Sensor 
 Network. for Air Quality Monitoring&amp;nbsp\;&lt;br /&gt;&lt;strong&gt;16:40&lt;/strong&gt; - &lt;
 em&gt;Oral Presentation&lt;/em&gt; - Dr. Eric Navarrete- NanoChronia\, a SpinOff en
 abling the pivot to the green&amp;nbsp\;&lt;br /&gt;&lt;strong&gt;17:00&lt;/strong&gt; - &lt;em&gt;Cof
 fee Break//Poster Session &lt;/em&gt;-General Meeting IBERNAM&lt;br /&gt;&lt;strong&gt;17:30
 &lt;/strong&gt;&amp;nbsp\;- General Meeting IBERNAM / CMC2 Steering Committee&lt;br /&gt;&lt;
 strong&gt;19:45&lt;/strong&gt;&amp;nbsp\;TOURISTIC VISIT: Meeting Point Hotel ALFONSO C
 . del Coso\, 15-17\, 19\, 50003 Zaragoza&lt;br /&gt;&lt;strong&gt;21:15&lt;/strong&gt;&amp;nbsp\
 ;SOCIAL DINNER EL MONTAL (C/ Torre Nueva n&amp;ordm\; 29 (Esq. Plaza S.Felipe)
  50003 Zaragoza&lt;/p&gt;\n&lt;p&gt;&lt;span style=&quot;font-size: 18pt\; color: #ecf0f1\; ba
 ckground-color: #3598db\;&quot;&gt;November 10th-Friday. Conference Room\, 1st Flo
 or. I+D Building&lt;/span&gt;&lt;/p&gt;\n&lt;p&gt;&lt;span style=&quot;font-size: 18pt\; color: #ecf
 0f1\; background-color: #3598db\;&quot;&gt;Campus R&amp;iacute\;o Ebro. C/Mariano Esqu
 illor s/n. 50018 Zaragoza.&lt;/span&gt;&lt;/p&gt;\n&lt;p&gt;&lt;span style=&quot;color: #e03e2d\;&quot;&gt;&lt;
 strong&gt;SDG 3: &amp;nbsp\;GOOD HEALTH AND WELL BEING\; SDG12: RESPONSIBLE COMSU
 PTION AND PRODUCTION&lt;/strong&gt;&lt;/span&gt;&lt;br /&gt;&lt;strong&gt;9:00&lt;/strong&gt; - &lt;em&gt;Oral
  Presentation&lt;/em&gt; - Dr. Carlos Ru&amp;iacute\;z - Extra Virgin Olive Oil Adul
 teration Assessment by means of Ratiometric Fluorescence Spectroscopy&amp;nbsp
 \;&lt;br /&gt;&lt;strong&gt;9:20&lt;/strong&gt; - &lt;em&gt;Oral Presentation&lt;/em&gt; - Prof. Nicole 
 Jaffrezic - Chitosan\, a biosourced polysaccharide for the design of biose
 nsors&lt;br /&gt;&lt;strong&gt;9:40&lt;/strong&gt; - &lt;em&gt;Oral Presentation&lt;/em&gt; - Prof. Mar&amp;
 iacute\;a Luz Rodr&amp;iacute\;guez - Improving the performance of a bioelectr
 onic tongue using combinations of nanoparticles and enzymes. Simultaneous 
 analysis of phenols\, sugars and organic acids in wines.&amp;nbsp\;&lt;br /&gt;&lt;stro
 ng&gt;10:00&lt;/strong&gt; - &lt;em&gt;Invited Talk-IEEE Sensors Council&lt;/em&gt;- Prof. Pant
 elis Georgiou. -Microchip Technology enabling Rapid Diagnostics for Infect
 ious Diseases &amp;ndash\; From AMR to COVID-19.&lt;br /&gt;&lt;strong&gt;10:40&lt;/strong&gt; -
  &lt;em&gt;Coffee Break//Poster Session&lt;/em&gt;&lt;/p&gt;\n&lt;p&gt;&lt;span style=&quot;color: #e03e2d
 \;&quot;&gt;&lt;strong&gt;SDG 9: INDUSTRY\, INNOVATION AND INFRASTRUCTURE\; SDG12: RESPO
 NSIBLE COMSUPTION AND PRODUCTION\; SDG13: CLIMATE ACTION&lt;/strong&gt;&lt;/span&gt;&lt;b
 r /&gt;&lt;strong&gt;11:10&lt;/strong&gt; - &lt;em&gt;Oral Presentation &lt;/em&gt;- Prof. Marcel Bou
 vet - Corrole-phthalocyanine double layer and double lateral heterojunctio
 n devices as gas sensors&lt;br /&gt;&lt;strong&gt;11:30&lt;/strong&gt; - &lt;em&gt;Oral Presentati
 on &lt;/em&gt;- Dr. Edgar Mu&amp;ntilde\;oz -Fabrication and laser patterning of tra
 nsparent silver nanowire/&lt;br /&gt;2D oligoglycine tectomer hybrid electrodes&lt;
 br /&gt;&lt;strong&gt;11:50&lt;/strong&gt; - &lt;em&gt;Oral Presentation &lt;/em&gt;- MSc. Reem El At
 tar - Organic Electrochemical Transistor (OECT) based Zn2+ biosensor&amp;nbsp\
 ;&lt;br /&gt;&lt;strong&gt;12:10&lt;/strong&gt; - &lt;em&gt;Oral Presentation&lt;/em&gt; - Dr. Alejandro
  Ans&amp;oacute\;n - Metal-free dyes with deep HOMO level for TiO2 sensitizati
 on&lt;br /&gt;&lt;strong&gt;12:30&lt;/strong&gt; - &lt;em&gt;Oral Presentation &lt;/em&gt;- MSc. Jorge F
 antova - Versatility of ultrafast Bessel Beams for the fabrication of embe
 dded devices in transparent materials&lt;br /&gt;&lt;strong&gt;12:50&lt;/strong&gt; - &lt;em&gt;Cl
 osing Ceremony-Student Awards&lt;/em&gt; -&lt;br /&gt;&lt;strong&gt;13:10&lt;/strong&gt; - &lt;em&gt;Lun
 ch-BETHANCOURT BUILDING &lt;/em&gt;- Farewell&lt;/p&gt;\n&lt;p&gt;&lt;span style=&quot;font-size: 18
 pt\; color: #ffffff\; background-color: #3598db\;&quot;&gt;POSTER SESSION&amp;nbsp\;&amp;n
 bsp\;&lt;/span&gt;&amp;nbsp\;&lt;/p&gt;\n&lt;p&gt;&lt;span style=&quot;color: #e03e2d\;&quot;&gt;&lt;strong&gt;&amp;nbsp\;
 SDG 9: INDUSTRY\, INNOVATION AND INFRASTRUCTURE\; SDG 11:&amp;nbsp\; SUSTAINAB
 LE CITIES AND COMMUNITIES\; SDG12: RESPONSIBLE COMSUPTION AND PRODUCTION\;
  SDG13: CLIMATE ACTION&lt;/strong&gt;&lt;/span&gt;&lt;/p&gt;\n&lt;p&gt;P1 -3D-Printed piezo-actuat
 ed membranes and machine learning techniques for in-line density-viscosity
  sensing&lt;/p&gt;\n&lt;p&gt;P2 - Temperature and strain sensitivity of a fiber interf
 erometer based on a singlemode-multimode-singlemode fiber&lt;/p&gt;\n&lt;p&gt;P3 - New
  Approach on Impedimetric Bioelectronic Tongue for dairy characterization&lt;
 /p&gt;\n&lt;p&gt;P4 - Milk Preservation and Storage Effects on a Voltammetric Elect
 ronic Tongue&amp;acute\;s Performance&lt;/p&gt;\n&lt;p&gt;P5 - Chemoresistive micromachine
 d gas sensors for wine monitoring&lt;/p&gt;\n&lt;p&gt;P6 - Octahalogeno-phthalocyanine
  - based heterojunctions as ambipolar gas sensors&lt;/p&gt;\n&lt;p&gt;P7 - MoS2 nanosh
 eet networks as resistive gas sensors for NO2 detection&lt;/p&gt;\n&lt;p&gt;P8 - ITO n
 anoparticles doped with Rhodium and Graphene for methane&lt;/p&gt;\n&lt;p&gt;P9 - Dual
 -Layer LMR-based Optical Sensor for Nitric Oxide Detection&lt;/p&gt;\n&lt;p&gt;P10 - E
 ngineering Plasmonic Nanostructures for label-free SERS Detection&lt;/p&gt;\n&lt;p&gt;
 P11 - Study of materials based on silver nanoparticles for the detection o
 f ionising radiation&lt;/p&gt;\n&lt;p&gt;P12 - Characterization of a Sb2Se3 Solar Cell
  as a Memristor&lt;/p&gt;\n&lt;p&gt;P13 - Fast hotspot photovoltaic identification wit
 h embedded system&lt;/p&gt;\n&lt;p&gt;P14 - Giant Magnetoresistance based gradiometers
 &lt;/p&gt;\n&lt;p&gt;P15 - Magnetic Nanoparticles for the Detection of Breath Biomarke
 rs&amp;nbsp\;&lt;/p&gt;\n&lt;p&gt;P16 - Magnetoelastic gas sensor for breath biomarkers mo
 nitoring&lt;/p&gt;\n&lt;p&gt;&lt;strong&gt;&lt;span style=&quot;color: #e03e2d\;&quot;&gt;ON GOING COLLABORA
 TIVE PROJECTS&lt;/span&gt;&lt;/strong&gt;&lt;/p&gt;\n&lt;p&gt;P16 - AGRARSENSE PROJECT&lt;/p&gt;\n&lt;p&gt;P18
  - SERSing PROJECT&lt;/p&gt;
END:VEVENT
END:VCALENDAR

