BEGIN:VCALENDAR
VERSION:2.0
PRODID:IEEE vTools.Events//EN
CALSCALE:GREGORIAN
BEGIN:VTIMEZONE
TZID:Asia/Kolkata
BEGIN:STANDARD
DTSTART:19451014T230000
TZOFFSETFROM:+0630
TZOFFSETTO:+0530
TZNAME:IST
END:STANDARD
END:VTIMEZONE
BEGIN:VEVENT
DTSTAMP:20231005T181330Z
UID:BDFA4DF3-C5F1-4625-888F-6BADCF360CFA
DTSTART;TZID=Asia/Kolkata:20231003T120000
DTEND;TZID=Asia/Kolkata:20231003T150000
DESCRIPTION:The much-anticipated annual IEEE Day celebration is back\, and 
 this year promises to be even more exciting than before! Join us on IEEE D
 ay 2023 as we come together to celebrate innovation\, technology\, and the
  spirit of collaboration.\n\nEvent Highlights:\n\n1. Intriguing Quiz: To k
 ick off the festivities\, we will begin with a captivating quiz consisting
  of twenty insightful questions about IEEE NSUT. Test your knowledge and c
 ompete with fellow members in a friendly battle of wits!\n\n2. Website Unv
 eiling: Be among the first to witness the grand unveiling of the brand-new
  NSUT website. Explore its enhanced features and user-friendly design that
  will undoubtedly enrich your IEEE NSUT experience.\n\n3. Team Bonding Gam
 e: This year\, we&#39;re introducing an exciting addition to our celebration
 —a team bonding game! Strengthen your camaraderie with fellow members th
 rough interactive and fun activities that will challenge your teamwork and
  problem-solving skills. Get ready for a day of laughter\, learning\, and 
 bonding like never before.\n\n4. Address by Branch Counselor: Our esteemed
  Branch Counselor\, Professor Prerna Gaur ma&#39;am\, will share her insights 
 and words of encouragement with our members. Her guidance has been invalua
 ble\, and we look forward to her inspiring address.\n\n5. Cake Cutting Cer
 emony: As tradition dictates\, we will conclude our IEEE Day celebration w
 ith a delightful cake-cutting ceremony. Join us in relishing this sweet mo
 ment as we also recognize and honor outstanding contributions by presentin
 g awards and mementoes to deserving members.\n\nIEEE Day 2023 promises to 
 be an unforgettable day filled with knowledge\, fun\, and team spirit. Mar
 k your calendars and be part of this remarkable event as we come together 
 to celebrate our shared passion for technology and innovation. See you the
 re!\n\nNetaji Subhas University of Technology\, Sector-3 Dwarka Delhi\, Ne
 w Delhi\, Delhi\, India\, 110078
LOCATION:Netaji Subhas University of Technology\, Sector-3 Dwarka Delhi\, N
 ew Delhi\, Delhi\, India\, 110078
ORGANIZER:ieee@nsut.ac.in
SEQUENCE:22
SUMMARY:IEEE DAY CELEBRATION 2023
URL;VALUE=URI:https://events.vtools.ieee.org/m/376392
X-ALT-DESC:Description: &lt;br /&gt;&lt;p&gt;The much-anticipated annual &lt;strong&gt;IEEE D
 ay&lt;/strong&gt; celebration is back\, and this year promises to be even more e
 xciting than before! Join us on IEEE Day 2023 as we come together to celeb
 rate innovation\, technology\, and the spirit of collaboration.&lt;/p&gt;\n&lt;p&gt;&lt;s
 trong&gt;Event Highlights&lt;/strong&gt;:&lt;/p&gt;\n&lt;p&gt;&lt;strong&gt;1. Intriguing Quiz&lt;/stron
 g&gt;: To kick off the festivities\, we will begin with a captivating quiz co
 nsisting of twenty insightful questions about IEEE NSUT. Test your knowled
 ge and compete with fellow members in a friendly battle of wits!&lt;/p&gt;\n&lt;p&gt;&lt;
 strong&gt;2. Website Unveiling&lt;/strong&gt;: Be among the first to witness the gr
 and unveiling of the brand-new NSUT website. Explore its enhanced features
  and user-friendly design that will undoubtedly enrich your IEEE NSUT expe
 rience.&lt;/p&gt;\n&lt;p&gt;&lt;strong&gt;3. Team Bonding Game&lt;/strong&gt;: This year\, we&#39;re i
 ntroducing an exciting addition to our celebration&amp;mdash\;a team bonding g
 ame! Strengthen your camaraderie with fellow members through interactive a
 nd fun activities that will challenge your teamwork and problem-solving sk
 ills. Get ready for a day of laughter\, learning\, and bonding like never 
 before.&lt;/p&gt;\n&lt;p&gt;&lt;strong&gt;4. Address by Branch Counselor&lt;/strong&gt;: Our estee
 med Branch Counselor\, Professor Prerna Gaur ma&#39;am\, will share her insigh
 ts and words of encouragement with our members. Her guidance has been inva
 luable\, and we look forward to her inspiring address.&lt;/p&gt;\n&lt;p&gt;&lt;strong&gt;5. 
 Cake Cutting Ceremony&lt;/strong&gt;: As tradition dictates\, we will conclude o
 ur IEEE Day celebration with a delightful cake-cutting ceremony. Join us i
 n relishing this sweet moment as we also recognize and honor outstanding c
 ontributions by presenting awards and mementoes to deserving members.&lt;/p&gt;\
 n&lt;p&gt;IEEE Day 2023 promises to be an unforgettable day filled with knowledg
 e\, fun\, and team spirit. Mark your calendars and be part of this remarka
 ble event as we come together to celebrate our shared passion for technolo
 gy and innovation. See you there!&lt;/p&gt;
END:VEVENT
END:VCALENDAR

