BEGIN:VCALENDAR
VERSION:2.0
PRODID:IEEE vTools.Events//EN
CALSCALE:GREGORIAN
BEGIN:VTIMEZONE
TZID:Asia/Kolkata
BEGIN:STANDARD
DTSTART:19451014T230000
TZOFFSETFROM:+0630
TZOFFSETTO:+0530
TZNAME:IST
END:STANDARD
END:VTIMEZONE
BEGIN:VEVENT
DTSTAMP:20231014T060445Z
UID:D18F985D-852A-41D8-BDAD-43BABC8FFBFB
DTSTART;TZID=Asia/Kolkata:20231004T113000
DTEND;TZID=Asia/Kolkata:20231004T170000
DESCRIPTION:&quot;🌐 Get ready\, VGECians! IEEE Day 2023 is here to ignite you
 r tech passion! Join us on Oct 4th for TED Talks\, AR/VR\, E-Sports\, and 
 epic Garba dance! 🚀 Let&#39;s celebrate tech and innovation together! 💃
 🔬 #IEEEDay2023 #TechEnthusiastsUnite&quot;\n\nTED TALK- 11:30 AM TO 1:30 PM\
 n\nSpeaker(s): Dr. Madhukant Patel\, Dr. Jitendra Bhatia\n\nAgenda: \nFun 
 and learning Together\n\nJ- BLOCK AUDITORIUM\, VGEC CAMPUS\, AHMEDABAD\, G
 ujarat\, India\, 382424
LOCATION:J- BLOCK AUDITORIUM\, VGEC CAMPUS\, AHMEDABAD\, Gujarat\, India\, 
 382424
ORGANIZER:ieee@vgecg.ac.in
SEQUENCE:26
SUMMARY:IEEE DAY CELEBRATION ~ TED TALK
URL;VALUE=URI:https://events.vtools.ieee.org/m/376396
X-ALT-DESC:Description: &lt;br /&gt;&lt;p&gt;&quot;🌐 Get ready\, VGECians! IEEE Day 2023 
 is here to ignite your tech passion! Join us on Oct 4th for TED Talks\, AR
 /VR\, E-Sports\, and epic Garba dance! 🚀 Let&#39;s celebrate tech and innov
 ation together! 💃🔬 #IEEEDay2023 #TechEnthusiastsUnite&quot;&lt;/p&gt;\n&lt;p&gt;&amp;nbsp
 \;&lt;/p&gt;\n&lt;p&gt;TED TALK- 11:30 AM TO 1:30 PM&lt;/p&gt;\n&lt;p&gt;&amp;nbsp\;&lt;/p&gt;&lt;br /&gt;&lt;br /&gt;Ag
 enda: &lt;br /&gt;&lt;p&gt;Fun and learning Together&lt;/p&gt;
END:VEVENT
END:VCALENDAR

