BEGIN:VCALENDAR
VERSION:2.0
PRODID:IEEE vTools.Events//EN
CALSCALE:GREGORIAN
BEGIN:VTIMEZONE
TZID:Europe/Prague
BEGIN:DAYLIGHT
DTSTART:20230326T030000
TZOFFSETFROM:+0100
TZOFFSETTO:+0200
RRULE:FREQ=YEARLY;BYDAY=-1SU;BYMONTH=3
TZNAME:CEST
END:DAYLIGHT
BEGIN:STANDARD
DTSTART:20231029T020000
TZOFFSETFROM:+0200
TZOFFSETTO:+0100
RRULE:FREQ=YEARLY;BYDAY=-1SU;BYMONTH=10
TZNAME:CET
END:STANDARD
END:VTIMEZONE
BEGIN:VEVENT
DTSTAMP:20231004T072626Z
UID:D47A0C97-6BFB-4EDF-9F7F-1EB9E4CCC7BB
DTSTART;TZID=Europe/Prague:20231001T091500
DTEND;TZID=Europe/Prague:20231001T223000
DESCRIPTION:a talk by Masahiko Imashimizu from AIST\, Japan: &quot;Nonthermal ac
 celeration of protein hydration by sub-terahertz irradiation&quot;\n\nCo-sponso
 red by: URSI\n\nVirtual: https://events.vtools.ieee.org/m/376414
LOCATION:Virtual: https://events.vtools.ieee.org/m/376414
ORGANIZER:cifra@ufe.cz
SEQUENCE:16
SUMMARY:Bioelectrodynamics webinar 028 - Masahiko Imashimizu
URL;VALUE=URI:https://events.vtools.ieee.org/m/376414
X-ALT-DESC:Description: &lt;br /&gt;&lt;p&gt;a talk by Masahiko Imashimizu from AIST\, 
 Japan:&amp;nbsp\;&lt;strong&gt;&quot;&lt;/strong&gt;&lt;strong&gt;Nonthermal acceleration of protein 
 hydration by sub-terahertz irradiation&quot;&lt;/strong&gt;&lt;/p&gt;
END:VEVENT
END:VCALENDAR

