BEGIN:VCALENDAR
VERSION:2.0
PRODID:IEEE vTools.Events//EN
CALSCALE:GREGORIAN
BEGIN:VTIMEZONE
TZID:America/New_York
BEGIN:DAYLIGHT
DTSTART:20230312T030000
TZOFFSETFROM:-0500
TZOFFSETTO:-0400
RRULE:FREQ=YEARLY;BYDAY=2SU;BYMONTH=3
TZNAME:EDT
END:DAYLIGHT
BEGIN:STANDARD
DTSTART:20231105T010000
TZOFFSETFROM:-0400
TZOFFSETTO:-0500
RRULE:FREQ=YEARLY;BYDAY=1SU;BYMONTH=11
TZNAME:EST
END:STANDARD
END:VTIMEZONE
BEGIN:VEVENT
DTSTAMP:20231102T005629Z
UID:1044A2EF-5FD0-4010-A04D-2E6725B18C26
DTSTART;TZID=America/New_York:20231101T160000
DTEND;TZID=America/New_York:20231101T190000
DESCRIPTION:Training for teachers &amp; parents for student participation\n\nCo
 -sponsored by: Baltimore Museum of Industry\n\nAgenda: \n4:00 PM Introduct
 ion and training on the manual robot\, required for all participants.\n\n6
 :00 PM Automated and Autonomous robot training.\n\nBldg: Baltimore Museum 
 of Industry\, 1415 Key Highway\, Baltimore\, Maryland\, United States
LOCATION:Bldg: Baltimore Museum of Industry\, 1415 Key Highway\, Baltimore\
 , Maryland\, United States
ORGANIZER:d.herres@ieee.org
SEQUENCE:13
SUMMARY:IEEE Baltimore Robot Workshop for the Maryland Engineering Challeng
 es
URL;VALUE=URI:https://events.vtools.ieee.org/m/376516
X-ALT-DESC:Description: &lt;br /&gt;&lt;p&gt;Training for teachers &amp;amp\; parents for s
 tudent participation&lt;/p&gt;&lt;br /&gt;&lt;br /&gt;Agenda: &lt;br /&gt;&lt;p&gt;4:00 PM&amp;nbsp\; Introd
 uction and training on the manual robot\, required for all participants.&lt;/
 p&gt;\n&lt;p&gt;6:00 PM&amp;nbsp\; Automated and Autonomous robot training.&lt;/p&gt;
END:VEVENT
END:VCALENDAR

