BEGIN:VCALENDAR
VERSION:2.0
PRODID:IEEE vTools.Events//EN
CALSCALE:GREGORIAN
BEGIN:VTIMEZONE
TZID:America/Denver
BEGIN:DAYLIGHT
DTSTART:20230312T030000
TZOFFSETFROM:-0700
TZOFFSETTO:-0600
RRULE:FREQ=YEARLY;BYDAY=2SU;BYMONTH=3
TZNAME:MDT
END:DAYLIGHT
BEGIN:STANDARD
DTSTART:20231105T010000
TZOFFSETFROM:-0600
TZOFFSETTO:-0700
RRULE:FREQ=YEARLY;BYDAY=1SU;BYMONTH=11
TZNAME:MST
END:STANDARD
END:VTIMEZONE
BEGIN:VEVENT
DTSTAMP:20231023T170044Z
UID:A55E235D-A679-488B-9D09-19D8B27B03B6
DTSTART;TZID=America/Denver:20231018T170000
DTEND;TZID=America/Denver:20231018T183000
DESCRIPTION:Ron Hruban will present an engaging presentation delving into t
 he online validation and calibration of power plant models\, along with th
 e associated challenges\, and an exploration of a potential solution. Ron 
 is a MSU PhD candidate teaching at Montana Tech.\n\nPizza will be provided
 . No-host beverages starting at 5 PM\, and the presentation will start at 
 5:30 PM. Students of age will get a free drink token.\n\nButte Brewery\, 4
 65 E Galena St\, Butte\, Montana\, United States\, 59701
LOCATION:Butte Brewery\, 465 E Galena St\, Butte\, Montana\, United States\
 , 59701
ORGANIZER:matthew.stajcar@northwestern.com
SEQUENCE:16
SUMMARY:IEEE Presentation - Monty-Strap_Carlo-Booting\, A Solution to Power
  Plant Model Calibration
URL;VALUE=URI:https://events.vtools.ieee.org/m/376573
X-ALT-DESC:Description: &lt;br /&gt;&lt;p&gt;Ron Hruban will present an engaging presen
 tation delving into the online validation and calibration of power plant m
 odels\, along with the associated challenges\, and an exploration of a pot
 ential solution. Ron is a MSU PhD candidate teaching at Montana Tech.&lt;br /
 &gt;&lt;br /&gt;Pizza will be provided. No-host beverages starting at 5 PM\, and th
 e presentation will start at 5:30 PM. Students of age will get a free drin
 k token.&lt;/p&gt;
END:VEVENT
END:VCALENDAR

