BEGIN:VCALENDAR
VERSION:2.0
PRODID:IEEE vTools.Events//EN
CALSCALE:GREGORIAN
BEGIN:VTIMEZONE
TZID:Europe/Brussels
BEGIN:DAYLIGHT
DTSTART:20230326T030000
TZOFFSETFROM:+0100
TZOFFSETTO:+0200
RRULE:FREQ=YEARLY;BYDAY=-1SU;BYMONTH=3
TZNAME:CEST
END:DAYLIGHT
BEGIN:STANDARD
DTSTART:20231029T020000
TZOFFSETFROM:+0200
TZOFFSETTO:+0100
RRULE:FREQ=YEARLY;BYDAY=-1SU;BYMONTH=10
TZNAME:CET
END:STANDARD
END:VTIMEZONE
BEGIN:VEVENT
DTSTAMP:20231004T072504Z
UID:688F57BD-93BB-4467-BF19-E2FD2AFD9EE5
DTSTART;TZID=Europe/Brussels:20231003T190000
DTEND;TZID=Europe/Brussels:20231003T220000
DESCRIPTION:As an annual tradition at the beginning of the academic year\, 
 we are taking you “Inside the Campus” for an exclusive behind-the-scen
 es look of the research happening at the campus. Two researchers\, Adriaan
  Jacobs and Dairo de Ruck\, will each give a fascinating presentation abou
 t their research. After the presentation\, there will be an opportunity to
  network while enjoying some snacks and drinks\, the perfect chance to mee
 t fellow students\, researchers\, and faculty members!\n\nSpeaker(s): Adri
 aan Jacobs\, Dairo de Ruck\n\nGebroeders De Smetstraat 1\, Ghent\, Oost-Vl
 aanderen\, Belgium\, 9000
LOCATION:Gebroeders De Smetstraat 1\, Ghent\, Oost-Vlaanderen\, Belgium\, 9
 000
ORGANIZER:info.kulbrugge@ieee.org
SEQUENCE:16
SUMMARY:Let&#39;s Meet - Inside the Campus (Ghent)
URL;VALUE=URI:https://events.vtools.ieee.org/m/376734
X-ALT-DESC:Description: &lt;br /&gt;&lt;p&gt;&lt;span class=&quot;x193iq5w xeuugli x13faqbe x1v
 vkbs x1xmvt09 x1lliihq x1s928wv xhkezso x1gmr53x x1cpjm7i x1fgarty x1943h6
 x xudqn12 x3x7a5m x6prxxf xvq8zen xo1l8bm xzsf02u&quot; dir=&quot;auto&quot;&gt;As an annual
  tradition at the beginning of the academic year\, we are taking you &amp;ldqu
 o\;Inside the Campus&amp;rdquo\; for an exclusive behind-the-scenes look of th
 e research happening at the campus. Two researchers\, Adriaan Jacobs and D
 airo de Ruck\, will each give a fascinating presentation about their resea
 rch. After the presentation\, there will be an opportunity to network whil
 e enjoying some snacks and drinks\, the perfect chance to meet fellow stud
 ents\, researchers\, and faculty members!&lt;/span&gt;&lt;/p&gt;
END:VEVENT
END:VCALENDAR

