BEGIN:VCALENDAR
VERSION:2.0
PRODID:IEEE vTools.Events//EN
CALSCALE:GREGORIAN
BEGIN:VTIMEZONE
TZID:Asia/Kolkata
BEGIN:STANDARD
DTSTART:19451014T230000
TZOFFSETFROM:+0630
TZOFFSETTO:+0530
TZNAME:IST
END:STANDARD
END:VTIMEZONE
BEGIN:VEVENT
DTSTAMP:20231008T135138Z
UID:51D93E04-ACD7-4BBA-8049-E5E3588FB748
DTSTART;TZID=Asia/Kolkata:20231006T181500
DTEND;TZID=Asia/Kolkata:20231006T201500
DESCRIPTION:On Eve of IEEE Day - IEEE SPS &amp; IEEE WIE AG Hyderabad Section a
 re organizing a Talk on &quot;Digital Crimes-Strategies&quot; on 6th October\, 2023 
 from 6.15 PM to 8.15PM online mode\n\nIn the age pf total dependency of Te
 chnology\, user has become slave of technology rather the master. Security
  is provided by every agency\, is relatively sufficient\, how ever unless 
 awareness of the technique is shared properly even the security technology
  may not be sufficient. This session will be delivering the information re
 lated to Cyber Crimes\, latest trends\, Law\, Investigation\, Security and
  Forensics for students as well as professionals.\n\nSpeaker: Mr. Ramamoha
 n Ukkalam\nSuperintendent of police -AP.\n\nTook part in technical investi
 gation of around 5000 cases of bombs and bombings which include number of 
 sensational crimes of India\,\n\nParticipated in the investigation of many
  sensational cases\nHe has rich experience in handling digital evidence an
 d has handled 1000 cases of digital crime investigation\nMr. U.Rama Mohan 
 worked in APFSL as Computer Forensic Expert and Explosives expert\, and al
 so designed and developed CLUES teams for crime scene investigation.\n\nHe
  is decorated with two UN International police medals for working in Kosov
 o during 2000-01 and in Haiti during 2009 -10 as peace keeping officer and
  trained many police officers of those countries.\n\nHe is also decorated 
 with the Indian police medal for the year 2006.\n\nHis meritorious service
  has won him Two National Awards from the Ministry of Home Affairs.\nHe re
 ceived all the three A P state police medals in the combined state\, for d
 istinguished service.\n\nHe has successfully given court evidence in the U
 K as an expert.\nHe is a regular guest faculty for National Police Academy
 \, AP Police Academy\, CBI Academy\, AP Judicial Academy\, Central Detecti
 ve Training School\, RBI\, IDRBT and various universities all over the cou
 ntry.\n\nHe has authored books “Cyber Crime and Law” Child in CyberSpa
 ce” and many articles in periodicals and published many papers in Intern
 ational Publications\nHe is awarded with LIFETIME ACHIEVEMENT AWARD by Dig
 ital Investigators Association of India.\nHe is member of research advisor
 y group in BITS Pilani University for cloud forensics and Syllabus Board M
 ember for Raksha Shakti Police University of Ahmedabad. Regular Speaker an
 d adviser for Several courses in NALSAR University\, Bhopal Law University
 .\n\nTime: 6.15 PM to 8.15 PM\n\nAgenda: \nWelcoming the audience\n\nIntro
 duction of the Speaker\n\nTalk by the Speaker\n\nVote of Thanks\n\nVirtual
 : https://events.vtools.ieee.org/m/376750
LOCATION:Virtual: https://events.vtools.ieee.org/m/376750
ORGANIZER:padmasai_y@ieee.org
SEQUENCE:33
SUMMARY: On Eve of IEEE Day - IEEE SPS &amp; IEEE WIE AG Hyderabad Section are 
 organizing a Talk on &quot;Digital Crimes-Strategies&quot;
URL;VALUE=URI:https://events.vtools.ieee.org/m/376750
X-ALT-DESC:Description: &lt;br /&gt;&lt;p&gt;On Eve of IEEE Day - IEEE SPS &amp;amp\; IEEE 
 WIE AG Hyderabad Section are organizing a Talk on &quot;Digital Crimes-Strategi
 es&quot; on 6th October\, 2023 from 6.15 PM to 8.15PM online mode&lt;/p&gt;\n&lt;p&gt;In th
 e age pf total dependency of Technology\, user has become slave of technol
 ogy rather the master. Security is provided by every agency\, is relativel
 y sufficient\, how ever unless awareness of the technique is shared proper
 ly even the security technology may not be sufficient. This session will b
 e delivering the information related to&amp;nbsp\; Cyber Crimes\, latest trend
 s\, Law\, Investigation\, Security and Forensics for students as well as p
 rofessionals.&lt;/p&gt;\n&lt;p&gt;Speaker:&amp;nbsp\;&amp;nbsp\;&lt;strong&gt;Mr. Ramamohan Ukkalam&lt;
 /strong&gt;&amp;nbsp\;&lt;br /&gt;&amp;nbsp\; &amp;nbsp\; &amp;nbsp\; &amp;nbsp\; &amp;nbsp\; &amp;nbsp\; &amp;nbsp
 \; &amp;nbsp\; Superintendent of police -AP.&lt;/p&gt;\n&lt;p&gt;Took part in technical in
 vestigation of around 5000 cases of bombs and bombings which include numbe
 r of sensational crimes of India\,&lt;/p&gt;\n&lt;p&gt;Participated in the investigati
 on of many sensational cases&lt;br /&gt;He has rich experience in handling digit
 al evidence and has handled 1000 cases of digital crime investigation&amp;nbsp
 \;&lt;br /&gt;Mr. U.Rama Mohan worked in APFSL as Computer Forensic Expert and E
 xplosives expert\, and also designed and developed CLUES teams for crime s
 cene investigation.&lt;br /&gt;&amp;nbsp\;&lt;br /&gt;He is decorated with two UN Internat
 ional police medals for working in Kosovo during 2000-01 and in Haiti duri
 ng 2009 -10 as peace keeping officer and trained many police officers of t
 hose countries.&lt;br /&gt;&amp;nbsp\;&lt;br /&gt;He is also decorated with the Indian pol
 ice medal for the year 2006.&lt;br /&gt;&amp;nbsp\;&lt;br /&gt;His meritorious service has
  won him Two National Awards from the Ministry of Home Affairs.&lt;br /&gt;&amp;nbsp
 \;He received all the three A P state police medals in the combined state\
 , for distinguished service.&lt;br /&gt;&amp;nbsp\;&lt;br /&gt;He has successfully given c
 ourt evidence in the UK as an expert.&lt;br /&gt;&amp;nbsp\;He is a regular guest fa
 culty for National Police Academy\, AP Police Academy\, CBI Academy\, AP J
 udicial Academy\, Central Detective Training School\, RBI\, IDRBT and vari
 ous universities all over the country.&lt;br /&gt;&amp;nbsp\;&lt;br /&gt;He has authored b
 ooks &amp;ldquo\;Cyber Crime and Law&amp;rdquo\; Child in CyberSpace&amp;rdquo\; and m
 any articles in periodicals and published many papers in International Pub
 lications&lt;br /&gt;He &amp;nbsp\;is awarded with LIFETIME ACHIEVEMENT AWARD by Dig
 ital Investigators Association of India.&lt;br /&gt;He is member of research adv
 isory group in BITS Pilani University for cloud forensics and Syllabus Boa
 rd &amp;nbsp\;Member for Raksha Shakti Police University of Ahmedabad. Regular
  Speaker and adviser for Several courses in NALSAR University\, Bhopal Law
  University.&lt;/p&gt;\n&lt;p&gt;Time: 6.15 PM to 8.15 PM&lt;/p&gt;&lt;br /&gt;&lt;br /&gt;Agenda: &lt;br /
 &gt;&lt;p&gt;Welcoming the audience&lt;/p&gt;\n&lt;p&gt;Introduction of the Speaker&lt;/p&gt;\n&lt;p&gt;Tal
 k by the Speaker&lt;/p&gt;\n&lt;p&gt;Vote of Thanks&lt;/p&gt;
END:VEVENT
END:VCALENDAR

