BEGIN:VCALENDAR
VERSION:2.0
PRODID:IEEE vTools.Events//EN
CALSCALE:GREGORIAN
BEGIN:VTIMEZONE
TZID:America/New_York
BEGIN:DAYLIGHT
DTSTART:20230312T030000
TZOFFSETFROM:-0500
TZOFFSETTO:-0400
RRULE:FREQ=YEARLY;BYDAY=2SU;BYMONTH=3
TZNAME:EDT
END:DAYLIGHT
BEGIN:STANDARD
DTSTART:20231105T010000
TZOFFSETFROM:-0400
TZOFFSETTO:-0500
RRULE:FREQ=YEARLY;BYDAY=1SU;BYMONTH=11
TZNAME:EST
END:STANDARD
END:VTIMEZONE
BEGIN:VEVENT
DTSTAMP:20231031T201421Z
UID:FB3B7FDF-8412-43B3-9A0C-417D1452CBC7
DTSTART;TZID=America/New_York:20231019T170000
DTEND;TZID=America/New_York:20231019T210000
DESCRIPTION:You may use the following link to write a summary of any monthl
 y updates from your committee\, chapter or affinity group. Information rec
 eived by 8 AM on WEDNESDAY the week of the event will be incorporated into
  the meeting agenda.\n\nhttps://docs.google.com/document/d/1WuMSVvDBNxbBo_
 qSlu-3BPqjF9M_-9t4XAzPkxt-fjM/edit?usp=sharing\n\nIEEE members can access 
 prior meeting minutes hosted on the Pittsburgh Section&#39;s [shared drive (li
 nk)](https://drive.google.com/drive/folders/1_UTt5t_dxNP1M5dO87OOeR25t8P7q
 QHp?usp=sharing). Access to the shared drive is restricted to the [@ieee.o
 rg Google account (link to sign up)](https://www.ieee.org/membership/produ
 cts/google-apps.html).\n\nLocation for this event is virtual. Meeting link
  and call-in information will be emailed one hour before the event.\n\n---
 ------------------------------------------------------------\n\nNew to IEE
 E Pittsburgh?\n\nFor those new to the Pittsburgh Section Executive and Adm
 inistrative Meeting\, we welcome all IEEE members in the area to attend! T
 his is a standing meeting held on the 3rd Thursday of every month. We revi
 ew our upcoming activities relevant to engineers in our section.\n\nFeel f
 ree to use the report link above to ask any questions you may have\, join 
 us on Slack\, or read through our welcome guide for more information about
  how you can get involved with IEEE Pittsburgh.\n\n[Join us on Slack!](htt
 ps://ieeepittsburgh.slack.com/)\n\n[Link to Welcome to IEEE Pittsburgh Gui
 de](https://docs.google.com/document/d/1lyWneXlANAQAiJN2p6Bi9kAatooxIQ-Yzl
 GpWRmRGBw/edit?usp=sharing)\n\n[More #ieeepgh Events](https://webinabox.vt
 ools.ieee.org/wibp_calendar/index/R20037)\n\nSpeaker(s): Prashnna Gyawali\
 , \n\nAgenda: \nFirst 30 minutes of the event are reserved for socializing
 . The meeting portion starts at 7 pm (eastern time zone).\n\nThe meeting a
 genda will be emailed on Monday the week of the event for early registrant
 s.\n\nPrior to the meeting\, a lecture will be held in AERB room 120 (deta
 ils of the lecture below). This will take place from 5:00-6:00\, and after
 wards we will migrate to room 256 for the meeting.\n\nRoom: 120/256\, Bldg
 : Advanced Engineering Research Building\, 101 Research Way\, Morgantown\,
  West Virginia\, United States\, 26505\, Virtual: https://events.vtools.ie
 ee.org/m/376877
LOCATION:Room: 120/256\, Bldg: Advanced Engineering Research Building\, 101
  Research Way\, Morgantown\, West Virginia\, United States\, 26505\, Virtu
 al: https://events.vtools.ieee.org/m/376877
ORGANIZER:gprice@ieee.org
SEQUENCE:17
SUMMARY:PITTSBURGH SECTION EXECUTIVE AND ADMINISTRATIVE MEETING (October HY
 BRID)
URL;VALUE=URI:https://events.vtools.ieee.org/m/376877
X-ALT-DESC:Description: &lt;br /&gt;&lt;p&gt;You may use the following link to write a 
 summary of any monthly updates from your committee\, chapter or affinity g
 roup.&amp;nbsp\; &lt;strong&gt;Information received by 8 AM on WEDNESDAY the week of
  the event will be incorporated into the meeting agenda.&lt;/strong&gt;&lt;/p&gt;\n&lt;p&gt;
 &lt;a title=&quot;https://docs.google.com/document/d/1WuMSVvDBNxbBo_qSlu-3BPqjF9M_
 -9t4XAzPkxt-fjM/edit?usp=sharing&quot; href=&quot;https://docs.google.com/document/d
 /1WuMSVvDBNxbBo_qSlu-3BPqjF9M_-9t4XAzPkxt-fjM/edit?usp=sharing&quot;&gt;https://do
 cs.google.com/document/d/1WuMSVvDBNxbBo_qSlu-3BPqjF9M_-9t4XAzPkxt-fjM/edit
 ?usp=sharing&lt;/a&gt;&lt;/p&gt;\n&lt;p&gt;IEEE members can access prior meeting minutes hos
 ted on the Pittsburgh Section&#39;s &lt;a href=&quot;https://drive.google.com/drive/fo
 lders/1_UTt5t_dxNP1M5dO87OOeR25t8P7qQHp?usp=sharing&quot;&gt;shared drive (link)&lt;/
 a&gt;. Access to the shared drive is restricted to the &lt;a title=&quot;Sign up link
 &quot; href=&quot;https://www.ieee.org/membership/products/google-apps.html&quot; target=
 &quot;_blank&quot; rel=&quot;noopener&quot;&gt;@ieee.org Google account (link to sign up)&lt;/a&gt;.&lt;/p
 &gt;\n&lt;p&gt;&lt;span class=&quot;ng-tns-c71-27&quot;&gt;Location for this event is virtual.&amp;nbsp
 \; Meeting link and call-in information will be emailed one hour before th
 e event.&lt;br /&gt;&lt;/span&gt;&lt;/p&gt;\n&lt;hr /&gt;\n&lt;h2&gt;New to IEEE Pittsburgh?&lt;/h2&gt;\n&lt;p&gt;&lt;s
 pan class=&quot;ng-tns-c71-27&quot;&gt;&lt;span id=&quot;tabEventDetails&quot; class=&quot;HALYaf XQINac 
 R21Rlc KKjvXb&quot; role=&quot;tabpanel&quot;&gt;For those new to the Pittsburgh Section Exe
 cutive and Administrative Meeting\, we welcome all IEEE members in the are
 a to attend! This is a standing meeting held on the 3rd Thursday of every 
 month. We review our upcoming activities relevant to engineers in our sect
 ion.&amp;nbsp\;&lt;br /&gt;&lt;/span&gt;&lt;/span&gt;&lt;/p&gt;\n&lt;p&gt;&lt;span class=&quot;ng-tns-c71-27&quot;&gt;&lt;span 
 id=&quot;tabEventDetails&quot; class=&quot;HALYaf XQINac R21Rlc KKjvXb&quot; role=&quot;tabpanel&quot;&gt;F
 eel free to use the report link above to ask any questions you may have\, 
 join us on Slack\, or read through our welcome guide for more information 
 about how you can get involved with IEEE Pittsburgh.&lt;/span&gt;&lt;/span&gt;&lt;/p&gt;\n&lt;p
 &gt;&lt;span class=&quot;ng-tns-c71-27&quot;&gt;&lt;span class=&quot;HALYaf XQINac R21Rlc KKjvXb&quot; rol
 e=&quot;tabpanel&quot;&gt;&lt;a title=&quot;IEEE Pittsburgh on Slack&quot; href=&quot;https://ieeepittsbu
 rgh.slack.com/&quot; target=&quot;_blank&quot; rel=&quot;noopener&quot;&gt;Join us on Slack!&lt;/a&gt;&lt;/span
 &gt;&lt;/span&gt;&lt;/p&gt;\n&lt;p&gt;&lt;span class=&quot;ng-tns-c71-27&quot;&gt;&lt;span id=&quot;tabEventDetails&quot; cl
 ass=&quot;HALYaf XQINac R21Rlc KKjvXb&quot; role=&quot;tabpanel&quot;&gt;&lt;a href=&quot;https://docs.go
 ogle.com/document/d/1lyWneXlANAQAiJN2p6Bi9kAatooxIQ-YzlGpWRmRGBw/edit?usp=
 sharing&quot;&gt;Link to Welcome to IEEE Pittsburgh Guide&lt;/a&gt;&lt;/span&gt;&lt;/span&gt;&lt;/p&gt;\n&lt;
 p&gt;&lt;a title=&quot;Find out more about IEEE Pittsburgh!&quot; href=&quot;https://webinabox.
 vtools.ieee.org/wibp_calendar/index/R20037&quot; target=&quot;_blank&quot; rel=&quot;noopener&quot;
 &gt;More #ieeepgh Events&lt;/a&gt;&lt;/p&gt;&lt;br /&gt;&lt;br /&gt;Agenda: &lt;br /&gt;&lt;p&gt;First 30 minutes
  of the event are reserved for socializing.&amp;nbsp\; The meeting portion sta
 rts at 7 pm (eastern time zone).&lt;/p&gt;\n&lt;p&gt;The meeting agenda will be emaile
 d on Monday the week of the event for early registrants.&lt;/p&gt;\n&lt;p&gt;&amp;nbsp\;&lt;/
 p&gt;\n&lt;p&gt;Prior to the meeting\, a lecture will be held in AERB room 120 (det
 ails of the lecture below). This will take place from 5:00-6:00\, and afte
 rwards we will migrate to room 256 for the meeting.&lt;/p&gt;
END:VEVENT
END:VCALENDAR

