BEGIN:VCALENDAR
VERSION:2.0
PRODID:IEEE vTools.Events//EN
CALSCALE:GREGORIAN
BEGIN:VTIMEZONE
TZID:Europe/Istanbul
BEGIN:DAYLIGHT
DTSTART:20380119T061407
TZOFFSETFROM:+0300
TZOFFSETTO:+0300
RRULE:FREQ=YEARLY;BYDAY=3TU;BYMONTH=1
TZNAME:+03
END:DAYLIGHT
BEGIN:STANDARD
DTSTART:20160907T000000
TZOFFSETFROM:+0300
TZOFFSETTO:+0300
RRULE:FREQ=YEARLY;BYDAY=1WE;BYMONTH=9
TZNAME:+03
END:STANDARD
END:VTIMEZONE
BEGIN:VEVENT
DTSTAMP:20231008T130108Z
UID:52B7F244-CF9E-4D2B-83BD-7F293E59727D
DTSTART;TZID=Europe/Istanbul:20231005T173000
DTEND;TZID=Europe/Istanbul:20231005T200000
DESCRIPTION:Html/css training program: basics of web development are covere
 d through 3 weeks and this is the last and third session of Introduction t
 o Web Development Training Programme.\n\nAnkara\, Ankara\, Türkiye
LOCATION:Ankara\, Ankara\, Türkiye
ORGANIZER:iremcansubilgin@ieee.org
SEQUENCE:10
SUMMARY:IEEE Bilkent HTML/CSS Training : 3
URL;VALUE=URI:https://events.vtools.ieee.org/m/377124
X-ALT-DESC:Description: &lt;br /&gt;&lt;p&gt;Html/css training program: basics of web d
 evelopment are covered through 3 weeks and this is the last and third sess
 ion of Introduction to Web Development Training Programme.&lt;/p&gt;
END:VEVENT
END:VCALENDAR

