BEGIN:VCALENDAR
VERSION:2.0
PRODID:IEEE vTools.Events//EN
CALSCALE:GREGORIAN
BEGIN:VTIMEZONE
TZID:America/Chicago
BEGIN:DAYLIGHT
DTSTART:20240310T030000
TZOFFSETFROM:-0600
TZOFFSETTO:-0500
RRULE:FREQ=YEARLY;BYDAY=2SU;BYMONTH=3
TZNAME:CDT
END:DAYLIGHT
BEGIN:STANDARD
DTSTART:20231105T010000
TZOFFSETFROM:-0500
TZOFFSETTO:-0600
RRULE:FREQ=YEARLY;BYDAY=1SU;BYMONTH=11
TZNAME:CST
END:STANDARD
END:VTIMEZONE
BEGIN:VEVENT
DTSTAMP:20231114T220708Z
UID:A1CF9EE1-4744-4E0A-8CE2-F2200B2FBA5C
DTSTART;TZID=America/Chicago:20231107T180000
DTEND;TZID=America/Chicago:20231107T200000
DESCRIPTION:Stephen will be presenting world’s first 72kV Pole Top reclos
 er\, Viper®-HV​\, an industry first from the leader in recloser technol
 ogy. G&amp;W Electric’s new Viper-HV high-voltage pole top recloser provides
  an additional zone of overcurrent protection for isolation of faults on o
 verhead sub-transmission lines. Uniquely designed as a self-contained syst
 em featuring three-in-one capabilities of a recloser\, CTs\, and voltage s
 ensors\, the Viper-HV provides utilities better functionality on a pole wi
 thout the cost of a substation.​ The presentation will focus on applicat
 ions uses for the Viper-HV.\nViper-HV Demo unit display in parking area\n\
 nSpeaker(s): Stephen Linn\, \n\nAgenda: \n6:00 pm Viper-HV Demo unit displ
 ay in parking area\n\n6:30 pm Dinner catered By High Voltage BBQ in Room C
 EC 231\n\n7:00 pm Presentation by Stephen Linn\n\nRoom: CEC 231\, Barbara 
 Weitz Community Engagement Center\,  6400 South\, University Drive Road No
 rth\, Omaha\, Nebraska\, United States\, 68182
LOCATION:Room: CEC 231\, Barbara Weitz Community Engagement Center\,  6400 
 South\, University Drive Road North\, Omaha\, Nebraska\, United States\, 6
 8182
ORGANIZER:b.j.lehman@ieee.org
SEQUENCE:15
SUMMARY:Nebraska IEEE High Voltage Recloser Viper-HV
URL;VALUE=URI:https://events.vtools.ieee.org/m/377149
X-ALT-DESC:Description: &lt;br /&gt;&lt;p&gt;Stephen will be presenting world&amp;rsquo\;s 
 first 72kV Pole Top recloser\, Viper&amp;reg\;-HV​\, an industry first from 
 the leader in recloser technology. G&amp;amp\;W Electric&amp;rsquo\;s new Viper-HV
  high-voltage pole top recloser provides an additional zone of overcurrent
  protection for isolation of faults on overhead sub-transmission lines. Un
 iquely designed as a self-contained system featuring three-in-one capabili
 ties of a recloser\, CTs\, and voltage sensors\, the Viper-HV provides uti
 lities better functionality on a pole without the cost of a substation.​
  The presentation will focus on applications uses for the Viper-HV.&amp;nbsp\;
 &lt;br /&gt;Viper-HV Demo unit display in parking area&lt;/p&gt;&lt;br /&gt;&lt;br /&gt;Agenda: &lt;b
 r /&gt;&lt;p&gt;6:00 pm Viper-HV Demo unit display in parking area&lt;/p&gt;\n&lt;p&gt;6:30 pm 
 Dinner catered By High Voltage BBQ in Room CEC 231&lt;/p&gt;\n&lt;p&gt;7:00 pm Present
 ation by Stephen Linn&lt;/p&gt;
END:VEVENT
END:VCALENDAR

