BEGIN:VCALENDAR
VERSION:2.0
PRODID:IEEE vTools.Events//EN
CALSCALE:GREGORIAN
BEGIN:VTIMEZONE
TZID:America/New_York
BEGIN:DAYLIGHT
DTSTART:20230312T030000
TZOFFSETFROM:-0500
TZOFFSETTO:-0400
RRULE:FREQ=YEARLY;BYDAY=2SU;BYMONTH=3
TZNAME:EDT
END:DAYLIGHT
BEGIN:STANDARD
DTSTART:20231105T010000
TZOFFSETFROM:-0400
TZOFFSETTO:-0500
RRULE:FREQ=YEARLY;BYDAY=1SU;BYMONTH=11
TZNAME:EST
END:STANDARD
END:VTIMEZONE
BEGIN:VEVENT
DTSTAMP:20231031T160852Z
UID:701DE2B3-607B-4246-A327-0C09535DD2AF
DTSTART;TZID=America/New_York:20231024T163000
DTEND;TZID=America/New_York:20231024T173000
DESCRIPTION:The Montreal Chapter of the IEEE Signal Processing Society\, in
  collaboration with STARaCom\, cordially invites you to attend the followi
 ng talk to be given (in presence) at McGill University by Prof. Yunlong Ca
 i\, from Zhejiang University (Hangzhou\, China).\n\nSpeaker(s): Prof. Yunl
 ong Cai\n\nRoom: 603\, Bldg: McConnell Engineering\, 3480 University\, Mon
 treal\, Quebec\, Canada\, H3A 0E9
LOCATION:Room: 603\, Bldg: McConnell Engineering\, 3480 University\, Montre
 al\, Quebec\, Canada\, H3A 0E9
ORGANIZER:benoit.champagne@mcgill.ca
SEQUENCE:24
SUMMARY:Learning and Optimization for Next-Generation MIMO Communications 
URL;VALUE=URI:https://events.vtools.ieee.org/m/377211
X-ALT-DESC:Description: &lt;br /&gt;&lt;p&gt;The &lt;strong&gt;Montreal Chapter of the IEEE S
 ignal Processing Society&lt;/strong&gt;\, in collaboration with STARaCom\, cordi
 ally invites you to attend the following talk to be given (in presence) at
  McGill University by&lt;strong&gt; Prof. Yunlong Cai&lt;/strong&gt;\, from Zhejiang U
 niversity (Hangzhou\, China).&lt;/p&gt;
END:VEVENT
END:VCALENDAR

