BEGIN:VCALENDAR
VERSION:2.0
PRODID:IEEE vTools.Events//EN
CALSCALE:GREGORIAN
BEGIN:VTIMEZONE
TZID:Australia/Sydney
BEGIN:DAYLIGHT
DTSTART:20231001T030000
TZOFFSETFROM:+1000
TZOFFSETTO:+1100
RRULE:FREQ=YEARLY;BYDAY=1SU;BYMONTH=10
TZNAME:AEDT
END:DAYLIGHT
BEGIN:STANDARD
DTSTART:20240407T020000
TZOFFSETFROM:+1100
TZOFFSETTO:+1000
RRULE:FREQ=YEARLY;BYDAY=1SU;BYMONTH=4
TZNAME:AEST
END:STANDARD
END:VTIMEZONE
BEGIN:VEVENT
DTSTAMP:20231117T003548Z
UID:5FE49DAA-E333-41AD-9782-793BFE67F5C0
DTSTART;TZID=Australia/Sydney:20231114T123000
DTEND;TZID=Australia/Sydney:20231114T150000
DESCRIPTION:[Photo]\n\nYou are invited to join other members at Spicy Joint
  restaurant\, Chinatown for lunch. at 1230hrs on Tuesday 14 November.\n\nT
 he entrance to the restaurant is up a flight of stairs at the SW corner of
  Goulburn and Dixon Sts.\n\nThese are casual and informal events. An oppor
 tunity to discuss engineering and unrelated topics.\n\nTake it as an oppor
 tunity to get out\, enjoy the company and the food. As usual it is pay for
  yourself.\nPlease note that it is a cash only payment.\n\nThe Section is 
 making these lunches a regular event. There are a number of people who tak
 e this opportunity to see the sights of Sydney using public transport.\n\n
 The lunches are every two weeks subject to suitable venues being found. Pl
 ease let me know if you have a suitable venue in your area. There are some
  being arranged outside the Sydney metro area. The day of the week is flex
 ible\, even weekends are possible. Your thoughts and assistance in plannin
 g would be welcomed.\n\nThe next lunch (28 November) will be at the Club T
 hirroul.\n\nHope to see you at Spicy Joint or one of our future luncheons.
 \n\nAgenda: \n\n\n25-29 Dixon St\, Haymarket\, New South Wales\, Australia
 \, 2000
LOCATION:25-29 Dixon St\, Haymarket\, New South Wales\, Australia\, 2000
ORGANIZER:Talbingo@optusnet.com.au
SEQUENCE:29
SUMMARY:LMAG Luncheon - Tuesday 14 November - Spicy Joint\, Chinatown
URL;VALUE=URI:https://events.vtools.ieee.org/m/377423
X-ALT-DESC:Description: &lt;br /&gt;&lt;p&gt;&lt;img class=&quot;m7eMIc aQg20b&quot; style=&quot;touch-ac
 tion: auto\; user-select: none\;&quot; src=&quot;https://lh3.googleusercontent.com/p
 /AF1QipMd0LW5cgp61-9SO_ndyQAVZOLoy0YDMabwLkku=s680-w680-h510&quot; alt=&quot;Photo&quot; 
 data-ils=&quot;3&quot; /&gt;&lt;/p&gt;\n&lt;p&gt;You are invited to join other members at Spicy Joi
 nt restaurant\, Chinatown for lunch. at 1230hrs on Tuesday 14 November.&lt;/p
 &gt;\n&lt;p&gt;The entrance to the restaurant is up a flight of stairs at the SW co
 rner of Goulburn and Dixon Sts.&lt;/p&gt;\n&lt;p&gt;These are casual and informal even
 ts. An opportunity to discuss engineering and unrelated topics.&lt;/p&gt;\n&lt;p&gt;Ta
 ke it as an opportunity to get out\, enjoy the company and the food. As us
 ual it is pay for yourself. &lt;br /&gt;Please note that it is a &lt;strong&gt;cash on
 ly&lt;/strong&gt; payment.&lt;/p&gt;\n&lt;p&gt;The Section is making these lunches a regular
  event. There are a number of people who take this opportunity to see the 
 sights of Sydney using public transport.&lt;/p&gt;\n&lt;p&gt;The lunches are every two
  weeks subject to suitable venues being found. Please let me know if you h
 ave a suitable venue in your area. There are some being arranged outside t
 he Sydney metro area. The day of the week is flexible\, even weekends are 
 possible. Your thoughts and assistance in planning would be welcomed.&lt;/p&gt;\
 n&lt;p&gt;The next lunch (28 November) will be at the Club Thirroul.&lt;/p&gt;\n&lt;p&gt;Hop
 e to see you at Spicy Joint or one of our future luncheons.&lt;/p&gt;&lt;br /&gt;&lt;br /
 &gt;Agenda: &lt;br /&gt;&lt;p&gt;&lt;span style=&quot;font-size: 18pt\;&quot;&gt;&amp;nbsp\;&lt;/span&gt;&lt;/p&gt;\n&lt;p&gt;&amp;
 nbsp\;&lt;/p&gt;\n&lt;p&gt;&lt;span style=&quot;font-size: 18pt\;&quot;&gt;&lt;span dir=&quot;ltr&quot; style=&quot;left
 : 65.24%\; top: 48.84%\; font-size: calc(var(--scale-factor)*14.40px)\; fo
 nt-family: monospace\; transform: scaleX(0.998596)\;&quot; role=&quot;presentation&quot;&gt;
 &amp;nbsp\;&lt;/span&gt;&lt;/span&gt;&lt;/p&gt;
END:VEVENT
END:VCALENDAR

