BEGIN:VCALENDAR
VERSION:2.0
PRODID:IEEE vTools.Events//EN
CALSCALE:GREGORIAN
BEGIN:VTIMEZONE
TZID:America/New_York
BEGIN:DAYLIGHT
DTSTART:20240310T030000
TZOFFSETFROM:-0500
TZOFFSETTO:-0400
RRULE:FREQ=YEARLY;BYDAY=2SU;BYMONTH=3
TZNAME:EDT
END:DAYLIGHT
BEGIN:STANDARD
DTSTART:20231105T010000
TZOFFSETFROM:-0400
TZOFFSETTO:-0500
RRULE:FREQ=YEARLY;BYDAY=1SU;BYMONTH=11
TZNAME:EST
END:STANDARD
END:VTIMEZONE
BEGIN:VEVENT
DTSTAMP:20231114T141200Z
UID:2AEA69C9-A10D-4523-8F5A-ECBEA43A5F82
DTSTART;TZID=America/New_York:20231111T103000
DTEND;TZID=America/New_York:20231111T120000
DESCRIPTION:The secret of success in our careers can be summarized in one w
 ord - balance. This includes balancing the development of technical and no
 n-technical skills. Two of the most important non-technical skills are pro
 ject management and communication. This workshop will focus on common sens
 e\, proven methods of developing and applying professional skills to signi
 ficantly increase career success. It includes a brief self-evaluation exer
 cise to help you be more effective as a member of project and other teams 
 in future career opportunities. The workshop will be conducted by an IEEE 
 National Speaker\, Jim Watson\, PE.\n\nSpeaker(s): Jim Watson\n\nAgenda: \
 nRegistration\, Networking and Welcome (30 minutes)\n\nCommunication Conne
 ction (20 minutes)\n\nOne-page self-evaluation exercise (10-15 minutes)\n\
 nProject management (20 minutes)\n\nRoom: Basement Conference Room\, 6050 
 Oak Tree Boulevard\, Checkpoint Surgical\, Independence\, Ohio\, United St
 ates\, 44131
LOCATION:Room: Basement Conference Room\, 6050 Oak Tree Boulevard\, Checkpo
 int Surgical\, Independence\, Ohio\, United States\, 44131
ORGANIZER:wenbing@ieee.org
SEQUENCE:24
SUMMARY:The Secret of Success - By Jim Watson\, IEEE National Speaker
URL;VALUE=URI:https://events.vtools.ieee.org/m/377614
X-ALT-DESC:Description: &lt;br /&gt;&lt;p&gt;The secret of success in our careers can b
 e summarized in one word - balance. &amp;nbsp\; This includes balancing the de
 velopment of technical and non-technical skills. Two of the most important
  non-technical skills are project management and communication. &amp;nbsp\;Thi
 s workshop will focus on common sense\, proven methods of developing and a
 pplying professional skills to significantly increase career success. It i
 ncludes a brief self-evaluation exercise to help you be more effective as 
 a member of project and other teams in future career opportunities. The wo
 rkshop will be conducted by an IEEE National Speaker\, Jim Watson\, PE.&amp;nb
 sp\;&lt;/p&gt;&lt;br /&gt;&lt;br /&gt;Agenda: &lt;br /&gt;&lt;p&gt;Registration\, Networking and Welcome
  (30 minutes)&lt;/p&gt;\n&lt;p&gt;Communication Connection (20 minutes)&lt;/p&gt;\n&lt;p&gt;One-pa
 ge self-evaluation exercise (10-15 minutes)&lt;/p&gt;\n&lt;p&gt;Project management (20
  minutes)&lt;/p&gt;
END:VEVENT
END:VCALENDAR

