BEGIN:VCALENDAR
VERSION:2.0
PRODID:IEEE vTools.Events//EN
CALSCALE:GREGORIAN
BEGIN:VTIMEZONE
TZID:Asia/Riyadh
BEGIN:DAYLIGHT
DTSTART:20380119T061407
TZOFFSETFROM:+0300
TZOFFSETTO:+0300
RRULE:FREQ=YEARLY;BYDAY=3TU;BYMONTH=1
TZNAME:+03
END:DAYLIGHT
BEGIN:STANDARD
DTSTART:19470313T235308
TZOFFSETFROM:+0306
TZOFFSETTO:+0300
RRULE:FREQ=YEARLY;BYDAY=2TH;BYMONTH=3
TZNAME:+03
END:STANDARD
END:VTIMEZONE
BEGIN:VEVENT
DTSTAMP:20231008T213538Z
UID:1A34FB13-2F2F-4877-AEF2-D054C5A46C59
DTSTART;TZID=Asia/Riyadh:20231005T200000
DTEND;TZID=Asia/Riyadh:20231005T213000
DESCRIPTION:- This meeting was for the Router Biometric Authentication proj
 ect. We continued our progress by searching for a way to connect the devic
 es and finding the best way to apply this project. At the end of the meeti
 ng\, we agreed to study the Arduino code.\n\nVirtual: https://events.vtool
 s.ieee.org/m/377628
LOCATION:Virtual: https://events.vtools.ieee.org/m/377628
ORGANIZER:ieeebau21@gmail.com
SEQUENCE:8
SUMMARY:IEEE BAU CS (Router Project)
URL;VALUE=URI:https://events.vtools.ieee.org/m/377628
X-ALT-DESC:Description: &lt;br /&gt;&lt;ul&gt;\n&lt;li&gt;This meeting was for the Router Bio
 metric Authentication project.&amp;nbsp\;We continued our progress by searchin
 g for a way to connect the devices and finding the best way to apply this 
 project. At the end of the meeting\, we agreed to study the Arduino code.&lt;
 /li&gt;\n&lt;/ul&gt;
END:VEVENT
END:VCALENDAR

