BEGIN:VCALENDAR
VERSION:2.0
PRODID:IEEE vTools.Events//EN
CALSCALE:GREGORIAN
BEGIN:VTIMEZONE
TZID:Asia/Dhaka
BEGIN:DAYLIGHT
DTSTART:20380119T091407
TZOFFSETFROM:+0600
TZOFFSETTO:+0600
RRULE:FREQ=YEARLY;BYDAY=3TU;BYMONTH=1
TZNAME:+06
END:DAYLIGHT
BEGIN:STANDARD
DTSTART:20091231T230000
TZOFFSETFROM:+0700
TZOFFSETTO:+0600
RRULE:FREQ=YEARLY;BYDAY=-1TH;BYMONTH=12
TZNAME:+06
END:STANDARD
END:VTIMEZONE
BEGIN:VEVENT
DTSTAMP:20231010T151657Z
UID:9E1BB408-E388-4524-AD05-E11888665869
DTSTART;TZID=Asia/Dhaka:20231007T123000
DTEND;TZID=Asia/Dhaka:20231007T133000
DESCRIPTION:IEEE Day 2023 Celebration organized by IEEE PUST Student Branch
 \nSearching innovators!\nJoin our IEEE PUST Student Branch&#39;s Idea Competit
 ion and help pave the way to a smarter Bangladesh. Share your groundbreaki
 ng ideas on &#39;How to Build Smart Bangladesh.&#39; Let your creativity shine and
  be part of the change!\n\nRules:\n1. Teams consist of two members each.\n
 2. Participants must be students of any department at PUST.\n3. Your visio
 n for a smarter Bangladesh should fit on a single presentation slide.\n\nR
 egistration Fee:\nIEEE members: 50 Tk\nNon-IEEE members: 100 Tk\n\nPrizes:
 \n1. Each Champion team member will receive a Certificate\, Crest\, and a 
 Special Gift.\n2. Each Runner Up team member will receive a Certificate\, 
 Crest\, and IEEE Pen &amp; Web Camera Protector\n3. All participants will rece
 ive a Certificate.\n\nAgenda: \nIdea Competition(How to Build Smart Bangla
 desh)\n\nRoom: Virtual Conference Room\, Library Building\, Bldg: Library 
 Building\, Pabna University of Science and Technology\, Pabna University o
 f Science and Technology\, Pabna\, Rajshahi\, Bangladesh\, 6600
LOCATION:Room: Virtual Conference Room\, Library Building\, Bldg: Library B
 uilding\, Pabna University of Science and Technology\, Pabna University of
  Science and Technology\, Pabna\, Rajshahi\, Bangladesh\, 6600
ORGANIZER:omarfaruk.eee.pust@gmail.com
SEQUENCE:62
SUMMARY:Idea Competition
URL;VALUE=URI:https://events.vtools.ieee.org/m/377669
X-ALT-DESC:Description: &lt;br /&gt;&lt;p&gt;IEEE Day 2023 Celebration organized by IEE
 E PUST Student Branch&lt;br /&gt;Searching innovators!&lt;br /&gt;Join our IEEE PUST S
 tudent Branch&#39;s Idea Competition and help pave the way to a smarter Bangla
 desh. Share your groundbreaking ideas on &#39;How to Build Smart Bangladesh.&#39; 
 Let your creativity shine and be part of the change!&lt;br /&gt;&lt;br /&gt;Rules:&lt;br 
 /&gt;1. Teams consist of two members each.&lt;br /&gt;2. Participants must be stude
 nts of any department at PUST.&lt;br /&gt;3. Your vision for a smarter Banglades
 h should fit on a single presentation slide.&lt;br /&gt;&lt;br /&gt;Registration Fee:&lt;
 br /&gt;IEEE members: 50 Tk&lt;br /&gt;Non-IEEE members: 100 Tk&lt;br /&gt;&lt;br /&gt;Prizes:&lt;
 br /&gt;1. Each Champion team member will receive a Certificate\, Crest\, and
  a Special Gift.&lt;br /&gt;2. Each Runner Up team member will receive a Certifi
 cate\, Crest\, and IEEE Pen &amp;amp\; Web Camera Protector&lt;br /&gt;3. All partic
 ipants will receive a Certificate.&lt;/p&gt;&lt;br /&gt;&lt;br /&gt;Agenda: &lt;br /&gt;&lt;p&gt;Idea Co
 mpetition(How to Build Smart Bangladesh)&lt;/p&gt;
END:VEVENT
END:VCALENDAR

