BEGIN:VCALENDAR
VERSION:2.0
PRODID:IEEE vTools.Events//EN
CALSCALE:GREGORIAN
BEGIN:VTIMEZONE
TZID:Asia/Kolkata
BEGIN:STANDARD
DTSTART:19451014T230000
TZOFFSETFROM:+0630
TZOFFSETTO:+0530
TZNAME:IST
END:STANDARD
END:VTIMEZONE
BEGIN:VEVENT
DTSTAMP:20231013T100647Z
UID:86002BE2-9BF7-40DC-A969-70BE77DB4023
DTSTART;TZID=Asia/Kolkata:20231012T180000
DTEND;TZID=Asia/Kolkata:20231012T190000
DESCRIPTION:Embarking on a journey towards a Ph.D. is a monumental achievem
 ent\, but it&#39;s only the beginning of a remarkable career. This talk is des
 igned to guide Ph.D. graduates through the myriad of opportunities that aw
 ait them after earning their doctoral degree. In this engaging and informa
 tive presentation\, we will explore the diverse avenues available to Ph.D.
  holders\, from academia and industry to entrepreneurship and beyond. We w
 ill delve into strategies for effectively transitioning from academia to o
 ther sectors\, leveraging unique skills and expertise\, and crafting a ful
 filling and impactful career path. Whether you&#39;re considering different ca
 reer options\, seeking guidance on post-Ph.D. job searches\, or aiming to 
 make the most of your doctoral experience\, this talk will provide valuabl
 e insights\, actionable advice\, and inspiration to help you chart your co
 urse towards a successful and fulfilling post-Ph.D. future.\n\nSpeaker(s):
   Dr. Ayan Mondal\, \n\nVirtual: https://events.vtools.ieee.org/m/377691
LOCATION:Virtual: https://events.vtools.ieee.org/m/377691
ORGANIZER:ieee.sps.sb.iitkgp@gmail.com
SEQUENCE:14
SUMMARY:IEEE SPS SBC Webinar: Navigating the Post-Ph.D. Landscape: Unlockin
 g Opportunities for Success (By Dr. Ayan Mondal)
URL;VALUE=URI:https://events.vtools.ieee.org/m/377691
X-ALT-DESC:Description: &lt;br /&gt;&lt;p&gt;&lt;span style=&quot;font-weight: 400\;&quot;&gt;&amp;nbsp\;Em
 barking on a journey towards a Ph.D. is a monumental achievement\, but it&#39;
 s only the beginning of a remarkable career. This talk is designed to guid
 e Ph.D. graduates through the myriad of opportunities that await them afte
 r earning their doctoral degree. In this engaging and informative presenta
 tion\, we will explore the diverse avenues available to Ph.D. holders\, fr
 om academia and industry to entrepreneurship and beyond. We will delve int
 o strategies for effectively transitioning from academia to other sectors\
 , leveraging unique skills and expertise\, and crafting a fulfilling and i
 mpactful career path. Whether you&#39;re considering different career options\
 , seeking guidance on post-Ph.D. job searches\, or aiming to make the most
  of your doctoral experience\, this talk will provide valuable insights\, 
 actionable advice\, and inspiration to help you chart your course towards 
 a successful and fulfilling post-Ph.D. future.&lt;/span&gt;&lt;/p&gt;
END:VEVENT
END:VCALENDAR

