BEGIN:VCALENDAR
VERSION:2.0
PRODID:IEEE vTools.Events//EN
CALSCALE:GREGORIAN
BEGIN:VTIMEZONE
TZID:America/New_York
BEGIN:DAYLIGHT
DTSTART:20240310T030000
TZOFFSETFROM:-0500
TZOFFSETTO:-0400
RRULE:FREQ=YEARLY;BYDAY=2SU;BYMONTH=3
TZNAME:EDT
END:DAYLIGHT
BEGIN:STANDARD
DTSTART:20231105T010000
TZOFFSETFROM:-0400
TZOFFSETTO:-0500
RRULE:FREQ=YEARLY;BYDAY=1SU;BYMONTH=11
TZNAME:EST
END:STANDARD
END:VTIMEZONE
BEGIN:VEVENT
DTSTAMP:20231202T145328Z
UID:31ADE5A1-D998-4850-B4CF-EA3D101BD669
DTSTART;TZID=America/New_York:20231129T173000
DTEND;TZID=America/New_York:20231129T193000
DESCRIPTION:Have you considered raising your membership grade to senior mem
 ber? Come and find out more about IEEE senior member level\, other members
 hip levels and possibilities for growth. Learn about the elevation applica
 tion process. Network with senior members who can provide references for y
 our application. Meet our students who will be part of the event and will 
 be learning about professional careers. Whether you want to mentor profess
 ionals or students\, or are looking for next step in your career come to t
 he IEEE PACE (Professional Activities Committee for Engineers) event. All 
 are welcomed.\n\nAgenda: \n1 – Arrival 5:30. Light dinner (pizza) is ser
 ved.\n\n2 – Introduction and presentation 5:40\n\n3 – Small group inte
 rviews 6:00.\n\n4 – Raffle 7:00\n\n5 - Wrap up 7:15\n\nRoom: 204 A/B\, B
 ldg: SETA IDE Engineering Building\, 2500 North River Rd.\, Manchester\, N
 ew Hampshire\, United States\, 03106
LOCATION:Room: 204 A/B\, Bldg: SETA IDE Engineering Building\, 2500 North R
 iver Rd.\, Manchester\, New Hampshire\, United States\, 03106
ORGANIZER:bbancroft@ieee.org
SEQUENCE:28
SUMMARY:IEEE NH Member Elevation and Networking Event - In Person
URL;VALUE=URI:https://events.vtools.ieee.org/m/377721
X-ALT-DESC:Description: &lt;br /&gt;&lt;p&gt;Have you considered raising your membershi
 p grade to senior member? Come and find out more about IEEE senior member 
 level\, other membership levels and possibilities for growth.&amp;nbsp\; Learn
  about the elevation application process.&amp;nbsp\; Network with senior membe
 rs who can provide references for your application.&amp;nbsp\; Meet our studen
 ts who will be part of the event and will be learning about professional c
 areers.&amp;nbsp\; Whether you want to mentor professionals or students\, or a
 re looking for next step in your career come to the IEEE PACE (Professiona
 l Activities Committee for Engineers) event. All are welcomed.&lt;/p&gt;&lt;br /&gt;&lt;b
 r /&gt;Agenda: &lt;br /&gt;&lt;p&gt;1 &amp;ndash\; Arrival 5:30. Light dinner (pizza) is serv
 ed.&lt;/p&gt;\n&lt;p&gt;2 &amp;ndash\; Introduction and presentation 5:40&lt;/p&gt;\n&lt;p&gt;3 &amp;ndash
 \; Small group interviews 6:00.&lt;/p&gt;\n&lt;p&gt;4 &amp;ndash\; Raffle 7:00&lt;/p&gt;\n&lt;p&gt;5 -
  Wrap up 7:15&lt;/p&gt;
END:VEVENT
END:VCALENDAR

