BEGIN:VCALENDAR
VERSION:2.0
PRODID:IEEE vTools.Events//EN
CALSCALE:GREGORIAN
BEGIN:VTIMEZONE
TZID:America/Guatemala
BEGIN:STANDARD
DTSTART:20060930T230000
TZOFFSETFROM:-0500
TZOFFSETTO:-0600
TZNAME:CST
END:STANDARD
END:VTIMEZONE
BEGIN:VEVENT
DTSTAMP:20231009T175421Z
UID:DB1AAE44-EF21-4265-95F3-651CC774A578
DTSTART;TZID=America/Guatemala:20230902T080000
DTEND;TZID=America/Guatemala:20230902T120000
DESCRIPTION:Participación de CS UDB en una charla sobre Asociacionismo gre
 mial y universitario durante el Open House UDB Campus Soyapango.\n\nSoyapa
 ngo\, San Salvador\, El Salvador
LOCATION:Soyapango\, San Salvador\, El Salvador
ORGANIZER:fg.montano@ieee.org
SEQUENCE:7
SUMMARY:Asociacionismo Universitario- Open House UDB Soyapango
URL;VALUE=URI:https://events.vtools.ieee.org/m/377762
X-ALT-DESC:Description: &lt;br /&gt;&lt;p&gt;Participaci&amp;oacute\;n de CS UDB en una cha
 rla sobre Asociacionismo gremial y universitario durante el Open House UDB
  Campus Soyapango.&lt;/p&gt;
END:VEVENT
END:VCALENDAR

