BEGIN:VCALENDAR
VERSION:2.0
PRODID:IEEE vTools.Events//EN
CALSCALE:GREGORIAN
BEGIN:VTIMEZONE
TZID:Asia/Dhaka
BEGIN:DAYLIGHT
DTSTART:20380119T091407
TZOFFSETFROM:+0600
TZOFFSETTO:+0600
RRULE:FREQ=YEARLY;BYDAY=3TU;BYMONTH=1
TZNAME:+06
END:DAYLIGHT
BEGIN:STANDARD
DTSTART:20091231T230000
TZOFFSETFROM:+0700
TZOFFSETTO:+0600
RRULE:FREQ=YEARLY;BYDAY=-1TH;BYMONTH=12
TZNAME:+06
END:STANDARD
END:VTIMEZONE
BEGIN:VEVENT
DTSTAMP:20231014T190426Z
UID:0FC0A2DC-2343-458E-97AB-AEF4AEF38E2B
DTSTART;TZID=Asia/Dhaka:20231014T190000
DTEND;TZID=Asia/Dhaka:20231014T210000
DESCRIPTION:On 14th October\, 2023 (Saturday)\, IEEE Bangladesh Section and
  IEEE WIE Affinity Group Bangladesh Section successfully jointly organized
  an event to celebrate IEEE DAY 2023 on an online platform. Four speakers 
 from different fields shared their knowledge and research work.\n\nMohamme
 d Shafi K from System Software Engineer\, Intel Corporation\, Folsom\, Cal
 ifornia - USA delivered a keynote talk on latest developments and trends i
 n the Automotive\, as well as advancements in X86 platforms\; Dr. Smita Ni
 rkhi of Associate professor and Head of Artificial Intelligence department
 \, G H Raisoni Institute of Engineering and Technology- India presented Ev
 aluation of Classifiers for detection of Authorship Attribution in her key
 note talk\; Dr Ford Lumban Gaol\, Professor &amp; Head Department of Doctor Co
 mputer Science\, Bina Nusantara University\, Indonesia delivered a keynote
  address on the Artificial Intelligence and Education Sector: The influenc
 e and Trend and Dr. Syed Tanweer Shah Bukhari delivered a keynote talk on 
 Cognitive Approach to Hierarchical Task Selection for Human-Robot Interact
 ion in Dynamic Environments.\n\nThe event was moderated by IEEE Bangladesh
  Section Chair Professor Moshiul Hoque. Dr. Shaikh Anowarul Fattah\, Profe
 ssor\, Dept. of EEE\, BUET and Dr. Muhammad Amjad Iqbal\, Dean FOITCS\, Un
 iversity of Central Punjab Lahore\, Pakistan attended the event and shared
  their knowledge. IEEE Bangladesh Section Vice Chair (Activity) Dr. Raju A
 hmed\; IEEE Bangladesh Section and IEEE WIE AG BDS Treasurer Anamika Bakha
 t\; IEEE Bangladesh Section Awards Coordinator Md. Maniruzzaman and Public
 ity Coordinator Engr Shohel Rana along with various countries (USA\, India
 \, Indonesia\, Pakistan and Bangladesh) professors\, students and industry
  experts were also present at the event. Around 40 participants attended t
 he event.\n\nWe sincerely thank the Chairs of IEEE Bangladesh Section and 
 IEEE WIE Affinity Group Bangladesh Section\; Researchers\, Participants an
 d volunteers for making the event a success. Special thanks to Prof. Celia
  Shahnaz\, Professor\, Dept. of EEE\, BUET and chair of IEEE Women in Engi
 neering for guiding us to make the event a success.\n\nSpeaker(s): Mohamme
 d Shafi K\, Dr.Smita Nirkhi \, Dr Ford Lumban Gaol\, Dr. Syed Tanweer Shah
  Bukhari\n\nVirtual: https://events.vtools.ieee.org/m/377914
LOCATION:Virtual: https://events.vtools.ieee.org/m/377914
ORGANIZER:moshiul_240@cuet.ac.bd
SEQUENCE:12
SUMMARY:Celebration of IEEE DAY 2023
URL;VALUE=URI:https://events.vtools.ieee.org/m/377914
X-ALT-DESC:Description: &lt;br /&gt;&lt;p&gt;On 14th October\, 2023 (Saturday)\, IEEE B
 angladesh Section and IEEE WIE Affinity Group Bangladesh Section successfu
 lly jointly organized an event to celebrate IEEE DAY 2023 on an online pla
 tform. Four speakers from different fields shared their knowledge and rese
 arch work.&lt;/p&gt;\n&lt;p&gt;Mohammed Shafi K from System Software Engineer\, Intel 
 Corporation\, Folsom\, California - USA delivered a keynote talk on latest
  developments and trends in the Automotive\, as well as advancements in X8
 6 platforms\; Dr. Smita Nirkhi of Associate professor and Head of Artifici
 al Intelligence department\, G H Raisoni Institute of Engineering and Tech
 nology- India presented Evaluation of Classifiers for detection of Authors
 hip Attribution in her keynote talk\; Dr Ford Lumban Gaol\, Professor &amp;amp
 \; Head Department of Doctor Computer Science\, Bina Nusantara University\
 , Indonesia delivered a keynote address on the Artificial Intelligence and
  Education Sector: The influence and Trend and Dr. Syed Tanweer Shah Bukha
 ri delivered a keynote talk on Cognitive Approach to Hierarchical Task Sel
 ection for Human-Robot Interaction in Dynamic Environments.&lt;/p&gt;\n&lt;p&gt;The ev
 ent was moderated by IEEE Bangladesh Section Chair Professor Moshiul Hoque
 . Dr. Shaikh Anowarul Fattah\, Professor\, Dept. of EEE\, BUET and Dr. Muh
 ammad Amjad Iqbal\, Dean FOITCS\, University of Central Punjab Lahore\, Pa
 kistan attended the event and shared their knowledge. IEEE Bangladesh Sect
 ion Vice Chair (Activity) Dr. Raju Ahmed\; IEEE Bangladesh Section and IEE
 E WIE AG BDS Treasurer Anamika Bakhat\; IEEE Bangladesh Section Awards Coo
 rdinator Md. Maniruzzaman and Publicity Coordinator Engr Shohel Rana along
  with various countries (USA\, India\, Indonesia\, Pakistan and Bangladesh
 ) professors\, students and industry experts were also present at the even
 t. Around 40 participants attended the event.&lt;/p&gt;\n&lt;p&gt;We sincerely thank t
 he Chairs of IEEE Bangladesh Section and IEEE WIE Affinity Group Banglades
 h Section\; Researchers\, Participants and volunteers for making the event
  a success. Special thanks to Prof. Celia Shahnaz\, Professor\, Dept. of E
 EE\, BUET and chair of IEEE Women in Engineering for guiding us to make th
 e event a success.&lt;/p&gt;
END:VEVENT
END:VCALENDAR

