BEGIN:VCALENDAR
VERSION:2.0
PRODID:IEEE vTools.Events//EN
CALSCALE:GREGORIAN
BEGIN:VTIMEZONE
TZID:America/Lima
BEGIN:DAYLIGHT
DTSTART:20380118T221407
TZOFFSETFROM:-0500
TZOFFSETTO:-0500
RRULE:FREQ=YEARLY;BYDAY=3MO;BYMONTH=1
TZNAME:-05
END:DAYLIGHT
BEGIN:STANDARD
DTSTART:19940331T230000
TZOFFSETFROM:-0400
TZOFFSETTO:-0500
RRULE:FREQ=YEARLY;BYDAY=-1TH;BYMONTH=3
TZNAME:-05
END:STANDARD
END:VTIMEZONE
BEGIN:VEVENT
DTSTAMP:20231016T232333Z
UID:3C4A64B0-AB8D-4FA4-901E-DC8F7CCEBC40
DTSTART;TZID=America/Lima:20231011T170000
DTEND;TZID=America/Lima:20231011T180000
DESCRIPTION:Conferencias Internacionales EMBS: Webinars sobre los últimos 
 avances en Ingeniería Biomédica\n\nExpanding the capabilities of magneto
 tactic bacteria - Potenciando las bacterias magnetotácticas para posibles
  aplicaciones biomédicas\n\nPhD.PaulSoto\n\nCo-sponsored by: WEBINAR EMBS
  SECCIÓN ECUADOR OCTUBRE 11\n\nVirtual: https://events.vtools.ieee.org/m/
 377968
LOCATION:Virtual: https://events.vtools.ieee.org/m/377968
ORGANIZER:leonel.vasquezc@ieee.org
SEQUENCE:14
SUMMARY:Expanding the capabilities of magnetotactic bacteria - Potenciando 
 las bacterias magnetotácticas para posibles aplicaciones biomédicas
URL;VALUE=URI:https://events.vtools.ieee.org/m/377968
X-ALT-DESC:Description: &lt;br /&gt;&lt;p&gt;Conferencias Internacionales EMBS: Webinar
 s sobre los &amp;uacute\;ltimos avances en Ingenier&amp;iacute\;a Biom&amp;eacute\;dic
 a&lt;/p&gt;\n&lt;p&gt;Expanding the capabilities of magnetotactic bacteria - Potencian
 do las bacterias magnetot&amp;aacute\;cticas para posibles aplicaciones biom&amp;e
 acute\;dicas&lt;/p&gt;\n&lt;p&gt;PhD.PaulSoto&lt;/p&gt;
END:VEVENT
END:VCALENDAR

