BEGIN:VCALENDAR
VERSION:2.0
PRODID:IEEE vTools.Events//EN
CALSCALE:GREGORIAN
BEGIN:VTIMEZONE
TZID:Asia/Kolkata
BEGIN:STANDARD
DTSTART:19451014T230000
TZOFFSETFROM:+0630
TZOFFSETTO:+0530
TZNAME:IST
END:STANDARD
END:VTIMEZONE
BEGIN:VEVENT
DTSTAMP:20231030T070040Z
UID:0D0904B5-250A-4BB4-83C1-DE18901D2ACB
DTSTART;TZID=Asia/Kolkata:20231013T133000
DTEND;TZID=Asia/Kolkata:20231013T160000
DESCRIPTION:IEEE CIS/WIE HYD Section in association with CIS/WIE Chapters\,
  will conduct a Epic Edits - Unleash Your Imagination Program. The D.Jayan
 arayana Reddy and Dr.Syeda Jeelani Basri was the moderator for this event.
  The teams or participants have to create a message oriented video which s
 hould be of 2-3 minutes of time. Each team may consist of 4 or 5 Students 
 as per their choice. Exciting prizes will be given to the winners.\n\nThe 
 contest was inaugurated by esteemed advisors for the CIS and WIE chapters\
 , Mr. D. Jayanarayana Reddy and Mrs. Syeda Jeelani Basri\, who also served
  as moderators for the event. It was a positive atmosphere at the venue wi
 th all the participants. It was a wonderful speech delivered by Mr. D. Jay
 anarayana Reddy\, the esteemed advisor to the CIS Chapter. The esteemed ad
 visor for WIE Chapter\, Mrs. Dr. Syeda Jeelani Basri\, then addressed the 
 students with a motivational speech. A total of 37 teams took part in this
  event\, and it was a great success. Both society advisors were involved i
 n the judging process for the student video competition held during the ev
 ent. We were really blown away by some of the videos. As part of the judgi
 ng process\, the videos are rated based on three factors: the message pres
 ented in the video\, the duration of the video\, and the presence of parti
 cipants within it. During the presentation of the video\, the judges assig
 ned marks to each video based on the feedback from the judges\, while all 
 participants were watching the video at the same time.\n\nUpon the complet
 ion of the evaluation\, gifts were distributed to all participants. We inv
 ited Dr. M.Srilakshmi who was the esteemed advisor of CS Chapter and the H
 OD of CSE Department to award the prizes to the winners. The winners have 
 been announced by one of the volunteers. The prizes have been distributed 
 by Dr. M.Srilakshmi\, Mr. D. Jayanarayana Reddy\, and Mrs. Dr. Syeda Jeela
 ni Basri to all the winners. As part of the contest\, a virtual photo sess
 ion was organized at the end of the contest\, and the event was concluded 
 with D. Jayanarayana Reddy congratulating all the winners and the particip
 ants\, and the student volunteers for their dedicated efforts and cooperat
 ion in making the contest a success.\n\nThis event is organised on the occ
 asion of IEEE DAY 2023\, BY IEEE GPCET CS SBC along with IEEE GPCET SB.\n\
 nAgenda: \nS. No\n\nTimings\n\nAgenda Description\n\n1\n\n01:30 PM\n\nWelc
 oming all the dignitaries in the hall.\n\n2\n\n01:35 PM – 01:40 PM\n\nCa
 lling Up dignitaries to the Dias\n\n1. D. Jayanarayana Reddy\n\n2. Dr. Sye
 da Jeelani Basri\n\n3\n\n01:40 PM – 01:50 PM\n\nD.Jayanarayana Reddy and
  Dr.Syeda Jeelani Basri Address the students\n\n4\n\n01:50 PM – 03:30 PM
 \n\nEvaluation of each video in front of students\n\n5\n\n03-30 PM – 03:
 50 PM\n\nDistribution of prizes to the winners\n\n6\n\n03:50 PM – 04:00 
 PM\n\nPhoto Session\n\nBldg: Block-2\, Seminar Hall\, GPCET\, Kurnool\, An
 dhra Pradesh\, India\, 518452
LOCATION:Bldg: Block-2\, Seminar Hall\, GPCET\, Kurnool\, Andhra Pradesh\, 
 India\, 518452
ORGANIZER:ieee@gpcet.ac.in
SEQUENCE:70
SUMMARY:Epic Edits - Unleash Your Imagination
URL;VALUE=URI:https://events.vtools.ieee.org/m/378232
X-ALT-DESC:Description: &lt;br /&gt;&lt;p&gt;IEEE CIS/WIE HYD Section in association wi
 th CIS/WIE Chapters\, will conduct a Epic Edits -&amp;nbsp\; Unleash Your Imag
 ination Program. The D.Jayanarayana Reddy and Dr.Syeda Jeelani Basri was t
 he moderator for this event. The teams or participants have to create a me
 ssage oriented video which should be of 2-3 minutes of time. Each team may
  consist of 4 or 5 Students as per their choice. Exciting prizes will be g
 iven to the winners.&lt;/p&gt;\n&lt;p class=&quot;pb-2&quot;&gt;The contest was inaugurated by e
 steemed advisors for the CIS and WIE chapters\, Mr. D. Jayanarayana Reddy 
 and Mrs. Syeda Jeelani Basri\, who also served as moderators for the event
 . It was a positive atmosphere at the venue with all the participants. It 
 was a wonderful speech delivered by Mr. D. Jayanarayana Reddy\, the esteem
 ed advisor to the CIS Chapter. The esteemed advisor for WIE Chapter\, Mrs.
  Dr. Syeda Jeelani Basri\, then addressed the students with a motivational
  speech. A total of 37 teams took part in this event\, and it was a great 
 success. Both society advisors were involved in the judging process for th
 e student video competition held during the event. We were really blown aw
 ay by some of the videos. As part of the judging process\, the videos are 
 rated based on three factors: the message presented in the video\, the dur
 ation of the video\, and the presence of participants within it. During th
 e presentation of the video\, the judges assigned marks to each video base
 d on the feedback from the judges\, while all participants were watching t
 he video at the same time.&lt;/p&gt;\n&lt;p class=&quot;pb-2&quot; style=&quot;text-indent: 1.5in\
 ;&quot;&gt;Upon the completion of the evaluation\, gifts were distributed to all p
 articipants. We invited Dr. M.Srilakshmi who was the esteemed advisor of C
 S Chapter and the HOD of CSE Department to award the prizes to the winners
 . The winners have been announced by one of the volunteers. The prizes hav
 e been distributed by Dr. M.Srilakshmi\, Mr. D. Jayanarayana Reddy\, and M
 rs. Dr. Syeda Jeelani Basri to all the winners. As part of the contest\, a
  virtual photo session was organized at the end of the contest\, and the e
 vent was concluded with D. Jayanarayana Reddy congratulating all the winne
 rs and the participants\, and the student volunteers for their dedicated e
 fforts and cooperation in making the contest a success.&lt;/p&gt;\n&lt;p class=&quot;pb-
 2&quot; style=&quot;text-indent: 1.5in\;&quot;&gt;This event is organised on the occasion of
  IEEE DAY 2023\, BY IEEE GPCET CS SBC along with IEEE GPCET SB.&lt;/p&gt;&lt;br /&gt;&lt;
 br /&gt;Agenda: &lt;br /&gt;&lt;table width=&quot;0&quot;&gt;\n&lt;tbody&gt;\n&lt;tr&gt;\n&lt;td width=&quot;69&quot;&gt;\n&lt;p&gt;&amp;
 nbsp\;&lt;/p&gt;\n&lt;p&gt;S. No&lt;/p&gt;\n&lt;/td&gt;\n&lt;td width=&quot;189&quot;&gt;\n&lt;p&gt;&amp;nbsp\;&lt;/p&gt;\n&lt;p&gt;Timi
 ngs&lt;/p&gt;\n&lt;/td&gt;\n&lt;td width=&quot;307&quot;&gt;\n&lt;p&gt;&amp;nbsp\;&lt;/p&gt;\n&lt;p&gt;Agenda&amp;nbsp\; Descrip
 tion&lt;/p&gt;\n&lt;/td&gt;\n&lt;/tr&gt;\n&lt;tr&gt;\n&lt;td width=&quot;69&quot;&gt;\n&lt;p&gt;1&lt;/p&gt;\n&lt;/td&gt;\n&lt;td width=
 &quot;189&quot;&gt;\n&lt;p&gt;01:30 PM&lt;/p&gt;\n&lt;/td&gt;\n&lt;td width=&quot;307&quot;&gt;\n&lt;p&gt;Welcoming all the dig
 nitaries in the hall.&lt;/p&gt;\n&lt;/td&gt;\n&lt;/tr&gt;\n&lt;tr&gt;\n&lt;td width=&quot;69&quot;&gt;\n&lt;p&gt;2&lt;/p&gt;\n
 &lt;/td&gt;\n&lt;td width=&quot;189&quot;&gt;\n&lt;p&gt;01:35 PM &amp;ndash\; 01:40 PM&lt;/p&gt;\n&lt;/td&gt;\n&lt;td wid
 th=&quot;307&quot;&gt;\n&lt;p&gt;Calling Up dignitaries to the Dias&lt;/p&gt;\n&lt;p&gt;1. D. Jayanarayan
 a Reddy&lt;/p&gt;\n&lt;p&gt;2. Dr. Syeda Jeelani Basri&lt;/p&gt;\n&lt;/td&gt;\n&lt;/tr&gt;\n&lt;tr&gt;\n&lt;td wi
 dth=&quot;69&quot;&gt;\n&lt;p&gt;3&lt;/p&gt;\n&lt;/td&gt;\n&lt;td width=&quot;189&quot;&gt;\n&lt;p&gt;01:40 PM &amp;ndash\; 01:50 P
 M&lt;/p&gt;\n&lt;/td&gt;\n&lt;td width=&quot;307&quot;&gt;\n&lt;p&gt;D.Jayanarayana Reddy and Dr.Syeda Jeela
 ni Basri Address the students&lt;/p&gt;\n&lt;/td&gt;\n&lt;/tr&gt;\n&lt;tr&gt;\n&lt;td width=&quot;69&quot;&gt;\n&lt;p
 &gt;4&lt;/p&gt;\n&lt;/td&gt;\n&lt;td width=&quot;189&quot;&gt;\n&lt;p&gt;01:50 PM &amp;ndash\; 03:30 PM&lt;/p&gt;\n&lt;/td&gt;\
 n&lt;td width=&quot;307&quot;&gt;\n&lt;p&gt;Evaluation of each video in front of students&lt;/p&gt;\n&lt;
 /td&gt;\n&lt;/tr&gt;\n&lt;tr&gt;\n&lt;td width=&quot;69&quot;&gt;\n&lt;p&gt;5&lt;/p&gt;\n&lt;/td&gt;\n&lt;td width=&quot;189&quot;&gt;\n&lt;p&gt;
 03-30 PM &amp;ndash\; 03:50 PM&lt;/p&gt;\n&lt;/td&gt;\n&lt;td width=&quot;307&quot;&gt;\n&lt;p&gt;Distribution o
 f prizes to the winners&lt;/p&gt;\n&lt;/td&gt;\n&lt;/tr&gt;\n&lt;tr&gt;\n&lt;td width=&quot;69&quot;&gt;\n&lt;p&gt;6&lt;/p&gt;
 \n&lt;/td&gt;\n&lt;td width=&quot;189&quot;&gt;\n&lt;p&gt;03:50 PM &amp;ndash\; 04:00 PM&lt;/p&gt;\n&lt;/td&gt;\n&lt;td w
 idth=&quot;307&quot;&gt;\n&lt;p&gt;Photo Session&lt;/p&gt;\n&lt;/td&gt;\n&lt;/tr&gt;\n&lt;/tbody&gt;\n&lt;/table&gt;
END:VEVENT
END:VCALENDAR

