BEGIN:VCALENDAR
VERSION:2.0
PRODID:IEEE vTools.Events//EN
CALSCALE:GREGORIAN
BEGIN:VTIMEZONE
TZID:America/Los_Angeles
BEGIN:DAYLIGHT
DTSTART:20240310T030000
TZOFFSETFROM:-0800
TZOFFSETTO:-0700
RRULE:FREQ=YEARLY;BYDAY=2SU;BYMONTH=3
TZNAME:PDT
END:DAYLIGHT
BEGIN:STANDARD
DTSTART:20231105T010000
TZOFFSETFROM:-0700
TZOFFSETTO:-0800
RRULE:FREQ=YEARLY;BYDAY=1SU;BYMONTH=11
TZNAME:PST
END:STANDARD
END:VTIMEZONE
BEGIN:VEVENT
DTSTAMP:20231116T034551Z
UID:08537707-1770-46BA-BA26-2B4030905E5D
DTSTART;TZID=America/Los_Angeles:20231115T120000
DTEND;TZID=America/Los_Angeles:20231115T130000
DESCRIPTION:Join us for a session on smart Cities Boston. What makes Boston
  one of the Smartest Cities? Smart Transportation\, Smart Mobility\, Smart
  health are only a few top areas Boston excels in. Find out from natives w
 hy Boston is so unique. Don&#39;t miss out. Sign up today.\n\nCo-sponsored by:
  IEEE Power and Energy Society\n\nAgenda: \n12:00 pm IEEE Announcements\n1
 2:02 pm Announcement of the Speaker\n12:04 pm Presentation\n12:45 pm Q&amp;A\n
 \nVirtual: https://events.vtools.ieee.org/m/378373
LOCATION:Virtual: https://events.vtools.ieee.org/m/378373
ORGANIZER:mike.brisbois@ieee.org
SEQUENCE:21
SUMMARY:IEEE CN Smart Cities Boston
URL;VALUE=URI:https://events.vtools.ieee.org/m/378373
X-ALT-DESC:Description: &lt;br /&gt;&lt;p&gt;Join us for a session on smart Cities Bost
 on. What makes Boston one of the Smartest Cities? Smart Transportation\, S
 mart Mobility\, Smart health are only a few top areas Boston excels in. Fi
 nd out from natives why Boston is so unique. Don&#39;t miss out. Sign up today
 .&lt;/p&gt;&lt;br /&gt;&lt;br /&gt;Agenda: &lt;br /&gt;&lt;p&gt;12:00 pm IEEE Announcements&lt;br /&gt;12:02 p
 m Announcement of the Speaker&lt;br /&gt;12:04 pm Presentation&lt;br /&gt;12:45 pm Q&amp;a
 mp\;A&lt;/p&gt;
END:VEVENT
END:VCALENDAR

