BEGIN:VCALENDAR
VERSION:2.0
PRODID:IEEE vTools.Events//EN
CALSCALE:GREGORIAN
BEGIN:VTIMEZONE
TZID:America/Lima
BEGIN:DAYLIGHT
DTSTART:20380118T221407
TZOFFSETFROM:-0500
TZOFFSETTO:-0500
RRULE:FREQ=YEARLY;BYDAY=3MO;BYMONTH=1
TZNAME:-05
END:DAYLIGHT
BEGIN:STANDARD
DTSTART:19940331T230000
TZOFFSETFROM:-0400
TZOFFSETTO:-0500
RRULE:FREQ=YEARLY;BYDAY=-1TH;BYMONTH=3
TZNAME:-05
END:STANDARD
END:VTIMEZONE
BEGIN:VEVENT
DTSTAMP:20240102T024256Z
UID:76036895-842E-4552-AE2A-66A7C01F2AC7
DTSTART;TZID=America/Lima:20231003T160000
DTEND;TZID=America/Lima:20231012T180000
DESCRIPTION:BE COOL\, BE INSPIRED\, BE IEEE\n\nHoy hace 139 años\, los ing
 enieros eléctricos y electronicos se reunieron por primera vez para forma
 r la sociedad técnico-profesional más grande y prestigiosa del mundo\, e
 n donde se dedicaron a divulgar y promover avances científicos.\n\nPara q
 uienes realizamos voluntariado dentro de esta prestigiosa Rama Estudiantil
 \, estamos muy felices de festejar junto a ustedes un aniversario más y e
 stamos gustosos de que formes parte de esta hermosa familia en la UPS Cuen
 ca.\n\nSer IEEE\, es ser cool y hacerse notar.\n\nCalle Vieja 12-30\, Elia
 n Liut\, Cuenca\, Azuay\, Ecuador\, 010105
LOCATION:Calle Vieja 12-30\, Elian Liut\, Cuenca\, Azuay\, Ecuador\, 010105
ORGANIZER:ieeecuenca@ups.edu.ec
SEQUENCE:17
SUMMARY:BE COOL\, BE INSPIRED\, BE IEEE 
URL;VALUE=URI:https://events.vtools.ieee.org/m/378421
X-ALT-DESC:Description: &lt;br /&gt;&lt;p&gt;BE COOL\, BE INSPIRED\, BE IEEE&lt;/p&gt;\n&lt;p&gt;Ho
 y hace 139 a&amp;ntilde\;os\, los ingenieros el&amp;eacute\;ctricos y electronicos
  se reunieron por primera vez para formar la sociedad t&amp;eacute\;cnico-prof
 esional m&amp;aacute\;s grande y prestigiosa del mundo\, en donde se dedicaron
  a divulgar y promover avances cient&amp;iacute\;ficos.&lt;/p&gt;\n&lt;p&gt;&lt;br /&gt;Para qui
 enes realizamos voluntariado dentro de esta prestigiosa Rama Estudiantil\,
  estamos muy felices de festejar junto a ustedes un aniversario m&amp;aacute\;
 s y estamos gustosos de que formes parte de esta hermosa familia en la UPS
  Cuenca.&lt;/p&gt;\n&lt;p&gt;Ser IEEE\, es ser cool y hacerse notar.&lt;/p&gt;
END:VEVENT
END:VCALENDAR

