BEGIN:VCALENDAR
VERSION:2.0
PRODID:IEEE vTools.Events//EN
CALSCALE:GREGORIAN
BEGIN:VTIMEZONE
TZID:America/New_York
BEGIN:DAYLIGHT
DTSTART:20230312T030000
TZOFFSETFROM:-0500
TZOFFSETTO:-0400
RRULE:FREQ=YEARLY;BYDAY=2SU;BYMONTH=3
TZNAME:EDT
END:DAYLIGHT
BEGIN:STANDARD
DTSTART:20231105T010000
TZOFFSETFROM:-0400
TZOFFSETTO:-0500
RRULE:FREQ=YEARLY;BYDAY=1SU;BYMONTH=11
TZNAME:EST
END:STANDARD
END:VTIMEZONE
BEGIN:VEVENT
DTSTAMP:20231108T210105Z
UID:1121FF32-A4BB-4FA5-834B-8AB624117CB7
DTSTART;TZID=America/New_York:20231101T180000
DTEND;TZID=America/New_York:20231101T203000
DESCRIPTION:The IEEE EMC Boston Chapter is pleased to announce a November 1
 st meeting / technical presentation:\n\nEMI Testing on Space Systems – J
 ens Medler\, Rohde &amp; Schwarz\n\nHosted at:\n\n[TÜV Rheinland North Americ
 a\, Technology and Innovation Center](https://go.tuv.com/technology-and-in
 novation-center-boxborough-ma)\n\nSponsored by [Rohde &amp; Schwarz](https://w
 ww.rohde-schwarz.com/us/home_48230.html)\n\nThe technical presentation wil
 l commence at 7:00PM following a social hour at 6:00 PM. Food is provided.
 \n\nCo-sponsored by: Rohde &amp; Schwarz\n\nSpeaker(s): Jens Medler \n\nAgenda
 : \n6:00 pm Registration/check-in\, complimentary food and refreshments\n\
 n6:45 pm Welcome from TÜV Rheinland North America and IEEE EMC Boston Cha
 pter\n\n7:00 pm Presentation by Jens Medler\, Rohde &amp; Schwarz\n\n8:00 pm O
 ptional tour of the new (almost finished) TUV facility\n\n400 Beaver Brook
  Road\, Boxborough\, Massachusetts\, United States
LOCATION:400 Beaver Brook Road\, Boxborough\, Massachusetts\, United States
ORGANIZER:patrick.deroy@ieee.org
SEQUENCE:28
SUMMARY:IEEE EMC Boston Chapter Meeting - EMI Testing on Space Systems 
URL;VALUE=URI:https://events.vtools.ieee.org/m/378535
X-ALT-DESC:Description: &lt;br /&gt;&lt;p&gt;&lt;strong&gt;&lt;em&gt;The IEEE EMC Boston Chapter is
  pleased to announce a November 1st meeting / technical presentation:&lt;/em&gt;
 &lt;/strong&gt;&lt;/p&gt;\n&lt;p&gt;&lt;strong&gt;&lt;u&gt;EMI Testing on Space Systems &amp;ndash\; Jens Me
 dler\, Rohde &amp;amp\; Schwarz&lt;/u&gt;&lt;/strong&gt;&lt;/p&gt;\n&lt;p&gt;&lt;strong&gt;&lt;em&gt;Hosted at:&lt;/e
 m&gt;&lt;/strong&gt;&lt;/p&gt;\n&lt;p&gt;&lt;strong&gt;&lt;a href=&quot;https://go.tuv.com/technology-and-inn
 ovation-center-boxborough-ma&quot;&gt;T&amp;Uuml\;V Rheinland North America\, Technolo
 gy and Innovation Center&lt;/a&gt;&lt;/strong&gt;&lt;/p&gt;\n&lt;p&gt;&lt;strong&gt;Sponsored by &lt;u&gt;&lt;a h
 ref=&quot;https://www.rohde-schwarz.com/us/home_48230.html&quot;&gt;Rohde &amp;amp\; Schwar
 z&lt;/a&gt;&lt;/u&gt; &lt;/strong&gt;&lt;/p&gt;\n&lt;p&gt;&amp;nbsp\;&lt;/p&gt;\n&lt;p&gt;&lt;strong&gt;The technical presenta
 tion will commence at 7:00PM following a social&amp;nbsp\;&lt;/strong&gt;&lt;strong&gt;hou
 r at 6:00 PM. Food is provided. &lt;/strong&gt;&lt;/p&gt;&lt;br /&gt;&lt;br /&gt;Agenda: &lt;br /&gt;&lt;p&gt;
 6:00 pm&amp;nbsp\;&amp;nbsp\;&amp;nbsp\;&amp;nbsp\;&amp;nbsp\;&amp;nbsp\;&amp;nbsp\;&amp;nbsp\;&amp;nbsp\;&amp;nbs
 p\;&amp;nbsp\;&amp;nbsp\;&amp;nbsp\;&amp;nbsp\;Registration/check-in\, complimentary food 
 and refreshments&amp;nbsp\;&lt;/p&gt;\n&lt;p&gt;6:45 pm&amp;nbsp\;&amp;nbsp\;&amp;nbsp\;&amp;nbsp\;&amp;nbsp\;
 &amp;nbsp\;&amp;nbsp\;&amp;nbsp\;&amp;nbsp\;&amp;nbsp\;&amp;nbsp\;&amp;nbsp\;&amp;nbsp\;&amp;nbsp\;Welcome fro
 m T&amp;Uuml\;V Rheinland North America and IEEE EMC Boston Chapter&lt;/p&gt;\n&lt;p&gt;7:
 00 pm&amp;nbsp\;&amp;nbsp\;&amp;nbsp\;&amp;nbsp\;&amp;nbsp\;&amp;nbsp\;&amp;nbsp\;&amp;nbsp\;&amp;nbsp\;&amp;nbsp\
 ;&amp;nbsp\;&amp;nbsp\;&amp;nbsp\;&amp;nbsp\;Presentation by Jens Medler\, Rohde &amp;amp\; Sc
 hwarz&amp;nbsp\;&lt;/p&gt;\n&lt;p&gt;8:00 pm&amp;nbsp\;&amp;nbsp\;&amp;nbsp\;&amp;nbsp\;&amp;nbsp\;&amp;nbsp\;&amp;nbs
 p\;&amp;nbsp\;&amp;nbsp\;&amp;nbsp\;&amp;nbsp\;&amp;nbsp\;&amp;nbsp\; Optional tour of the new (al
 most finished) TUV facility&lt;/p&gt;
END:VEVENT
END:VCALENDAR

