BEGIN:VCALENDAR
VERSION:2.0
PRODID:IEEE vTools.Events//EN
CALSCALE:GREGORIAN
BEGIN:VTIMEZONE
TZID:Europe/Stockholm
BEGIN:DAYLIGHT
DTSTART:20240331T030000
TZOFFSETFROM:+0100
TZOFFSETTO:+0200
RRULE:FREQ=YEARLY;BYDAY=-1SU;BYMONTH=3
TZNAME:CEST
END:DAYLIGHT
BEGIN:STANDARD
DTSTART:20231029T020000
TZOFFSETFROM:+0200
TZOFFSETTO:+0100
RRULE:FREQ=YEARLY;BYDAY=-1SU;BYMONTH=10
TZNAME:CET
END:STANDARD
END:VTIMEZONE
BEGIN:VEVENT
DTSTAMP:20240314T164519Z
UID:61E9C2EE-9ADE-4F57-8CA3-7D56545F04B1
DTSTART;TZID=Europe/Stockholm:20231107T163000
DTEND;TZID=Europe/Stockholm:20231107T173000
DESCRIPTION:Sweden Affinity group - WiE.\n\nSpeaker(s): INDRA GANDHI V\n\nR
 oom: J 106\, Bldg: J building\, Gustavamelins gata 2\, Högskolan Väst\, 
 Trollhättan\, Vastra Gotalands lan\, Sweden\, 46132\, Virtual: https://ev
 ents.vtools.ieee.org/m/378536
LOCATION:Room: J 106\, Bldg: J building\, Gustavamelins gata 2\, Högskolan
  Väst\, Trollhättan\, Vastra Gotalands lan\, Sweden\, 46132\, Virtual: h
 ttps://events.vtools.ieee.org/m/378536
ORGANIZER:sudha.ramasamy@hv.se
SEQUENCE:31
SUMMARY:On Board Charger and DC-DC Converters for Electric Vehicle
URL;VALUE=URI:https://events.vtools.ieee.org/m/378536
X-ALT-DESC:Description: &lt;br /&gt;&lt;p&gt;Sweden Affinity group - WiE.&amp;nbsp\;&lt;/p&gt;
END:VEVENT
END:VCALENDAR

