BEGIN:VCALENDAR
VERSION:2.0
PRODID:IEEE vTools.Events//EN
CALSCALE:GREGORIAN
BEGIN:VEVENT
DTSTAMP:20231020T091907Z
UID:4079ACA2-01C3-463C-8F21-58D1F8E59034
DTSTART;TZID=Etc/UTC:20231011T160000
DTEND;TZID=Etc/UTC:20231011T180000
DESCRIPTION:On October 11th\, 2023\, the IEEE AESS ESPRIT Student Branch Ch
 apter hosted a captivating workshop on drone technologies at ESPRIT Amphi 
 block G as part of IEEE DAY. The event was moderated by Mr. Mehdi Bouzguen
 da\, a robotics enthusiast and drone pilot\, and Mr. Ahmed Aziz Ben Gandia
 \, Vice President of Aerobotix Insat\, an industrial chemistry engineering
  student passionate about aeronautics.\n\nParticipants actively engaged in
  the workshop\, experiencing firsthand the mechanics and capabilities of d
 rones. The walk-through covered various aspects\, from drone assembly to f
 light controls\, enhancing the understanding of both novice and experience
 d enthusiasts.\n\nhe IEEE DAY Drone Walk-Through Workshop was a resounding
  success\, leaving participants with a deeper appreciation for drone techn
 ologies and a sense of inspiration. The event encapsulated the essence of 
 innovation\, exploration\, and community engagement.\n\nCo-sponsored by: r
 aoua amami \n\nBldg: Bloc G \, ESPRIT \, Ariana \, tunisia \, Ariana\, Tun
 isia
LOCATION:Bldg: Bloc G \, ESPRIT \, Ariana \, tunisia \, Ariana\, Tunisia
ORGANIZER:esprit-club-ieeesb@esprit.tn
SEQUENCE:23
SUMMARY:AESS IEEE DAY : Drones walk-through workshop
URL;VALUE=URI:https://events.vtools.ieee.org/m/378624
X-ALT-DESC:Description: &lt;br /&gt;&lt;p&gt;On October 11th\, 2023\, the IEEE AESS ESP
 RIT Student Branch Chapter hosted a captivating workshop on drone technolo
 gies at ESPRIT Amphi block G as part of IEEE DAY. The event was moderated 
 by Mr. Mehdi Bouzguenda\, a robotics enthusiast and drone pilot\, and Mr. 
 Ahmed Aziz Ben Gandia\, Vice President of Aerobotix Insat\, an industrial 
 chemistry engineering student passionate about aeronautics.&lt;/p&gt;\n&lt;p&gt;Partic
 ipants actively engaged in the workshop\, experiencing firsthand the mecha
 nics and capabilities of drones. The walk-through covered various aspects\
 , from drone assembly to flight controls\, enhancing the understanding of 
 both novice and experienced enthusiasts.&lt;/p&gt;\n&lt;p&gt;he IEEE DAY Drone Walk-Th
 rough Workshop was a resounding success\, leaving participants with a deep
 er appreciation for drone technologies and a sense of inspiration. The eve
 nt encapsulated the essence of innovation\, exploration\, and community en
 gagement.&lt;/p&gt;
END:VEVENT
END:VCALENDAR

