BEGIN:VCALENDAR
VERSION:2.0
PRODID:IEEE vTools.Events//EN
CALSCALE:GREGORIAN
BEGIN:VTIMEZONE
TZID:Africa/Nairobi
BEGIN:STANDARD
DTSTART:19420801T001500
TZOFFSETFROM:+0245
TZOFFSETTO:+0300
TZNAME:EAT
END:STANDARD
END:VTIMEZONE
BEGIN:VEVENT
DTSTAMP:20240124T235647Z
UID:613F3B3F-1865-4654-9032-3D2709AC98E0
DTSTART;TZID=Africa/Nairobi:20231025T140000
DTEND;TZID=Africa/Nairobi:20231025T153000
DESCRIPTION:IEEE WIE UoN presents the first talk in our “Engineering Her 
 Legacy” series dubbed “Women in Business”. Are you interested in fou
 nding a STEM business or developing your project into a business? Come lea
 rn and network with leading women in STEM founders. Join us at the Univers
 ity of Nairobi Towers on Wednesday\, 25th October 2023 from 2pm to 3:30pm.
  Refreshments will be served.\n\nBldg: University of Nairobi Towers\, Nair
 obi\, Nairobi\, Kenya
LOCATION:Bldg: University of Nairobi Towers\, Nairobi\, Nairobi\, Kenya
ORGANIZER:ieee.uon.sb@students.uonbi.ac.ke
SEQUENCE:16
SUMMARY:Engineering Her Legacy: Women in Business
URL;VALUE=URI:https://events.vtools.ieee.org/m/378736
X-ALT-DESC:Description: &lt;br /&gt;&lt;p&gt;IEEE WIE UoN presents the first talk in ou
 r &amp;ldquo\;Engineering Her Legacy&amp;rdquo\; series dubbed &amp;ldquo\;Women in Bu
 siness&amp;rdquo\;. Are you interested in founding a STEM business or developi
 ng your project into a business? Come learn and network with leading women
  in STEM founders. Join us at the University of Nairobi Towers on Wednesda
 y\, 25th October 2023 from 2pm to 3:30pm. Refreshments will be served.&lt;/p&gt;
END:VEVENT
END:VCALENDAR

