BEGIN:VCALENDAR
VERSION:2.0
PRODID:IEEE vTools.Events//EN
CALSCALE:GREGORIAN
BEGIN:VTIMEZONE
TZID:Africa/Casablanca
BEGIN:DAYLIGHT
DTSTART:20230423T030000
TZOFFSETFROM:+0000
TZOFFSETTO:+0100
RRULE:FREQ=YEARLY;BYDAY=-1SU;BYMONTH=4
TZNAME:+01
END:DAYLIGHT
BEGIN:STANDARD
DTSTART:20240310T020000
TZOFFSETFROM:+0100
TZOFFSETTO:+0000
RRULE:FREQ=YEARLY;BYDAY=2SU;BYMONTH=3
TZNAME:+00
END:STANDARD
END:VTIMEZONE
BEGIN:VEVENT
DTSTAMP:20231014T155917Z
UID:2BC3C174-012C-4430-8500-0D55946FC165
DTSTART;TZID=Africa/Casablanca:20231007T140000
DTEND;TZID=Africa/Casablanca:20231008T140000
DESCRIPTION:IEEE DAY event promises to be a day captivating integration\, d
 esigned specifically for ENSAF students. Our main objective is to provide 
 a single platform where these students can not only meet their peers\, but
  also interact with fifth year students who will share their valuable acad
 emic and professional experience in IEEE. This meeting with elders who hav
 e traveled the path of the IEEE ENSAF Student Branch will allow them to ac
 quire valuable perspectives on their own journey academic and professional
 . We are determined to inspire and motivate our students to seek a profess
 ional environment and friendly to start their career in IEEE. This is why 
 everything throughout the day we will organize sessions interactive\, disc
 ussions and success stories which will highlight the benefits of involveme
 nt in the IEEE ENSAF Student Branch. By participating in our event\, ENSAF
  students will have the opportunity to explore the benefits of belonging t
 o this dynamic community\, to develop their skills and create valuable con
 nections for their future. We warmly welcome students to join this enrichi
 ng day\, where they will be able to broaden their horizons\, find inspirat
 ion and prepare to make their first steps in the professional world while 
 benefiting from the kind support of the IEEE ENSAF Student Branch.\n\nSpea
 ker(s): Mourad Mtouaa\, Nouha Slaoui\, Mohammed Drioueche\, Mohammed Ahbar
 i\, Asmae Rhiati\n\nAgenda: \n14:00 : Opening ceremony\n14:15 : The Chair
 ’s Word\n14:30 : Presentation of «IEEE ENSAF Student Branch»\n\n15:00 
 : 1st speaker-Mourad Mtouaa\n15:20 : 2nd speaker-Nouha Slaoui\n\n15:40 : 3
 rd speaker-Mohammed Drioueche\n\n15:50 : Break\n16:30 : 4th speaker- Moham
 med Ahbari\n16:50 : 5th speaker-Asmae Rhiati\n17:10 : Q&amp;A\n17:30 : Closing
  ceremony\n\nRoom: 0.5\, Bldg: main\, Ecole nationale des sciences appliqu
 ées-Fes\, Fes\, Fes-Boulemane\, Morocco
LOCATION:Room: 0.5\, Bldg: main\, Ecole nationale des sciences appliquées-
 Fes\, Fes\, Fes-Boulemane\, Morocco
ORGANIZER:ieeeensaf@gmail.com
SEQUENCE:11
SUMMARY:IEEE Day2023 - IEEE ENSAF Student Branch
URL;VALUE=URI:https://events.vtools.ieee.org/m/378738
X-ALT-DESC:Description: &lt;br /&gt;&lt;pre class=&quot;tw-data-text tw-text-large tw-ta&quot;
  dir=&quot;ltr&quot; data-placeholder=&quot;Traduction&quot; data-ved=&quot;2ahUKEwjt5PWAu_WBAxVCT6
 QEHbhyDDIQ3ewLegQIBhAQ&quot;&gt;&lt;span class=&quot;Y2IQFc&quot; lang=&quot;en&quot;&gt;IEEE DAY event prom
 ises to be a day\ncaptivating integration\, designed specifically for\nENS
 AF students. Our main objective is to\nprovide a single platform where the
 se students can\nnot only meet their peers\, but also interact\nwith fifth
  year students who will share\ntheir valuable academic and professional ex
 perience in IEEE.\nThis meeting with elders who have traveled the path\nof
  the IEEE ENSAF Student Branch will allow them to acquire\nvaluable perspe
 ctives on their own journey\nacademic and professional.&lt;/span&gt;&lt;/pre&gt;\n&lt;pre
  id=&quot;tw-target-text&quot; class=&quot;tw-data-text tw-text-large tw-ta&quot; dir=&quot;ltr&quot; da
 ta-placeholder=&quot;Traduction&quot; data-ved=&quot;2ahUKEwjt5PWAu_WBAxVCT6QEHbhyDDIQ3ew
 LegQIBhAQ&quot;&gt;&lt;span class=&quot;Y2IQFc&quot; lang=&quot;en&quot;&gt;We are determined to inspire and
  motivate our\nstudents to seek a professional environment and\nfriendly t
 o start their career in IEEE. This is why everything\nthroughout the day w
 e will organize sessions\ninteractive\, discussions and success stories\nw
 hich will highlight the benefits of involvement in\nthe IEEE ENSAF Student
  Branch. By participating in our\nevent\, ENSAF students will have\nthe op
 portunity to explore the benefits of belonging to\nthis dynamic community\
 , to develop their\nskills and create valuable connections for their futur
 e.\nWe warmly welcome students to join\nthis enriching day\, where they wi
 ll be able to broaden their\nhorizons\, find inspiration and prepare to ma
 ke their\nfirst steps in the professional world while\nbenefiting from the
  kind support of the IEEE ENSAF Student\nBranch.&lt;/span&gt;&lt;/pre&gt;\n&lt;pre id=&quot;tw
 -target-text&quot; class=&quot;tw-data-text tw-text-large tw-ta&quot; dir=&quot;ltr&quot; data-plac
 eholder=&quot;Traduction&quot; data-ved=&quot;2ahUKEwjt5PWAu_WBAxVCT6QEHbhyDDIQ3ewLegQIBh
 AQ&quot;&gt;&lt;/pre&gt;&lt;br /&gt;&lt;br /&gt;Agenda: &lt;br /&gt;&lt;p&gt;14:00 : Opening ceremony&lt;br /&gt;14:15
  : The Chair&amp;rsquo\;s Word &lt;br /&gt;14:30 : Presentation of &amp;laquo\;IEEE ENSA
 F Student Branch&amp;raquo\;&lt;/p&gt;\n&lt;p&gt;15:00 : 1st speaker-Mourad Mtouaa&lt;br /&gt;15
 :20 : 2nd speaker-Nouha Slaoui&lt;/p&gt;\n&lt;p&gt;15:40 : 3rd speaker-Mohammed Drioue
 che&lt;/p&gt;\n&lt;p&gt;15:50 : Break&lt;br /&gt;16:30 : 4th speaker- Mohammed Ahbari&lt;br /&gt;1
 6:50 : 5th speaker-Asmae Rhiati&lt;br /&gt;17:10 : Q&amp;amp\;A&lt;br /&gt;17:30 : Closing
  ceremony&lt;/p&gt;
END:VEVENT
END:VCALENDAR

