BEGIN:VCALENDAR
VERSION:2.0
PRODID:IEEE vTools.Events//EN
CALSCALE:GREGORIAN
BEGIN:VTIMEZONE
TZID:Europe/Paris
BEGIN:DAYLIGHT
DTSTART:20230326T030000
TZOFFSETFROM:+0100
TZOFFSETTO:+0200
RRULE:FREQ=YEARLY;BYDAY=-1SU;BYMONTH=3
TZNAME:CEST
END:DAYLIGHT
BEGIN:STANDARD
DTSTART:20231029T020000
TZOFFSETFROM:+0200
TZOFFSETTO:+0100
RRULE:FREQ=YEARLY;BYDAY=-1SU;BYMONTH=10
TZNAME:CET
END:STANDARD
END:VTIMEZONE
BEGIN:VEVENT
DTSTAMP:20231020T143648Z
UID:B75F252A-175D-4AFC-A834-2EB02B728C8A
DTSTART;TZID=Europe/Paris:20231007T050000
DTEND;TZID=Europe/Paris:20231007T080000
DESCRIPTION:To mark the celebration of IEEE DAY and to promote a stronger s
 ense of community among our members\, IEEE ENETCOM SB organized an engagin
 g team-building event held on . This lively gathering offered a valuable o
 pportunity for both our seasoned and newly joined members to forge connect
 ions.\n\nDuring this event\, participants had the chance to delve into one
  another&#39;s unique skills and interests\, fostering a deeper understanding 
 of the diverse talents within our community.\n\nThe program featured a ser
 ies of interactive group games that encouraged collaborative efforts and t
 eamwork. These games not only added an element of excitement to the event 
 but also reinforced the sense of togetherness and unity that we hold dear 
 within the IEEE community.\n\nKansas n 4 près steg\, Café fun time\, Rou
 te Manzel Chaker\, Sfax 3003\, sfax\, Sfax\, Tunisia\, 3079
LOCATION:Kansas n 4 près steg\, Café fun time\, Route Manzel Chaker\, Sfa
 x 3003\, sfax\, Sfax\, Tunisia\, 3079
ORGANIZER:masmoudy.oumayma@ieee.org
SEQUENCE:10
SUMMARY:Celebrating IEEE DAY with Camaraderie: The IEEE ENETCOM SB Team Bui
 lding Activity
URL;VALUE=URI:https://events.vtools.ieee.org/m/378905
X-ALT-DESC:Description: &lt;br /&gt;&lt;p&gt;&lt;span style=&quot;font-weight: 400\;&quot;&gt;To mark t
 he &lt;span style=&quot;color: #e67e23\;&quot;&gt;&lt;strong&gt;celebration of IEEE DAY&lt;/strong&gt;
 &lt;/span&gt; and to promote a stronger sense of &lt;strong&gt;community&lt;/strong&gt; amon
 g our members\, &lt;span style=&quot;color: #3598db\;&quot;&gt;&lt;strong&gt;IEEE ENETCOM SB&lt;/st
 rong&gt;&lt;/span&gt; organized an engaging&lt;strong&gt; team-building event&lt;/strong&gt; he
 ld on . This lively gathering offered a valuable opportunity for both our 
 seasoned and newly joined members to forge connections.&lt;/span&gt;&lt;/p&gt;\n&lt;p&gt;&lt;sp
 an style=&quot;font-weight: 400\;&quot;&gt;During this event\, participants had the cha
 nce to delve into one another&#39;s unique skills and interests\, fostering a 
 deeper understanding of the &lt;strong&gt;diverse talents within our community&lt;/
 strong&gt;.&lt;/span&gt;&lt;/p&gt;\n&lt;p&gt;&lt;span style=&quot;font-weight: 400\;&quot;&gt; The program feat
 ured a series of &lt;strong&gt;interactive group&lt;/strong&gt; games that encouraged 
 &lt;strong&gt;collaborative&lt;/strong&gt; efforts and teamwork. These games not only 
 added an element of &lt;strong&gt;excitement&lt;/strong&gt; to the event but also rein
 forced the &lt;strong&gt;sense of togetherness&lt;/strong&gt; and &lt;strong&gt;unity&lt;/stron
 g&gt; that we hold dear within the &lt;strong&gt;&lt;span style=&quot;color: #3598db\;&quot;&gt;IEE
 E community.&lt;/span&gt;&lt;/strong&gt;&lt;/span&gt;&lt;/p&gt;
END:VEVENT
END:VCALENDAR

