BEGIN:VCALENDAR
VERSION:2.0
PRODID:IEEE vTools.Events//EN
CALSCALE:GREGORIAN
BEGIN:VTIMEZONE
TZID:Africa/Algiers
BEGIN:STANDARD
DTSTART:19810501T010000
TZOFFSETFROM:+0000
TZOFFSETTO:+0100
TZNAME:CET
END:STANDARD
END:VTIMEZONE
BEGIN:VEVENT
DTSTAMP:20231018T180206Z
UID:8C203913-9A1E-4018-A222-869A05A14C1B
DTSTART;TZID=Africa/Algiers:20231011T130000
DTEND;TZID=Africa/Algiers:20231011T200000
DESCRIPTION:On Wednesday\, the 11th of October\, we celebrated IEEE Day\, e
 mbarking on a remarkable journey that brought together an array of captiva
 ting experiences. From exploring the scenic beauty of &quot;Les Jardin Fleuris\
 ,&quot; replete with a zoo\, to engaging in an enlightening technical session w
 ith Mr. Rayen Abed on &quot;BERT\,&quot; our day was marked by knowledge sharing and
  exploration. During our lunch break\, team-building activities forged new
  connections among the participants\, adding a delightful touch to the eve
 nt.\n\nChairwoman Rama Hemri illuminated us about the invaluable benefits 
 of IEEE membership\, while Dr. Abdelmajid Mselmi&#39;s discourse on AI in medi
 cine left a lasting impression. The day&#39;s festivities included a thrilling
  photo and video contest and a challenging escape room experience that tes
 ted our mettle. We concluded the day by acknowledging the winning team and
  capturing a final group photograph\, ensuring that the memories created w
 ould be cherished for years to come. In retrospect\, our IEEE Day was a ha
 rmonious blend of learning\, camaraderie\, and unforgettable moments.\n\nS
 peaker(s): Rayen Abed\, Rama Hemri\, Abdelmajid Mselmi\n\nAkouda\, Sousse\
 , Tunisia
LOCATION:Akouda\, Sousse\, Tunisia
ORGANIZER:sb.issatso@ieee.org
SEQUENCE:7
SUMMARY:IEEE Day 2023 ISSATSo Celebration
URL;VALUE=URI:https://events.vtools.ieee.org/m/379097
X-ALT-DESC:Description: &lt;br /&gt;&lt;div class=&quot;flex flex-grow flex-col gap-3 max
 -w-full&quot;&gt;\n&lt;div class=&quot;min-h-[20px] flex flex-col items-start gap-3 whites
 pace-pre-wrap break-words overflow-x-auto&quot;&gt;\n&lt;div class=&quot;markdown prose w-
 full break-words dark:prose-invert dark&quot;&gt;\n&lt;p&gt;On Wednesday\, the 11th of O
 ctober\, we celebrated IEEE Day\, embarking on a remarkable journey that b
 rought together an array of captivating experiences. From exploring the sc
 enic beauty of &quot;Les Jardin Fleuris\,&quot; replete with a zoo\, to engaging in 
 an enlightening technical session with Mr. Rayen Abed on &quot;BERT\,&quot; our day 
 was marked by knowledge sharing and exploration. During our lunch break\, 
 team-building activities forged new connections among the participants\, a
 dding a delightful touch to the event.&lt;/p&gt;\n&lt;p&gt;Chairwoman Rama Hemri illum
 inated us about the invaluable benefits of IEEE membership\, while Dr. Abd
 elmajid Mselmi&#39;s discourse on AI in medicine left a lasting impression. Th
 e day&#39;s festivities included a thrilling photo and video contest and a cha
 llenging escape room experience that tested our mettle. We concluded the d
 ay by acknowledging the winning team and capturing a final group photograp
 h\, ensuring that the memories created would be cherished for years to com
 e. In retrospect\, our IEEE Day was a harmonious blend of learning\, camar
 aderie\, and unforgettable moments.&lt;/p&gt;\n&lt;/div&gt;\n&lt;/div&gt;\n&lt;/div&gt;
END:VEVENT
END:VCALENDAR

