BEGIN:VCALENDAR
VERSION:2.0
PRODID:IEEE vTools.Events//EN
CALSCALE:GREGORIAN
BEGIN:VTIMEZONE
TZID:Asia/Dhaka
BEGIN:DAYLIGHT
DTSTART:20380119T091407
TZOFFSETFROM:+0600
TZOFFSETTO:+0600
RRULE:FREQ=YEARLY;BYDAY=3TU;BYMONTH=1
TZNAME:+06
END:DAYLIGHT
BEGIN:STANDARD
DTSTART:20091231T230000
TZOFFSETFROM:+0700
TZOFFSETTO:+0600
RRULE:FREQ=YEARLY;BYDAY=-1TH;BYMONTH=12
TZNAME:+06
END:STANDARD
END:VTIMEZONE
BEGIN:VEVENT
DTSTAMP:20231020T153334Z
UID:099B440B-5732-4602-AD30-FBED433ADA1F
DTSTART;TZID=Asia/Dhaka:20231003T100000
DTEND;TZID=Asia/Dhaka:20231012T100000
DESCRIPTION:Join Us for the 𝐈𝐄𝐄𝐄 𝐃𝐚𝐲 𝟐𝟎𝟐𝟑 
 𝐂𝐞𝐥𝐞𝐛𝐫𝐚𝐭𝐢𝐨𝐧!\n\nDear 𝐈𝐄𝐄𝐄 
 𝐑𝐔𝐄𝐓 𝐒𝐭𝐮𝐝𝐞𝐧𝐭 𝐁𝐫𝐚𝐧𝐜𝐡 Mem
 bers and Friends\,\n\nGet ready to celebrate 𝐈𝐄𝐄𝐄 𝐃𝐚𝐲
  2023 in style on 𝐎𝐜𝐭𝐨𝐛𝐞𝐫 𝟑\, 𝟐𝟎𝟐𝟑\, w
 ith a day of fun\, charity\, and technical awareness! This invitation is b
 eing extended to you as a part of our 𝐈𝐄𝐄𝐄 𝐃𝐚𝐲 celebr
 ation\, which will include a variety of entertaining events.\n\n𝐄𝐯
 𝐞𝐧𝐭 𝐇𝐢𝐠𝐡𝐥𝐢𝐠𝐡𝐭𝐬:\n\n𝐓𝐫𝐞𝐞
  𝐏𝐥𝐚𝐧𝐭𝐚𝐭𝐢𝐨𝐧: Let&#39;s give to Mother Earth as w
 e begin the day. Come join us for a tree-planting campaign where we will p
 lant seedlings to help make the world greener.\n\n𝐂𝐚𝐤𝐞 𝐂
 𝐮𝐭𝐭𝐢𝐧𝐠: We&#39;ll get together for a beautiful cake-cutting 
 ceremony after our green efforts. It&#39;s the ideal opportunity to honor our 
 accomplishments and the IEEE spirit.\n\n𝐑𝐚𝐥𝐥𝐲 𝐂𝐞𝐥
 𝐞𝐛𝐫𝐚𝐭𝐢𝐨𝐧: We&#39;ll be taking to the streets with a li
 vely rally to raise awareness of the goals of IEEE and the use of technolo
 gy in our daily lives. Let&#39;s shout for innovation while sporting your IEEE
 -themed apparel!\n\n𝐒𝐜𝐡𝐨𝐨𝐥 𝐕𝐢𝐬𝐢𝐭: In orde
 r to demonstrate our dedication to technological equality\, we are arrangi
 ng a visit to a local school without access to technology. We will communi
 cate with the students\, share knowledge with them\, and give them educati
 onal resources in an effort to better their lives. The school visitation w
 ill take place on October 5\, 2023.\n\nCome take part in this meaningful c
 elebration\, meet other IEEE enthusiasts\, and have a great influence on o
 ur neighborhood!\n\n**𝐀𝐭𝐭𝐢𝐫𝐞: Please wear comfortable cl
 othing and shoes for the tree planting and rally.\nBring your enthusiasm\,
  smiles\, and a passion for technology!\n\nTogether\, let&#39;s celebrate 𝐈
 𝐄𝐄𝐄 𝐃𝐚𝐲\, building memories and significantly improving 
 the lives of people who do not have access to technology. We want to see y
 ou there\, so spread the news!\n\nRajshahi\, Rajshahi\, Rajshahi\, Banglad
 esh\, 6000
LOCATION:Rajshahi\, Rajshahi\, Rajshahi\, Bangladesh\, 6000
ORGANIZER:sb.ieeeruet@gmail.com
SEQUENCE:25
SUMMARY:Celebration of IEEE Day 2023
URL;VALUE=URI:https://events.vtools.ieee.org/m/379183
X-ALT-DESC:Description: &lt;br /&gt;&lt;div class=&quot;xdj266r x11i5rnm xat24cr x1mh8g0r
  x1vvkbs x126k92a&quot;&gt;\n&lt;div dir=&quot;auto&quot;&gt;Join Us for the 𝐈𝐄𝐄𝐄 𝐃
 𝐚𝐲 𝟐𝟎𝟐𝟑 𝐂𝐞𝐥𝐞𝐛𝐫𝐚𝐭𝐢𝐨𝐧!&lt;/d
 iv&gt;\n&lt;/div&gt;\n&lt;div class=&quot;x11i5rnm xat24cr x1mh8g0r x1vvkbs xtlvy1s x126k92
 a&quot;&gt;\n&lt;div dir=&quot;auto&quot;&gt;Dear 𝐈𝐄𝐄𝐄 𝐑𝐔𝐄𝐓 𝐒𝐭𝐮
 𝐝𝐞𝐧𝐭 𝐁𝐫𝐚𝐧𝐜𝐡 Members and Friends\,&lt;/div&gt;\n&lt;/d
 iv&gt;\n&lt;div class=&quot;x11i5rnm xat24cr x1mh8g0r x1vvkbs xtlvy1s x126k92a&quot;&gt;\n&lt;di
 v dir=&quot;auto&quot;&gt;Get ready to celebrate 𝐈𝐄𝐄𝐄 𝐃𝐚𝐲 2023 in 
 style on 𝐎𝐜𝐭𝐨𝐛𝐞𝐫 𝟑\, 𝟐𝟎𝟐𝟑\, with a day
  of fun\, charity\, and technical awareness! This invitation is being exte
 nded to you as a part of our 𝐈𝐄𝐄𝐄 𝐃𝐚𝐲 celebration\, w
 hich will include a variety of entertaining events.&lt;/div&gt;\n&lt;/div&gt;\n&lt;div cl
 ass=&quot;x11i5rnm xat24cr x1mh8g0r x1vvkbs xtlvy1s x126k92a&quot;&gt;\n&lt;div dir=&quot;auto&quot;
 &gt;𝐄𝐯𝐞𝐧𝐭 𝐇𝐢𝐠𝐡𝐥𝐢𝐠𝐡𝐭𝐬:&lt;/div&gt;\n&lt;/d
 iv&gt;\n&lt;div class=&quot;x11i5rnm xat24cr x1mh8g0r x1vvkbs xtlvy1s x126k92a&quot;&gt;\n&lt;di
 v dir=&quot;auto&quot;&gt;𝐓𝐫𝐞𝐞 𝐏𝐥𝐚𝐧𝐭𝐚𝐭𝐢𝐨𝐧: Le
 t&#39;s give to Mother Earth as we begin the day. Come join us for a tree-plan
 ting campaign where we will plant seedlings to help make the world greener
 .&lt;/div&gt;\n&lt;/div&gt;\n&lt;div class=&quot;x11i5rnm xat24cr x1mh8g0r x1vvkbs xtlvy1s x12
 6k92a&quot;&gt;\n&lt;div dir=&quot;auto&quot;&gt;𝐂𝐚𝐤𝐞 𝐂𝐮𝐭𝐭𝐢𝐧𝐠: We
 &#39;ll get together for a beautiful cake-cutting ceremony after our green eff
 orts. It&#39;s the ideal opportunity to honor our accomplishments and the IEEE
  spirit.&lt;/div&gt;\n&lt;/div&gt;\n&lt;div class=&quot;x11i5rnm xat24cr x1mh8g0r x1vvkbs xtlv
 y1s x126k92a&quot;&gt;\n&lt;div dir=&quot;auto&quot;&gt;𝐑𝐚𝐥𝐥𝐲 𝐂𝐞𝐥𝐞𝐛
 𝐫𝐚𝐭𝐢𝐨𝐧: We&#39;ll be taking to the streets with a lively ral
 ly to raise awareness of the goals of IEEE and the use of technology in ou
 r daily lives. Let&#39;s shout for innovation while sporting your IEEE-themed 
 apparel!&lt;/div&gt;\n&lt;/div&gt;\n&lt;div class=&quot;x11i5rnm xat24cr x1mh8g0r x1vvkbs xtlv
 y1s x126k92a&quot;&gt;\n&lt;div dir=&quot;auto&quot;&gt;𝐒𝐜𝐡𝐨𝐨𝐥 𝐕𝐢𝐬𝐢
 𝐭: In order to demonstrate our dedication to technological equality\, w
 e are arranging a visit to a local school without access to technology. We
  will communicate with the students\, share knowledge with them\, and give
  them educational resources in an effort to better their lives. The school
  visitation will take place on October 5\, 2023.&lt;/div&gt;\n&lt;/div&gt;\n&lt;div class
 =&quot;x11i5rnm xat24cr x1mh8g0r x1vvkbs xtlvy1s x126k92a&quot;&gt;\n&lt;div dir=&quot;auto&quot;&gt;Co
 me take part in this meaningful celebration\, meet other IEEE enthusiasts\
 , and have a great influence on our neighborhood!&lt;/div&gt;\n&lt;/div&gt;\n&lt;div clas
 s=&quot;x11i5rnm xat24cr x1mh8g0r x1vvkbs xtlvy1s x126k92a&quot;&gt;\n&lt;div dir=&quot;auto&quot;&gt;*
 *𝐀𝐭𝐭𝐢𝐫𝐞: Please wear comfortable clothing and shoes for 
 the tree planting and rally.&lt;/div&gt;\n&lt;div dir=&quot;auto&quot;&gt;Bring your enthusiasm\
 , smiles\, and a passion for technology!&lt;/div&gt;\n&lt;/div&gt;\n&lt;div class=&quot;x11i5r
 nm xat24cr x1mh8g0r x1vvkbs xtlvy1s x126k92a&quot;&gt;\n&lt;div dir=&quot;auto&quot;&gt;Together\,
  let&#39;s celebrate 𝐈𝐄𝐄𝐄 𝐃𝐚𝐲\, building memories and sig
 nificantly improving the lives of people who do not have access to technol
 ogy. We want to see you there\, so spread the news!&lt;/div&gt;\n&lt;/div&gt;
END:VEVENT
END:VCALENDAR

