BEGIN:VCALENDAR
VERSION:2.0
PRODID:IEEE vTools.Events//EN
CALSCALE:GREGORIAN
BEGIN:VTIMEZONE
TZID:America/Lima
BEGIN:DAYLIGHT
DTSTART:20380118T221407
TZOFFSETFROM:-0500
TZOFFSETTO:-0500
RRULE:FREQ=YEARLY;BYDAY=3MO;BYMONTH=1
TZNAME:-05
END:DAYLIGHT
BEGIN:STANDARD
DTSTART:19940331T230000
TZOFFSETFROM:-0400
TZOFFSETTO:-0500
RRULE:FREQ=YEARLY;BYDAY=-1TH;BYMONTH=3
TZNAME:-05
END:STANDARD
END:VTIMEZONE
BEGIN:VEVENT
DTSTAMP:20231117T023651Z
UID:5AA1A73A-6BD7-4038-8EC8-6C8F233CED65
DTSTART;TZID=America/Lima:20231016T080000
DTEND;TZID=America/Lima:20231016T210000
DESCRIPTION:El Día del IEEE es una celebración anual que se lleva a cabo 
 en todo el mundo para conmemorar el aniversario de la fundación del Insti
 tuto de Ingenieros Eléctricos y Electrónicos (IEEE) en 1884. Durante est
 e día\, los miembros del IEEE y otros profesionales e interesados en el c
 ampo de la ingeniería eléctrica y electrónica se reúnen para celebrar 
 con eventos y actividades especiales.\n\nLima\, Lima\, Peru
LOCATION:Lima\, Lima\, Peru
ORGANIZER:ieee.re@urp.edu.pe
SEQUENCE:12
SUMMARY:IEEE DAY STUDENT
URL;VALUE=URI:https://events.vtools.ieee.org/m/379189
X-ALT-DESC:Description: &lt;br /&gt;&lt;p&gt;&lt;span style=&quot;vertical-align: inherit\;&quot;&gt;&lt;s
 pan style=&quot;vertical-align: inherit\;&quot;&gt;El D&amp;iacute\;a del IEEE es una celeb
 raci&amp;oacute\;n anual que se lleva a cabo en todo el mundo para conmemorar 
 el aniversario de la fundaci&amp;oacute\;n del Instituto de Ingenieros El&amp;eacu
 te\;ctricos y Electr&amp;oacute\;nicos (IEEE) en 1884. Durante este d&amp;iacute\;
 a\, los miembros del IEEE y otros profesionales e interesados en el campo 
 de la ingenier&amp;iacute\;a el&amp;eacute\;ctrica y electr&amp;oacute\;nica se re&amp;uac
 ute\;nen para celebrar con eventos y actividades especiales.&lt;/span&gt;&lt;/span&gt;
 &lt;/p&gt;
END:VEVENT
END:VCALENDAR

