BEGIN:VCALENDAR
VERSION:2.0
PRODID:IEEE vTools.Events//EN
CALSCALE:GREGORIAN
BEGIN:VTIMEZONE
TZID:Asia/Kolkata
BEGIN:STANDARD
DTSTART:19451014T230000
TZOFFSETFROM:+0630
TZOFFSETTO:+0530
TZNAME:IST
END:STANDARD
END:VTIMEZONE
BEGIN:VEVENT
DTSTAMP:20231029T125506Z
UID:63484CC7-57D3-4F03-8E04-18E515121AEA
DTSTART;TZID=Asia/Kolkata:20231021T113000
DTEND;TZID=Asia/Kolkata:20231021T123000
DESCRIPTION:Dual-function Radar Communication (DFRC) systems integrate Rada
 r and Communication systems using the same hardware. We consider a Multipl
 e-Input Multiple- Output (MIMO) DFRC system based on Orthogonal Frequency 
 Division Multiplexing (OFDM) and present the existing Fourier-based method
 s to estimate the direction\, range and velocity of the targets. First\, w
 e propose a new waveform which improves the performance of the Fourier met
 hod. Next\, we design a waveform to enable a subspace framework to estimat
 e the range and velocity of the target. Simulation results show that the p
 roposed approaches improve the performance of the system. We then present 
 results for the modified Cramer-Rao bound for the above system.\n\nSpeaker
 (s): Prof. KVS Hari\, \n\nBldg: Indian Institute of Technology Delhi\, Roo
 m No.105 Bharti School of Telecommuntion Technology\, Delhi\, Delhi\, Indi
 a\, Virtual: https://events.vtools.ieee.org/m/379480
LOCATION:Bldg: Indian Institute of Technology Delhi\, Room No.105 Bharti Sc
 hool of Telecommuntion Technology\, Delhi\, Delhi\, India\, Virtual: https
 ://events.vtools.ieee.org/m/379480
ORGANIZER:monika.aggarwal@care.iitd.ac.in
SEQUENCE:16
SUMMARY:Improving parameter estimation of target parameters in a MIMO-OFDM 
 Dual Function Radar Communication (DFRC) system
URL;VALUE=URI:https://events.vtools.ieee.org/m/379480
X-ALT-DESC:Description: &lt;br /&gt;&lt;p&gt;Dual-function Radar Communication (DFRC) s
 ystems integrate Radar and Communication systems using the same hardware. 
 We consider a Multiple-Input Multiple- Output (MIMO) DFRC system based on 
 Orthogonal Frequency Division Multiplexing (OFDM) and present the existing
  Fourier-based methods to estimate the direction\, range and velocity of t
 he targets. First\, we propose&amp;nbsp\;a new&amp;nbsp\;waveform&amp;nbsp\;which impr
 oves the performance of the Fourier method. Next\, we&amp;nbsp\;design&amp;nbsp\;a
 &amp;nbsp\;waveform&amp;nbsp\;to enable a subspace framework to estimate the range
  and velocity of the target.&amp;nbsp\;Simulation results show that the propos
 ed approaches improve the performance of the system. We then present resul
 ts for the modified Cramer-Rao bound for the above system.&lt;/p&gt;
END:VEVENT
END:VCALENDAR

