BEGIN:VCALENDAR
VERSION:2.0
PRODID:IEEE vTools.Events//EN
CALSCALE:GREGORIAN
BEGIN:VTIMEZONE
TZID:America/New_York
BEGIN:DAYLIGHT
DTSTART:20240310T030000
TZOFFSETFROM:-0500
TZOFFSETTO:-0400
RRULE:FREQ=YEARLY;BYDAY=2SU;BYMONTH=3
TZNAME:EDT
END:DAYLIGHT
BEGIN:STANDARD
DTSTART:20231105T010000
TZOFFSETFROM:-0400
TZOFFSETTO:-0500
RRULE:FREQ=YEARLY;BYDAY=1SU;BYMONTH=11
TZNAME:EST
END:STANDARD
END:VTIMEZONE
BEGIN:VEVENT
DTSTAMP:20231110T173610Z
UID:DFC0AB43-76DB-4AFF-9B55-176B82F95767
DTSTART;TZID=America/New_York:20231109T183000
DTEND;TZID=America/New_York:20231109T220000
DESCRIPTION:Social Dinner to continue the fun and fellowship following the 
 &quot;Happy Hour at Trackside&quot; Section event.\n\nhttps://events.vtools.ieee.org
 /m/380110\n\nLocation to be determined during the Happy Hour Event which w
 ill be at Trackside Grill and Bar 50 Crystal St. East Stroudsburg PA www.t
 racksidestationgrill.com\n\nPlease register for both if attending both.\n\
 nThe dinner is not a paid for event by the IEEE. It is individual personal
  responsibility.\n\nTo be determined at Happy Hour Event\, East Stroudsbur
 g\, Pennsylvania\, United States
LOCATION:To be determined at Happy Hour Event\, East Stroudsburg\, Pennsylv
 ania\, United States
ORGANIZER:richardjessopieee@gmail.com
SEQUENCE:6
SUMMARY:Social Dinner - Meet and Greet
URL;VALUE=URI:https://events.vtools.ieee.org/m/380112
X-ALT-DESC:Description: &lt;br /&gt;&lt;p&gt;Social Dinner to continue the fun and fell
 owship following the &quot;Happy Hour at Trackside&quot; Section event.&amp;nbsp\;&lt;/p&gt;\n
 &lt;p&gt;&lt;a href=&quot;https://events.vtools.ieee.org/m/380110&quot;&gt;https://events.vtools
 .ieee.org/m/380110&lt;/a&gt;&lt;/p&gt;\n&lt;p&gt;Location to be determined during the Happy 
 Hour Event which will be at Trackside Grill and Bar&amp;nbsp\; 50 Crystal St. 
 East Stroudsburg PA www.tracksidestationgrill.com&lt;/p&gt;\n&lt;p&gt;Please register 
 for both if attending both.&amp;nbsp\;&lt;/p&gt;\n&lt;p&gt;The dinner is not a paid for ev
 ent by the IEEE. It is individual personal responsibility.&amp;nbsp\;&amp;nbsp\;&lt;/
 p&gt;
END:VEVENT
END:VCALENDAR

