BEGIN:VCALENDAR
VERSION:2.0
PRODID:IEEE vTools.Events//EN
CALSCALE:GREGORIAN
BEGIN:VEVENT
DTSTAMP:20231108T202012Z
UID:D6231490-0D21-4232-BE46-3171E3A0A1E0
DTSTART;TZID=Etc/UTC:20231022T200000
DTEND;TZID=Etc/UTC:20231022T220000
DESCRIPTION:Nadia Geekeuz\, a mobile app engineer\, recently gave a helpful
  online talk on how to succeed in hackathons using Google Meet. She explai
 ned the importance of picking the right teammates and how to divide tasks 
 based on each person&#39;s strengths. She also talked about dealing with stres
 s and how to use it as motivation. Nadia discussed the value of creative p
 roblem-solving and a teamwork method called Scrum. Good communication with
 in a team\, she said\, is crucial for success. After her presentation\, sh
 e generously offered a one-hour free Q&amp;A session\, allowing attendees to a
 sk any questions they had. This additional opportunity for interaction and
  clarification made her session even more valuable to those who attended.\
 n\nSpeaker(s): Nadia\n\nVirtual: https://events.vtools.ieee.org/m/380573
LOCATION:Virtual: https://events.vtools.ieee.org/m/380573
ORGANIZER:ieeeisetrades@gmail.com
SEQUENCE:7
SUMMARY:Success Strategies Preparing for Hackathons Session
URL;VALUE=URI:https://events.vtools.ieee.org/m/380573
X-ALT-DESC:Description: &lt;br /&gt;&lt;p&gt;Nadia Geekeuz\, a mobile app engineer\, re
 cently gave a helpful online talk on how to succeed in hackathons using Go
 ogle Meet. She explained the importance of picking the right teammates and
  how to divide tasks based on each person&#39;s strengths. She also talked abo
 ut dealing with stress and how to use it as motivation. Nadia discussed th
 e value of creative problem-solving and a teamwork method called Scrum. Go
 od communication within a team\, she said\, is crucial for success. After 
 her presentation\, she generously offered a one-hour free Q&amp;amp\;A session
 \, allowing attendees to ask any questions they had. This additional oppor
 tunity for interaction and clarification made her session even more valuab
 le to those who attended.&lt;/p&gt;
END:VEVENT
END:VCALENDAR

