BEGIN:VCALENDAR
VERSION:2.0
PRODID:IEEE vTools.Events//EN
CALSCALE:GREGORIAN
BEGIN:VTIMEZONE
TZID:America/Chicago
BEGIN:DAYLIGHT
DTSTART:20240310T030000
TZOFFSETFROM:-0600
TZOFFSETTO:-0500
RRULE:FREQ=YEARLY;BYDAY=2SU;BYMONTH=3
TZNAME:CDT
END:DAYLIGHT
BEGIN:STANDARD
DTSTART:20231105T010000
TZOFFSETFROM:-0500
TZOFFSETTO:-0600
RRULE:FREQ=YEARLY;BYDAY=1SU;BYMONTH=11
TZNAME:CST
END:STANDARD
END:VTIMEZONE
BEGIN:VEVENT
DTSTAMP:20231117T191623Z
UID:EA0AED49-0AC0-472F-A535-DE14C8F7612F
DTSTART;TZID=America/Chicago:20231116T111500
DTEND;TZID=America/Chicago:20231116T133000
DESCRIPTION:Life Members\n\nIt&#39;s that time of year again! Have lunch on us 
 at County Line on the Hill. Renew old friendships and acquintances\, and m
 ake new ones.\n\nAgenda: \nEnjoy a meal on us. Talk about &quot;old times&quot; and 
 make new friends among your Life Member colleagues in the Central Texas Se
 ction.\n\nThis event is by invitation from the host.\n\nEach invitee may b
 ring one guest. Use the &quot;Add Another Guest&quot; button near the bottom of the 
 registration page. Registration is limited. You must register to attend.\n
 \nThe restaurant opens at 11:30am. Most of us must be present before any o
 f us will be seated. Please come on time!\n\n6500 West Bee Cave Road\, Aus
 tin\, Texas\, United States\, 78742
LOCATION:6500 West Bee Cave Road\, Austin\, Texas\, United States\, 78742
ORGANIZER:bill.martino@ieee.org
SEQUENCE:70
SUMMARY:IEEE Central Texas Section Life Member Affinity Group Annual Lunche
 on
URL;VALUE=URI:https://events.vtools.ieee.org/m/381105
X-ALT-DESC:Description: &lt;br /&gt;&lt;center&gt;&lt;span style=&quot;font-family: verdana\, g
 eneva\, sans-serif\; font-size: 36pt\; color: #236fa1\;&quot;&gt;&lt;strong&gt;Life Memb
 ers&lt;/strong&gt;&lt;/span&gt;&lt;/center&gt;\n&lt;p&gt;&amp;nbsp\;&lt;/p&gt;\n&lt;p&gt;&lt;span style=&quot;font-family:
  verdana\, geneva\, sans-serif\; font-size: 36pt\; color: #236fa1\;&quot;&gt;It&#39;s 
 that time of year again!&amp;nbsp\; Have lunch on us at &lt;em&gt;County Line on the
  Hill.&lt;/em&gt;&amp;nbsp\; Renew old friendships and acquintances\, and make new o
 nes.&lt;/span&gt;&lt;/p&gt;&lt;br /&gt;&lt;br /&gt;Agenda: &lt;br /&gt;&lt;p&gt;Enjoy a meal on us.&amp;nbsp\; Tal
 k about &quot;old times&quot; and make new friends among your Life Member colleagues
  in the Central Texas Section.&lt;/p&gt;\n&lt;p&gt;This event is by invitation from th
 e host.&lt;/p&gt;\n&lt;p&gt;Each invitee may bring one guest.&amp;nbsp\; Use the &quot;Add Anot
 her Guest&quot; button near the bottom of the registration page.&amp;nbsp\; Registr
 ation is limited.&amp;nbsp\; You must register to attend.&lt;/p&gt;\n&lt;p&gt;The restaura
 nt opens at 11:30am.&amp;nbsp\; Most of us must be present before any of us wi
 ll be seated.&amp;nbsp\; Please come on time!&lt;/p&gt;
END:VEVENT
END:VCALENDAR

