BEGIN:VCALENDAR
VERSION:2.0
PRODID:IEEE vTools.Events//EN
CALSCALE:GREGORIAN
BEGIN:VTIMEZONE
TZID:America/Chicago
BEGIN:DAYLIGHT
DTSTART:20240310T030000
TZOFFSETFROM:-0600
TZOFFSETTO:-0500
RRULE:FREQ=YEARLY;BYDAY=2SU;BYMONTH=3
TZNAME:CDT
END:DAYLIGHT
BEGIN:STANDARD
DTSTART:20231105T010000
TZOFFSETFROM:-0500
TZOFFSETTO:-0600
RRULE:FREQ=YEARLY;BYDAY=1SU;BYMONTH=11
TZNAME:CST
END:STANDARD
END:VTIMEZONE
BEGIN:VEVENT
DTSTAMP:20231117T221045Z
UID:7B8E1F5D-F425-40C6-BE22-06B164544A9A
DTSTART;TZID=America/Chicago:20231116T180000
DTEND;TZID=America/Chicago:20231116T190000
DESCRIPTION:The Raspberry Pi Foundation has produced a new microcontroller 
 that is becoming a popoular addition to the embedded controller market. At
  a single unit price of $4 for the basic unit and $6 for a unit with WiFi 
 and Bluetooth\, the Raspberry Pi Pico is a cost-effective solution for the
  entrepreneur. In addition\, the Pico is fabricated as a castelated PC boa
 rd that can be surface mounted to custom printed circuit hardware for a fa
 st product start.\n\nRaspberry Pi Pico has been designed to be a low cost 
 yet flexible development platform for RP2040\, with the following key feat
 ures:\n\n• RP2040 dual-core ARM Cortex M0+ microcontroller with 2MB Flas
 h and 263kB RAM\n• Micro-USB B port for power and data (and for reprogra
 mming the Flash)\n• 40 pin 21×51 &#39;DIP&#39; style 1mm thick PCB with 0.1&quot; th
 rough-hole pins (also with edge castellations)\n◦ Can be surface mounted
  as a module\n◦ 23 GPIO are digital-only and 3 are ADC capable\n• 8 In
 depemndent powerfull I/O Co-Processors\n• 3-pin ARM Serial Wire Debug (S
 WD) port\n• Simple yet highly flexible power supply architecture\n◦ Va
 rious options for easily powering the unit from micro-USB\, external suppl
 ies or batteries\n• Comprehensive SDK\, software examples and documentat
 ion\n\nThe talk will cover the basics of the Raspberry Pi Pico architectur
 e and some of the novel features of the product. The talk will include dem
 onstrations of using the software development tools for Python and C/C++. 
 It will include the following:\n\n-\nPico Basics\n\n-\nPico PIO Processors
 \n\n-\nPowering the Pico\n\n-\nProgramming Options\n\n-\nPython with Thonn
 y IDE\n\n-\nPico C/C++ Software Development Kit\n\n-\nArduino IDE with Pic
 o Board\n\n-\nOther IDE (Microsoft Visual Studio)\n\n-\nPico SDK on Raspbe
 rry Pi\n\nPost Talk Links:\n\nA Google Drive Location for the Slide Set (P
 DF)\, some programs demoed and a reference list is here:\n\nhttps://drive.
 google.com/drive/folders/16vU-hOmM6RjciVQa8bRap5q9L9S_2OM-?usp=sharing\n\n
 The video record has been posted on IEEE.tv -- visit the link below for th
 e content:\n\nhttps://ieeetv.ieee.org/video/raspberry-pi-pico-hardware-and
 -software-overview\n\nCo-sponsored by: Southeastern Michigan Computer Soci
 ety Chapter\n\nSpeaker(s): Tom\, \n\nVirtual: https://events.vtools.ieee.o
 rg/m/381108
LOCATION:Virtual: https://events.vtools.ieee.org/m/381108
ORGANIZER:tjkaminski49@gmail.com
SEQUENCE:15
SUMMARY:Raspberry Pi Pico Hardware and Software Overview
URL;VALUE=URI:https://events.vtools.ieee.org/m/381108
X-ALT-DESC:Description: &lt;br /&gt;&lt;p&gt;The Raspberry Pi Foundation has produced a
  new microcontroller that is becoming a popoular addition to the embedded 
 controller market.&amp;nbsp\; At a single unit price of $4 for the basic unit 
 and $6 for a unit with WiFi and Bluetooth\, the Raspberry Pi Pico is a cos
 t-effective solution for the entrepreneur.&amp;nbsp\; In addition\, the Pico i
 s fabricated as a castelated PC board that can be surface mounted to custo
 m printed circuit hardware for a fast product start.&lt;/p&gt;\n&lt;div class=&quot;page
 &quot; title=&quot;Page 5&quot;&gt;\n&lt;div class=&quot;section&quot;&gt;\n&lt;div class=&quot;layoutArea&quot;&gt;\n&lt;div c
 lass=&quot;column&quot;&gt;\n&lt;p&gt;Raspberry Pi Pico has been designed to be a low cost ye
 t flexible development platform for RP2040\, with the following key featur
 es:&lt;/p&gt;\n&lt;p&gt;&amp;bull\; RP2040 &lt;strong&gt;dual-core ARM Cortex M0+ &lt;/strong&gt;micro
 controller with &lt;strong&gt;2MB Flash and 263kB RAM&lt;/strong&gt;&lt;br /&gt;&lt;span style=
 &quot;font-family: -apple-system\, BlinkMacSystemFont\, &#39;Segoe UI&#39;\, Roboto\, O
 xygen\, Ubuntu\, Cantarell\, &#39;Open Sans&#39;\, &#39;Helvetica Neue&#39;\, sans-serif\;
 &quot;&gt;&amp;bull\; Micro-USB B port for power and data (and for reprogramming the F
 lash)&lt;br /&gt;&lt;/span&gt;&lt;span style=&quot;font-family: -apple-system\, BlinkMacSystem
 Font\, &#39;Segoe UI&#39;\, Roboto\, Oxygen\, Ubuntu\, Cantarell\, &#39;Open Sans&#39;\, &#39;
 Helvetica Neue&#39;\, sans-serif\;&quot;&gt;&amp;bull\; 40 pin 21&amp;times\;51 &#39;DIP&#39; style 1m
 m thick PCB with &lt;/span&gt;&lt;span style=&quot;font-family: -apple-system\, BlinkMac
 SystemFont\, &#39;Segoe UI&#39;\, Roboto\, Oxygen\, Ubuntu\, Cantarell\, &#39;Open San
 s&#39;\, &#39;Helvetica Neue&#39;\, sans-serif\;&quot;&gt;0.1&quot; through-hole pins (&lt;strong&gt;also
  with edge castellations&lt;/strong&gt;&lt;/span&gt;&lt;span style=&quot;font-family: -apple-s
 ystem\, BlinkMacSystemFont\, &#39;Segoe UI&#39;\, Roboto\, Oxygen\, Ubuntu\, Canta
 rell\, &#39;Open Sans&#39;\, &#39;Helvetica Neue&#39;\, sans-serif\;&quot;&gt;&lt;strong&gt;)&lt;br /&gt;&lt;/str
 ong&gt;&lt;/span&gt;&lt;span style=&quot;font-family: -apple-system\, BlinkMacSystemFont\, 
 &#39;Segoe UI&#39;\, Roboto\, Oxygen\, Ubuntu\, Cantarell\, &#39;Open Sans&#39;\, &#39;Helveti
 ca Neue&#39;\, sans-serif\;&quot;&gt;◦ Can be surface mounted as a module&lt;br /&gt;&lt;/spa
 n&gt;◦ 23 GPIO are digital-only and 3 are ADC capable&lt;br /&gt;&amp;bull\; 8 Indepe
 mndent powerfull I/O Co-Processors&lt;br /&gt;&amp;bull\; 3-pin ARM Serial Wire Debu
 g (SWD) port&lt;br /&gt;&amp;bull\; Simple yet highly flexible power supply architec
 ture&lt;br /&gt;◦ Various options for easily &lt;strong&gt;powering the unit from mi
 cro-USB\, external supplies or batteries&lt;/strong&gt;&lt;br /&gt;&amp;bull\; &lt;strong&gt;Com
 prehensive SDK\, software examples and documentation&lt;/strong&gt;&lt;/p&gt;\n&lt;p&gt;The 
 talk will cover the basics of the Raspberry Pi Pico architecture and some 
 of the novel features of the product. The talk will include demonstrations
  of using the software development tools for Python and C/C++. It will inc
 lude the following:&lt;/p&gt;\n&lt;ul&gt;\n&lt;li&gt;\n&lt;p&gt;Pico Basics&lt;/p&gt;\n&lt;/li&gt;\n&lt;li&gt;\n&lt;p&gt;P
 ico PIO Processors&lt;/p&gt;\n&lt;/li&gt;\n&lt;li&gt;\n&lt;p&gt;Powering the Pico&lt;/p&gt;\n&lt;/li&gt;\n&lt;li&gt;
 \n&lt;p&gt;Programming Options&lt;/p&gt;\n&lt;ul&gt;\n&lt;li&gt;\n&lt;p&gt;Python with Thonny IDE&lt;/p&gt;\n&lt;
 /li&gt;\n&lt;li&gt;\n&lt;p&gt;Pico C/C++ Software Development Kit&lt;/p&gt;\n&lt;/li&gt;\n&lt;li&gt;\n&lt;p&gt;Ar
 duino IDE with Pico Board&lt;/p&gt;\n&lt;/li&gt;\n&lt;li&gt;\n&lt;p&gt;Other IDE (Microsoft Visual
  Studio)&lt;/p&gt;\n&lt;/li&gt;\n&lt;li&gt;\n&lt;p&gt;Pico SDK on Raspberry Pi&lt;/p&gt;\n&lt;/li&gt;\n&lt;/ul&gt;\n
 &lt;/li&gt;\n&lt;/ul&gt;\n&lt;p&gt;Post Talk Links:&amp;nbsp\;&amp;nbsp\;&lt;/p&gt;\n&lt;p&gt;A Google Drive Loc
 ation for the Slide Set (PDF)\, some programs demoed and a reference list 
 is here:&lt;/p&gt;\n&lt;p&gt;https://drive.google.com/drive/folders/16vU-hOmM6RjciVQa8
 bRap5q9L9S_2OM-?usp=sharing&lt;/p&gt;\n&lt;p&gt;The video record has been posted on IE
 EE.tv -- visit the link below for the content:&lt;/p&gt;\n&lt;p&gt;https://ieeetv.ieee
 .org/video/raspberry-pi-pico-hardware-and-software-overview&lt;/p&gt;\n&lt;p&gt;&amp;nbsp\
 ;&lt;/p&gt;\n&lt;/div&gt;\n&lt;/div&gt;\n&lt;/div&gt;\n&lt;/div&gt;
END:VEVENT
END:VCALENDAR

