BEGIN:VCALENDAR
VERSION:2.0
PRODID:IEEE vTools.Events//EN
CALSCALE:GREGORIAN
BEGIN:VTIMEZONE
TZID:America/New_York
BEGIN:DAYLIGHT
DTSTART:20240310T030000
TZOFFSETFROM:-0500
TZOFFSETTO:-0400
RRULE:FREQ=YEARLY;BYDAY=2SU;BYMONTH=3
TZNAME:EDT
END:DAYLIGHT
BEGIN:STANDARD
DTSTART:20231105T010000
TZOFFSETFROM:-0400
TZOFFSETTO:-0500
RRULE:FREQ=YEARLY;BYDAY=1SU;BYMONTH=11
TZNAME:EST
END:STANDARD
END:VTIMEZONE
BEGIN:VEVENT
DTSTAMP:20231205T015709Z
UID:A3AFBB58-852D-4BC0-B076-1C4646733B01
DTSTART;TZID=America/New_York:20231204T183000
DTEND;TZID=America/New_York:20231204T193000
DESCRIPTION:Large Language Models (LLM) such as ChatGPT possess knowledge n
 ot only about human languages but also computer languages. It is now possi
 ble to introduce programming basics through ChatGPT. This is a workshop ac
 tivity in which the participants are invited to join an interactive advent
 ure into the world of LLMs and learn how to code with ChatGPT as a copilot
 . In this interactive\, hands on session. the participants will take a gui
 ded tour to see live actions of generative Al tools such as ChatGPT in cod
 e generation and problem solving.\n\nIf participants have a second screen 
 and good internet access\, they can follow along and learn coding in their
  own OpenAI accounts. Otherwise\, they can watch the live interactive sess
 ion and contribute their own ideas about how to guide the AI to help with 
 coding.\n\nPython and other programming languages will be used\, although 
 no prior programming experience is required\n\nCo-sponsored by: ACM Baltim
 ore Chapter\n\nSpeaker(s): Chang Liu\, \n\nAgenda: \n6:30 PM Welcome and i
 ntroduction\n6:35 PM Presentation\n7:20 PM Q&amp;A\n7:30 PM Conclude\n\nVirtua
 l: https://events.vtools.ieee.org/m/382043
LOCATION:Virtual: https://events.vtools.ieee.org/m/382043
ORGANIZER:d.herres@ieee.org
SEQUENCE:30
SUMMARY:Learn to Code with ChatGPT
URL;VALUE=URI:https://events.vtools.ieee.org/m/382043
X-ALT-DESC:Description: &lt;br /&gt;&lt;p class=&quot;p1&quot;&gt;Large Language Models (LLM) suc
 h as ChatGPT possess knowledge not only about human languages but also com
 puter languages.&amp;nbsp\; It is now possible to introduce programming basics
  through ChatGPT.&amp;nbsp\; This is a workshop activity in which the particip
 ants are invited to join an interactive adventure into the world of LLMs a
 nd learn how to code with ChatGPT as a copilot.&amp;nbsp\; In this interactive
 \, hands on session. the participants will take a guided tour to see live 
 actions of generative Al tools such as ChatGPT in code generation and prob
 lem solving.&amp;nbsp\;&lt;/p&gt;\n&lt;p class=&quot;p1&quot;&gt;If participants have a second scree
 n and good internet access\, they can follow along and learn coding in the
 ir own OpenAI accounts. Otherwise\, they can watch the live interactive se
 ssion and contribute their own ideas about how to guide the AI to help wit
 h coding.&lt;/p&gt;\n&lt;p class=&quot;p1&quot;&gt;Python and other programming languages will b
 e used\, although no prior programming experience is required&lt;/p&gt;&lt;br /&gt;&lt;br
  /&gt;Agenda: &lt;br /&gt;&lt;p&gt;6:30 PM&amp;nbsp\; Welcome and introduction&lt;br /&gt;6:35 PM&amp;n
 bsp\; Presentation&lt;br /&gt;7:20 PM Q&amp;amp\;A&lt;br /&gt;7:30 PM Conclude&lt;/p&gt;
END:VEVENT
END:VCALENDAR

