BEGIN:VCALENDAR
VERSION:2.0
PRODID:IEEE vTools.Events//EN
CALSCALE:GREGORIAN
BEGIN:VTIMEZONE
TZID:America/Guatemala
BEGIN:STANDARD
DTSTART:20060930T230000
TZOFFSETFROM:-0500
TZOFFSETTO:-0600
TZNAME:CST
END:STANDARD
END:VTIMEZONE
BEGIN:VEVENT
DTSTAMP:20231105T132338Z
UID:F414DCA8-C787-4048-A1BE-881721FFFCA8
DTSTART;TZID=America/Guatemala:20231005T180000
DTEND;TZID=America/Guatemala:20231006T200000
DESCRIPTION:El Día IEEE en Nicaragua celebra el inicio de IEEE y tiene com
 o objetivo promover el aprendizaje\, el networking y la comunidad entre lo
 s miembros de IEEE Young Professionals y la Sección Nicaragua. Al finaliz
 ar el evento\, se espera que los participantes hayan conmemorado la histor
 ia del IEEE\, hayan adquirido nuevos conocimientos técnicos\, hayan estab
 lecido valiosas conexiones profesionales y se sientan inspirados para segu
 ir contribuyendo al avance de la tecnología y la ingeniería en su país 
 y el mundo.\n\nCo-sponsored by: Jesús porras\n\nAgenda: \nHora: 6:00 p.m.
  - 8:30 p.m.\n\n6:00 PM - 6:30 PM: Registro y Bienvenida Dé la bienvenida
  a los participantes y proporcione los materiales del evento.\n\n6:30 PM -
  7:00 PM: Ceremonia de Apertura Discurso inaugural para dar inicio a la ce
 lebración del Día IEEE\, enfatizando la importancia de la fecha y el pro
 pósito del evento.\n\n19:15 - 19:45: Actividad Técnica y Conmemorativa\n
 \n19:45 - 20:30: Clausura y Cena Discurso de clausura para resumir el even
 to y fomentar la reflexión sobre lo aprendido. La cena sigue a la ceremon
 ia de clausura.\n\nManagua\, Managua\, Managua\, Managua\, Nicaragua\, 110
 01
LOCATION:Managua\, Managua\, Managua\, Managua\, Nicaragua\, 11001
ORGANIZER:keyner18@ieee.org
SEQUENCE:37
SUMMARY:IEEE DAY 2023 WITH YOUNG PROFESSIONALS AND NICARAGUA SECTION
URL;VALUE=URI:https://events.vtools.ieee.org/m/382080
X-ALT-DESC:Description: &lt;br /&gt;&lt;p&gt;&lt;span style=&quot;vertical-align: inherit\;&quot;&gt;&lt;s
 pan style=&quot;vertical-align: inherit\;&quot;&gt;El D&amp;iacute\;a IEEE en Nicaragua cel
 ebra el inicio de IEEE y tiene como objetivo promover el aprendizaje\, el 
 networking y la comunidad entre los miembros de IEEE Young Professionals y
  la Secci&amp;oacute\;n Nicaragua. &lt;/span&gt;&lt;span style=&quot;vertical-align: inherit
 \;&quot;&gt;Al finalizar el evento\, se espera que los participantes hayan conmemo
 rado la historia del IEEE\, hayan adquirido nuevos conocimientos t&amp;eacute\
 ;cnicos\, hayan establecido valiosas conexiones profesionales y se sientan
  inspirados para seguir contribuyendo al avance de la tecnolog&amp;iacute\;a y
  la ingenier&amp;iacute\;a en su pa&amp;iacute\;s y el mundo.&lt;/span&gt;&lt;/span&gt;&lt;/p&gt;&lt;br
  /&gt;&lt;br /&gt;Agenda: &lt;br /&gt;&lt;p&gt;&lt;span style=&quot;vertical-align: inherit\;&quot;&gt;&lt;span st
 yle=&quot;vertical-align: inherit\;&quot;&gt;Hora: 6:00 p.m. - 8:30 p.m.&lt;/span&gt;&lt;/span&gt;&lt;
 /p&gt;\n&lt;p&gt;&lt;span style=&quot;vertical-align: inherit\;&quot;&gt;&lt;span style=&quot;vertical-alig
 n: inherit\;&quot;&gt;6:00 PM - 6:30 PM: Registro y Bienvenida D&amp;eacute\; la bienv
 enida a los participantes y proporcione los materiales del evento.&lt;/span&gt;&lt;
 /span&gt;&lt;/p&gt;\n&lt;p&gt;&lt;span style=&quot;vertical-align: inherit\;&quot;&gt;&lt;span style=&quot;vertic
 al-align: inherit\;&quot;&gt;6:30 PM - 7:00 PM: Ceremonia de Apertura Discurso ina
 ugural para dar inicio a la celebraci&amp;oacute\;n del D&amp;iacute\;a IEEE\, enf
 atizando la importancia de la fecha y el prop&amp;oacute\;sito del evento.&lt;/sp
 an&gt;&lt;/span&gt;&lt;/p&gt;\n&lt;p&gt;&lt;span style=&quot;vertical-align: inherit\;&quot;&gt;&lt;span style=&quot;ve
 rtical-align: inherit\;&quot;&gt;19:15 - 19:45: Actividad T&amp;eacute\;cnica y Conmem
 orativa&lt;/span&gt;&lt;/span&gt;&lt;/p&gt;\n&lt;p&gt;&lt;span style=&quot;vertical-align: inherit\;&quot;&gt;&lt;spa
 n style=&quot;vertical-align: inherit\;&quot;&gt;19:45 - 20:30: Clausura y Cena Discurs
 o de clausura para resumir el evento y fomentar la reflexi&amp;oacute\;n sobre
  lo aprendido. &lt;/span&gt;&lt;span style=&quot;vertical-align: inherit\;&quot;&gt;La cena sigu
 e a la ceremonia de clausura.&lt;/span&gt;&lt;/span&gt;&lt;/p&gt;
END:VEVENT
END:VCALENDAR

