BEGIN:VCALENDAR
VERSION:2.0
PRODID:IEEE vTools.Events//EN
CALSCALE:GREGORIAN
BEGIN:VTIMEZONE
TZID:Asia/Shanghai
BEGIN:STANDARD
DTSTART:19910915T010000
TZOFFSETFROM:+0900
TZOFFSETTO:+0800
TZNAME:CST
END:STANDARD
END:VTIMEZONE
BEGIN:VEVENT
DTSTAMP:20240315T061727Z
UID:51D04E76-3020-458B-A2A5-63AABD6B73F3
DTSTART;TZID=Asia/Shanghai:20231104T100000
DTEND;TZID=Asia/Shanghai:20231104T113000
DESCRIPTION:To develop high-performance power stages for Inverters and Conv
 erters\, innovative gate driving circuits are tailored for the optimal fun
 ctioning of power electronics.\n\n研教楼206\, Dalian University of Tech
 nology\, Dalian\, Liaoning\, China
LOCATION:研教楼206\, Dalian University of Technology\, Dalian\, Liaoning
 \, China
ORGANIZER:bing.ji@leicester.ac.uk
SEQUENCE:11
SUMMARY:INnovative power Switches for Intelligent\, High-performance Transp
 ort (INSIGHT)
URL;VALUE=URI:https://events.vtools.ieee.org/m/382083
X-ALT-DESC:Description: &lt;br /&gt;&lt;p&gt;To develop high-performance power stages f
 or Inverters and Converters\, innovative gate driving circuits are tailore
 d for the optimal functioning of power electronics.&amp;nbsp\;&lt;/p&gt;
END:VEVENT
END:VCALENDAR

