BEGIN:VCALENDAR
VERSION:2.0
PRODID:IEEE vTools.Events//EN
CALSCALE:GREGORIAN
BEGIN:VTIMEZONE
TZID:America/New_York
BEGIN:DAYLIGHT
DTSTART:20240310T030000
TZOFFSETFROM:-0500
TZOFFSETTO:-0400
RRULE:FREQ=YEARLY;BYDAY=2SU;BYMONTH=3
TZNAME:EDT
END:DAYLIGHT
BEGIN:STANDARD
DTSTART:20231105T010000
TZOFFSETFROM:-0400
TZOFFSETTO:-0500
RRULE:FREQ=YEARLY;BYDAY=1SU;BYMONTH=11
TZNAME:EST
END:STANDARD
END:VTIMEZONE
BEGIN:VEVENT
DTSTAMP:20231125T144951Z
UID:CE7AF553-94C1-470A-A0B5-B6906FA65687
DTSTART;TZID=America/New_York:20231124T120000
DTEND;TZID=America/New_York:20231124T130000
DESCRIPTION:Despite the increasing reliability of today&#39;s grid\, one moment
 ary power outage is all it takes to trigger a chain of events with catastr
 ophic consequences.\nJoin us for a presentation by Spectrum Power Systems 
 to discuss one of the most popular solutions to mitigating power outages\,
  Uninterruptible Power Supplies (UPS).\n\nZoom link: https://carleton-ca.z
 oom.us/j/98942491388\n\nVirtual: https://events.vtools.ieee.org/m/382287
LOCATION:Virtual: https://events.vtools.ieee.org/m/382287
ORGANIZER:n.javanbakht.1992@ieee.org
SEQUENCE:12
SUMMARY:Keeping the Lights On: Understanding Uninterruptible Power Supplies
URL;VALUE=URI:https://events.vtools.ieee.org/m/382287
X-ALT-DESC:Description: &lt;br /&gt;&lt;p class=&quot;p1&quot;&gt;&lt;span class=&quot;s1&quot;&gt;Despite the in
 creasing reliability of today&#39;s grid\, one momentary power outage is all i
 t takes to trigger a chain of events with catastrophic consequences.&lt;br /&gt;
 &lt;/span&gt;Join us for a presentation by Spectrum Power Systems to discuss one
  of the most popular solutions to mitigating power outages\, Uninterruptib
 le Power Supplies (UPS).&lt;br /&gt;&lt;br /&gt;Zoom link: &lt;a href=&quot;https://carleton-c
 a.zoom.us/j/98942491388&quot;&gt;https://carleton-ca.zoom.us/j/98942491388&lt;/a&gt;&lt;/p&gt;
END:VEVENT
END:VCALENDAR

