BEGIN:VCALENDAR
VERSION:2.0
PRODID:IEEE vTools.Events//EN
CALSCALE:GREGORIAN
BEGIN:VTIMEZONE
TZID:America/Argentina/Buenos_Aires
BEGIN:DAYLIGHT
DTSTART:20380119T001407
TZOFFSETFROM:-0300
TZOFFSETTO:-0300
RRULE:FREQ=YEARLY;BYDAY=3TU;BYMONTH=1
TZNAME:-03
END:DAYLIGHT
BEGIN:STANDARD
DTSTART:20090314T230000
TZOFFSETFROM:-0200
TZOFFSETTO:-0300
RRULE:FREQ=YEARLY;BYDAY=2SA;BYMONTH=3
TZNAME:-03
END:STANDARD
END:VTIMEZONE
BEGIN:VEVENT
DTSTAMP:20231123T120103Z
UID:26377E55-085D-4C57-BACC-9506D1F3927A
DTSTART;TZID=America/Argentina/Buenos_Aires:20231116T110000
DTEND;TZID=America/Argentina/Buenos_Aires:20231116T123000
DESCRIPTION:La actividad Desarrollo de habilidades en ciencia de datos y vi
 deojuegos consiste en un conversatorio en modalidad virtual que se llevar
 á a cabo en la segunda semana de noviembre de 2023\n\nse trata de una act
 ividad de encuentro para dialogar sobre la IA y la Ciencia de datos en el 
 desarrollo de videojuegos\n\nCon motivo de un correcto posicionamiento de 
 la situación regional se solicita a los asistentes y público general com
 pletar este Cuestionario de perfil de egreso :\nhttps://t.ly/FwD4s\n\nCo-s
 ponsored by: Games Technical Committee\, University Playa Ancha\n\nVirtual
 : https://events.vtools.ieee.org/m/382305
LOCATION:Virtual: https://events.vtools.ieee.org/m/382305
ORGANIZER:daniela_ldl@ieee.org
SEQUENCE:19
SUMMARY:Desarrollo de habilidades en Ciencia de Datos y Videojuegos
URL;VALUE=URI:https://events.vtools.ieee.org/m/382305
X-ALT-DESC:Description: &lt;br /&gt;&lt;p&gt;La actividad Desarrollo de habilidades en 
 ciencia de datos y videojuegos consiste en un conversatorio en modalidad v
 irtual que se llevar&amp;aacute\; a cabo en la segunda semana de noviembre de 
 2023&lt;/p&gt;\n&lt;p&gt;se trata de una actividad de encuentro para dialogar sobre la
  IA y la Ciencia de datos en el desarrollo de videojuegos&lt;/p&gt;\n&lt;p&gt;&amp;nbsp\;&lt;
 /p&gt;\n&lt;p&gt;Con motivo de un correcto posicionamiento de la situaci&amp;oacute\;n 
 regional se solicita a los asistentes y p&amp;uacute\;blico general completar 
 este &lt;span style=&quot;font-size: large\;&quot;&gt;Cuestionario de perfil de egreso :&lt;/
 span&gt;&lt;/p&gt;\n&lt;div&gt;&lt;strong&gt;&lt;a href=&quot;https://t.ly/FwD4s&quot; target=&quot;_blank&quot; rel=&quot;
 noopener&quot; data-saferedirecturl=&quot;https://www.google.com/url?q=https://t.ly/
 FwD4s&amp;amp\;source=gmail&amp;amp\;ust=1699912315058000&amp;amp\;usg=AOvVaw0u8Ahp1wx
 Bto_SAjktgyMg&quot;&gt;https://t.ly/FwD4s&lt;/a&gt;&lt;/strong&gt;&lt;/div&gt;
END:VEVENT
END:VCALENDAR

