BEGIN:VCALENDAR
VERSION:2.0
PRODID:IEEE vTools.Events//EN
CALSCALE:GREGORIAN
BEGIN:VTIMEZONE
TZID:America/Los_Angeles
BEGIN:DAYLIGHT
DTSTART:20240310T030000
TZOFFSETFROM:-0800
TZOFFSETTO:-0700
RRULE:FREQ=YEARLY;BYDAY=2SU;BYMONTH=3
TZNAME:PDT
END:DAYLIGHT
BEGIN:STANDARD
DTSTART:20231105T010000
TZOFFSETFROM:-0700
TZOFFSETTO:-0800
RRULE:FREQ=YEARLY;BYDAY=1SU;BYMONTH=11
TZNAME:PST
END:STANDARD
END:VTIMEZONE
BEGIN:VEVENT
DTSTAMP:20231113T151546Z
UID:6163794E-8897-42C8-9CBA-2C9C7A7D714A
DTSTART;TZID=America/Los_Angeles:20231109T093000
DTEND;TZID=America/Los_Angeles:20231109T143000
DESCRIPTION:IEEE Visit to the following company:\n\nhttps://www.westrock.co
 m/\n\nWestrock\, 104 E Riverside St\, Covington\, VA 24426\n\nWe have 10 s
 ets available. Bus leaves at 9:30am from WVU Tech on Thursday 9th Nov. If 
 you wish to commute yourself to Westrock\, then please arrive by 1130am. T
 he site is approx 20 mins from Lewisburg WV.\n\nYou can contact Logan Mark
 s at lm00030@mix.wvu.edu to arrange a meet point for pick up if you wish t
 o take the bus.\n\nWestrock offer Internships and potential careers for EE
 /CE/CS/ME/Civil Engineering Graduates.\n\nWestrock\, 104 E Riverside St\, 
 Covington\, Virginia\, United States\, 24426
LOCATION:Westrock\, 104 E Riverside St\, Covington\, Virginia\, United Stat
 es\, 24426
ORGANIZER:charan.litchfield@mail.wvu.edu
SEQUENCE:23
SUMMARY:IEEE Visit To Westrock\, Covington\, VA
URL;VALUE=URI:https://events.vtools.ieee.org/m/382408
X-ALT-DESC:Description: &lt;br /&gt;&lt;p&gt;IEEE Visit to the following company:&lt;/p&gt;\n
 &lt;p&gt;https://www.westrock.com/&lt;/p&gt;\n&lt;p&gt;Westrock\, 104 E Riverside St\, Covin
 gton\, VA 24426&lt;/p&gt;\n&lt;p&gt;We have 10 sets available.&amp;nbsp\; Bus leaves at 9:
 30am from WVU Tech on Thursday 9th Nov.&amp;nbsp\; If you wish to commute your
 self to Westrock\, then please arrive by 1130am.&amp;nbsp\; The site is approx
  20 mins from Lewisburg WV.&amp;nbsp\;&amp;nbsp\;&lt;/p&gt;\n&lt;p&gt;You can contact Logan Ma
 rks at lm00030@mix.wvu.edu to arrange a meet point for pick up if you wish
  to take the bus.&amp;nbsp\;&amp;nbsp\;&lt;/p&gt;\n&lt;p&gt;Westrock offer Internships and pot
 ential careers for EE/CE/CS/ME/Civil Engineering Graduates.&lt;/p&gt;
END:VEVENT
END:VCALENDAR

