BEGIN:VCALENDAR
VERSION:2.0
PRODID:IEEE vTools.Events//EN
CALSCALE:GREGORIAN
BEGIN:VTIMEZONE
TZID:Asia/Kolkata
BEGIN:STANDARD
DTSTART:19451014T230000
TZOFFSETFROM:+0630
TZOFFSETTO:+0530
TZNAME:IST
END:STANDARD
END:VTIMEZONE
BEGIN:VEVENT
DTSTAMP:20231106T161947Z
UID:623F7B54-A76F-47C2-8AC5-31514912A358
DTSTART;TZID=Asia/Kolkata:20230930T200000
DTEND;TZID=Asia/Kolkata:20230930T210000
DESCRIPTION:Mr. Jagadish Kumar initiated the webinar by emphasizing the sig
 nificance of research articles for students as an integral aspect of their
  academic journey. He also highlighted how having a published article can 
 significantly bolster one&#39;s applications for higher education opportunitie
 s in foreign countries.\n\nHe instructed us on the process of selecting a 
 research topic\, guiding us on how to effectively craft a literature surve
 y while also emphasizing the importance of identifying gaps in existing re
 search. When it came to the introduction\, he encouraged us to precisely a
 rticulate the research article&#39;s purpose\, elucidating the problem being a
 ddressed and its significance. Perhaps most crucially\, he provided valuab
 le insights on how to concisely elucidate our research methods and the tec
 hniques used for data collection.\n\nHe stressed the importance of enhanci
 ng the presentation of our findings by utilizing tables\, figures\, and ch
 arts effectively. Additionally\, he urged us to maintain consistency in ad
 hering to the designated citation style\, such as APA\, MLA\, or Chicago\,
  throughout our research article&#39;s reference section. Mr. Jagadish Kumar a
 lso emphasized the significance of using clear and straightforward languag
 e\, avoiding intricate jargon and convoluted sentences. Furthermore\, he a
 dvised us to meticulously proofread our articles to rectify any grammar\, 
 spelling\, or formatting errors. Lastly\, he guided us to carefully select
  a journal aligned with the scope of our research and to be ready for revi
 sions based on feedback from peer reviewers.\n\nSpeaker(s): Jagadish Kumar
 \, \n\nVirtual: https://events.vtools.ieee.org/m/382417
LOCATION:Virtual: https://events.vtools.ieee.org/m/382417
ORGANIZER:subhasundar2003@gmail.com
SEQUENCE:20
SUMMARY: Webinar on How to write Successful Research Article
URL;VALUE=URI:https://events.vtools.ieee.org/m/382417
X-ALT-DESC:Description: &lt;br /&gt;&lt;p&gt;Mr. Jagadish Kumar initiated the webinar b
 y emphasizing the significance of research articles for students as an int
 egral aspect of their academic journey. He also highlighted how having a p
 ublished article can significantly bolster one&#39;s applications for higher e
 ducation opportunities in foreign countries.&lt;/p&gt;\n&lt;p&gt;&amp;nbsp\;&lt;/p&gt;\n&lt;p&gt;He in
 structed us on the process of selecting a research topic\, guiding us on h
 ow to effectively craft a literature survey while also emphasizing the imp
 ortance of identifying gaps in existing research. When it came to the intr
 oduction\, he encouraged us to precisely articulate the research article&#39;s
  purpose\, elucidating the problem being addressed and its significance. P
 erhaps most crucially\, he provided valuable insights on how to concisely 
 elucidate our research methods and the techniques used for data collection
 .&lt;/p&gt;\n&lt;p&gt;&amp;nbsp\;&lt;/p&gt;\n&lt;p&gt;He stressed the importance of enhancing the pres
 entation of our findings by utilizing tables\, figures\, and charts effect
 ively. Additionally\, he urged us to maintain consistency in adhering to t
 he designated citation style\, such as APA\, MLA\, or Chicago\, throughout
  our research article&#39;s reference section. Mr. Jagadish Kumar also emphasi
 zed the significance of using clear and straightforward language\, avoidin
 g intricate jargon and convoluted sentences. Furthermore\, he advised us t
 o meticulously proofread our articles to rectify any grammar\, spelling\, 
 or formatting errors. Lastly\, he guided us to carefully select a journal 
 aligned with the scope of our research and to be ready for revisions based
  on feedback from peer reviewers.&lt;/p&gt;
END:VEVENT
END:VCALENDAR

