BEGIN:VCALENDAR
VERSION:2.0
PRODID:IEEE vTools.Events//EN
CALSCALE:GREGORIAN
BEGIN:VTIMEZONE
TZID:America/Los_Angeles
BEGIN:DAYLIGHT
DTSTART:20240310T030000
TZOFFSETFROM:-0800
TZOFFSETTO:-0700
RRULE:FREQ=YEARLY;BYDAY=2SU;BYMONTH=3
TZNAME:PDT
END:DAYLIGHT
BEGIN:STANDARD
DTSTART:20231105T010000
TZOFFSETFROM:-0700
TZOFFSETTO:-0800
RRULE:FREQ=YEARLY;BYDAY=1SU;BYMONTH=11
TZNAME:PST
END:STANDARD
END:VTIMEZONE
BEGIN:VEVENT
DTSTAMP:20231130T211933Z
UID:F3A9D9CD-85EE-4E78-B4B8-843E256D9A06
DTSTART;TZID=America/Los_Angeles:20231130T120000
DTEND;TZID=America/Los_Angeles:20231130T130000
DESCRIPTION:AP Cooperation schemes which tackle the cell-edge user problem\
 , are expected to be in the focus of Wi-Fi 8. Among them\, Coordinated Bea
 mforming (CoBF) is expected to play a key role\, mainly due to the minimal
  inter-AP synchronization and joint processing it requires. In this talk w
 e will analyze CoBF from the perspective of multi-user interference (MUI) 
 and show that the scheme currently envisioned in Wi-Fi 8 is broken! Specif
 ically\, we will show that (in contrast to DL MU-MIMO) when the number of 
 STA Rx antennas is larger than the number of streams\, the STA does not ha
 ve enough DoF to mitigate the MU interference and the scheme collapses. Af
 ter we identify this problem\, we will propose a new feedback concept whic
 h completely solves the problem\, leads to zero MUI\; while keeping the Wi
 -Fi feedback format and implying lower computational complexity! We will d
 emonstrate the ideas in this talk with a short MATLAB demo.\n\nSpeaker(s):
  Doron Ezri\n\nVirtual: https://events.vtools.ieee.org/m/382550
LOCATION:Virtual: https://events.vtools.ieee.org/m/382550
ORGANIZER:anewton@ieee.org
SEQUENCE:39
SUMMARY:Lunch &amp; Learn: Advanced (Zero MUI) AP Cooperation Precoding for Wi-
 Fi 8
URL;VALUE=URI:https://events.vtools.ieee.org/m/382550
X-ALT-DESC:Description: &lt;br /&gt;&lt;p&gt;AP Cooperation schemes which tackle the ce
 ll-edge user problem\, are expected to be in the focus of Wi-Fi 8. Among t
 hem\, Coordinated Beamforming (CoBF) is expected to play a key role\, main
 ly due to the minimal inter-AP synchronization and joint processing it req
 uires. In this talk we will analyze CoBF from the perspective of multi-use
 r interference (MUI) and show that the scheme currently envisioned in Wi-F
 i 8 is broken! Specifically\, we will show that (in contrast to DL MU-MIMO
 ) when the number of STA Rx antennas is larger than the number of streams\
 , the STA does not have enough DoF to mitigate the MU interference and the
  scheme collapses. After we identify this problem\, we will propose a new 
 feedback concept which completely solves the problem\, leads to zero MUI\;
  while keeping the Wi-Fi feedback format and implying lower computational 
 complexity! We will demonstrate the ideas in this talk with a short MATLAB
  demo.&lt;/p&gt;
END:VEVENT
END:VCALENDAR

