BEGIN:VCALENDAR
VERSION:2.0
PRODID:IEEE vTools.Events//EN
CALSCALE:GREGORIAN
BEGIN:VTIMEZONE
TZID:America/Lima
BEGIN:DAYLIGHT
DTSTART:20380118T221407
TZOFFSETFROM:-0500
TZOFFSETTO:-0500
RRULE:FREQ=YEARLY;BYDAY=3MO;BYMONTH=1
TZNAME:-05
END:DAYLIGHT
BEGIN:STANDARD
DTSTART:19940331T230000
TZOFFSETFROM:-0400
TZOFFSETTO:-0500
RRULE:FREQ=YEARLY;BYDAY=-1TH;BYMONTH=3
TZNAME:-05
END:STANDARD
END:VTIMEZONE
BEGIN:VEVENT
DTSTAMP:20231110T211556Z
UID:776EFEAC-69A7-444A-9C8A-8B5A60849375
DTSTART;TZID=America/Lima:20230902T090000
DTEND;TZID=America/Lima:20231021T110000
DESCRIPTION:🚀🌍 ¡Prepárate para una emocionante inmersión en el mun
 do de la Industria 4.0! 🌍🚀\n\nSumérgete en dos meses llenos de char
 las magistrales sobre la Industria 4.0\, Fabricación digital\, Robótica 
 y Electrónica\, Programación\, entre otros temas. Lleva tus habilidades 
 al límite en esta aventura única! 💻🚀🌎\n\n📅 Fecha de Inicio: 
 Sábado\, 02 de septiembre de 2023\n🕒 Hora: 9:00 am (GMT - 5)\n➡️ M
 odalidad: Híbrida (Presencial/Virtual)\n🎥 Plataforma: ZOOM\n📅 Fecha
  de Clausura: Sábado\, 21 de octubre de 2023 (9:00 am)\n➡️ Modalidad:
  Presencial\n📍 Lugar: Auditorio de la Municipalidad de Puerto Maldonado
  (Madre de Dios)\n\nSpeaker(s): Brigitte Pérez Ortiz\, Silvana Espinoza G
 omez\n\nAgenda: \nSesión 1\nTema: Introducción a la Industria 4.0\nFecha
 : Sábado\, 02 de setiembre de 2023\n\nSesión 2\nTema: Fabricación digit
 al\nFecha: Sábado\, 09 de setiembre de 2023\n\nSesión 3\nTema: Robótica
  y Electrónica\nFecha: Sábado\, 16 de setiembre de 2023\n\nSesión 4\nTe
 ma: Iniciación a la Programación y Desarrollo de Proyectos\nFecha: Sába
 do\, 23 de setiembre de 2023\n\nSesión 5\nTema: Proyectos Tecnológicos b
 asados en las ODS\nFecha: Sábado\, 30 de setiembre de 2023\n\nSesión 6\n
 Tema: Mentoría y Asesoramiento\nFecha: Sábado\, 07 de octubre de 2023\n\
 nSesión 7\nTema: Recursos en Línea y autodidactas\nFecha: Sábado\, 14 d
 e octubre de 2023\n\nSesión 8\nTema: Presentación de Proyectos y Cierre\
 nFecha: Sábado\, 21 de octubre de 2023\n\nPuerto Maldonado\, Madre de Dio
 s\, Peru\, Virtual: https://events.vtools.ieee.org/m/383383
LOCATION:Puerto Maldonado\, Madre de Dios\, Peru\, Virtual: https://events.
 vtools.ieee.org/m/383383
ORGANIZER:wie.peru@ieee.org
SEQUENCE:41
SUMMARY:IEEE WIE Peru - Programa de Capacitación en Tecnologías de la Ind
 ustria 4.0
URL;VALUE=URI:https://events.vtools.ieee.org/m/383383
X-ALT-DESC:Description: &lt;br /&gt;&lt;p&gt;🚀🌍 &amp;iexcl\;Prep&amp;aacute\;rate para un
 a emocionante inmersi&amp;oacute\;n en el mundo de la Industria 4.0! 🌍🚀&lt;
 /p&gt;\n&lt;p&gt;Sum&amp;eacute\;rgete en dos meses llenos de charlas magistrales sobre
  la Industria 4.0\, Fabricaci&amp;oacute\;n digital\, Rob&amp;oacute\;tica y Elect
 r&amp;oacute\;nica\, Programaci&amp;oacute\;n\, entre otros temas. Lleva tus habil
 idades al l&amp;iacute\;mite en esta aventura &amp;uacute\;nica! 💻🚀🌎&lt;/p&gt;\
 n&lt;p&gt;📅 Fecha de Inicio: S&amp;aacute\;bado\, 02 de septiembre de 2023&lt;br /&gt;
 🕒 Hora: 9:00 am (GMT - 5)&lt;br /&gt;➡️ Modalidad: H&amp;iacute\;brida (Prese
 ncial/Virtual)&lt;br /&gt;🎥 Plataforma: ZOOM&lt;br /&gt;📅 Fecha de Clausura: S&amp;a
 acute\;bado\, 21 de octubre de 2023 (9:00 am)&lt;br /&gt;➡️ Modalidad: Prese
 ncial&lt;br /&gt;📍 Lugar: Auditorio de la Municipalidad de Puerto Maldonado (
 Madre de Dios)&lt;/p&gt;&lt;br /&gt;&lt;br /&gt;Agenda: &lt;br /&gt;&lt;p&gt;&lt;strong&gt;Sesi&amp;oacute\;n 1&lt;/s
 trong&gt;&lt;br /&gt;Tema: Introducci&amp;oacute\;n a la Industria 4.0&lt;br /&gt;Fecha: S&amp;aa
 cute\;bado\, 02 de setiembre de 2023&lt;/p&gt;\n&lt;p&gt;&lt;strong&gt;Sesi&amp;oacute\;n 2&lt;/str
 ong&gt;&lt;br /&gt;Tema: Fabricaci&amp;oacute\;n digital&lt;br /&gt;Fecha: S&amp;aacute\;bado\, 0
 9 de setiembre de 2023&lt;/p&gt;\n&lt;p&gt;&lt;strong&gt;Sesi&amp;oacute\;n 3&lt;/strong&gt;&lt;br /&gt;Tema
 : Rob&amp;oacute\;tica y Electr&amp;oacute\;nica&lt;br /&gt;Fecha: S&amp;aacute\;bado\, 16 d
 e setiembre de 2023&lt;/p&gt;\n&lt;p&gt;&lt;strong&gt;Sesi&amp;oacute\;n 4&lt;/strong&gt;&lt;br /&gt;Tema: I
 niciaci&amp;oacute\;n a la Programaci&amp;oacute\;n y Desarrollo de Proyectos&lt;br /
 &gt;Fecha: S&amp;aacute\;bado\, 23 de setiembre de 2023&lt;/p&gt;\n&lt;p&gt;&lt;strong&gt;Sesi&amp;oacu
 te\;n 5&lt;/strong&gt;&lt;br /&gt;Tema: Proyectos Tecnol&amp;oacute\;gicos basados en las 
 ODS&lt;br /&gt;Fecha: S&amp;aacute\;bado\, 30 de setiembre de 2023&lt;/p&gt;\n&lt;p&gt;&lt;strong&gt;S
 esi&amp;oacute\;n 6&lt;/strong&gt;&lt;br /&gt;Tema: Mentor&amp;iacute\;a y Asesoramiento&lt;br /&gt;
 Fecha: S&amp;aacute\;bado\, 07 de octubre de 2023&lt;/p&gt;\n&lt;p&gt;&lt;strong&gt;Sesi&amp;oacute\
 ;n 7&lt;/strong&gt;&lt;br /&gt;Tema: Recursos en L&amp;iacute\;nea y autodidactas&lt;br /&gt;Fec
 ha: S&amp;aacute\;bado\, 14 de octubre de 2023&lt;/p&gt;\n&lt;p&gt;&lt;strong&gt;Sesi&amp;oacute\;n 
 8&lt;/strong&gt;&lt;br /&gt;Tema: Presentaci&amp;oacute\;n de Proyectos y Cierre&lt;br /&gt;Fech
 a: S&amp;aacute\;bado\, 21 de octubre de 2023&lt;/p&gt;
END:VEVENT
END:VCALENDAR

