BEGIN:VCALENDAR
VERSION:2.0
PRODID:IEEE vTools.Events//EN
CALSCALE:GREGORIAN
BEGIN:VTIMEZONE
TZID:Asia/Kolkata
BEGIN:STANDARD
DTSTART:19451014T230000
TZOFFSETFROM:+0630
TZOFFSETTO:+0530
TZNAME:IST
END:STANDARD
END:VTIMEZONE
BEGIN:VEVENT
DTSTAMP:20231112T063405Z
UID:D6E14998-6DB6-4CE0-934D-24F22115D3AC
DTSTART;TZID=Asia/Kolkata:20231003T200000
DTEND;TZID=Asia/Kolkata:20231003T203000
DESCRIPTION:&quot;Technology is best when it brings people together &quot;\n~ Matt Mu
 llenweg\n\nJoin IEEE CS SBC SNGCE in celebrating 🥳 the IEEE Day- &quot;Lever
 aging Technology for a Better Tomorrow&quot; ✨with our exciting quiz competit
 ion 🤩\n\n📅Date: 3rd Oct 2023\n🕗Time: 8 pm\n💻Mode: Online\n\n
 📍Register at: http://tiny.cc/ieeequiz\n📍Deadline for registration is
  3rd Oct 6 pm❗\n\nFor more queries\, please contact\nMerin:97783 08833\n
 Dona: 7034638408\n\nVirtual: https://events.vtools.ieee.org/m/383605
LOCATION:Virtual: https://events.vtools.ieee.org/m/383605
ORGANIZER:sng20d04@sngce.ac.in
SEQUENCE:11
SUMMARY:IEEE Day Quiz
URL;VALUE=URI:https://events.vtools.ieee.org/m/383605
X-ALT-DESC:Description: &lt;br /&gt;&lt;p&gt;&quot;Technology is best when it brings people 
 together &quot;&lt;br /&gt;&amp;nbsp\; &amp;nbsp\; &amp;nbsp\; &amp;nbsp\; &amp;nbsp\; &amp;nbsp\; &amp;nbsp\; &amp;n
 bsp\; &amp;nbsp\; &amp;nbsp\; &amp;nbsp\; &amp;nbsp\; &amp;nbsp\; &amp;nbsp\; &amp;nbsp\; &amp;nbsp\; ~ Ma
 tt Mullenweg&lt;/p&gt;\n&lt;p&gt;Join IEEE CS SBC SNGCE &amp;nbsp\;in celebrating 🥳 the
  IEEE Day- &quot;Leveraging Technology for a Better Tomorrow&quot; ✨with our excit
 ing quiz competition 🤩&lt;/p&gt;\n&lt;p&gt;📅Date: 3rd Oct 2023&lt;br /&gt;🕗Time: 8 
 pm&lt;br /&gt;💻Mode: Online&amp;nbsp\;&lt;/p&gt;\n&lt;p&gt;📍Register at: &lt;a href=&quot;http://t
 iny.cc/ieeequiz&quot;&gt;http://tiny.cc/ieeequiz&lt;/a&gt;&lt;br /&gt;📍Deadline for registr
 ation is 3rd Oct 6 pm❗&lt;/p&gt;\n&lt;p&gt;For more queries\, please contact&lt;br /&gt;Me
 rin:97783 08833&lt;br /&gt;Dona: 7034638408&lt;/p&gt;
END:VEVENT
END:VCALENDAR

