BEGIN:VCALENDAR
VERSION:2.0
PRODID:IEEE vTools.Events//EN
CALSCALE:GREGORIAN
BEGIN:VTIMEZONE
TZID:America/New_York
BEGIN:DAYLIGHT
DTSTART:20240310T030000
TZOFFSETFROM:-0500
TZOFFSETTO:-0400
RRULE:FREQ=YEARLY;BYDAY=2SU;BYMONTH=3
TZNAME:EDT
END:DAYLIGHT
BEGIN:STANDARD
DTSTART:20231105T010000
TZOFFSETFROM:-0400
TZOFFSETTO:-0500
RRULE:FREQ=YEARLY;BYDAY=1SU;BYMONTH=11
TZNAME:EST
END:STANDARD
END:VTIMEZONE
BEGIN:VEVENT
DTSTAMP:20231211T023427Z
UID:1C5DFEF0-2968-4817-A115-EE7898301C31
DTSTART;TZID=America/New_York:20231116T180000
DTEND;TZID=America/New_York:20231116T190000
DESCRIPTION:Three IEEE student members were awarded funds from the IEEE Ric
 hmond Section this past summer to attend the IEEE Magnetic Society&#39;s summe
 r school in Italy! Come join us to learn about their experiences and how y
 ou can apply for travel grants and more! Food will also be served!\n\nSpea
 ker(s): \, \, \n\nRoom: 104\, 601 West Main Street\, Richmond\, Virginia\,
  United States\, 23284\, Virtual: https://events.vtools.ieee.org/m/383828
LOCATION:Room: 104\, 601 West Main Street\, Richmond\, Virginia\, United St
 ates\, 23284\, Virtual: https://events.vtools.ieee.org/m/383828
ORGANIZER:cadeholmesanderson@gmail.com
SEQUENCE:22
SUMMARY:IEEE Magnetics Society and WIE Guest Speaker Event
URL;VALUE=URI:https://events.vtools.ieee.org/m/383828
X-ALT-DESC:Description: &lt;br /&gt;&lt;p&gt;Three IEEE student members were awarded fu
 nds from the IEEE Richmond Section this past summer to attend the IEEE Mag
 netic Society&#39;s summer school in Italy! Come join us to learn about their 
 experiences and how you can apply for travel grants and more! Food will al
 so be served!&lt;/p&gt;
END:VEVENT
END:VCALENDAR

